BEGIN:VCALENDAR
VERSION:2.0
PRODID:-//::Axenda cultural AELG:: - ECPv6.6.4.2//NONSGML v1.0//EN
CALSCALE:GREGORIAN
METHOD:PUBLISH
X-WR-CALNAME:::Axenda cultural AELG::
X-ORIGINAL-URL:https://axendacultural.aelg.gal
X-WR-CALDESC:Events for ::Axenda cultural AELG::
REFRESH-INTERVAL;VALUE=DURATION:PT1H
X-Robots-Tag:noindex
X-PUBLISHED-TTL:PT1H
BEGIN:VTIMEZONE
TZID:Asia/Krasnoyarsk
BEGIN:STANDARD
TZOFFSETFROM:+0700
TZOFFSETTO:+0700
TZNAME:+07
DTSTART:20260101T000000
END:STANDARD
END:VTIMEZONE
BEGIN:VEVENT
DTSTART;TZID=Asia/Krasnoyarsk:20260421T190000
DTEND;TZID=Asia/Krasnoyarsk:20260421T203000
DTSTAMP:20260421T013605
CREATED:20260417T111047Z
LAST-MODIFIED:20260417T111136Z
UID:117080-1776798000-1776803400@axendacultural.aelg.gal
SUMMARY:Presentación dos Cadernos de Gres\, en Compostela
DESCRIPTION:
URL:https://axendacultural.aelg.gal/event/presentacion-dos-cadernos-de-gres-en-compostela/
LOCATION:Secretaría Xeral da Lingua\, Secretaría Xeral de Política Lingüística da Xunta de Galicia\, Santiago de Compostela
CATEGORIES:Presentación de libros,Revistas
END:VEVENT
BEGIN:VEVENT
DTSTART;TZID=Asia/Krasnoyarsk:20260421T200000
DTEND;TZID=Asia/Krasnoyarsk:20260421T213000
DTSTAMP:20260421T013605
CREATED:20260419T125640Z
LAST-MODIFIED:20260419T125703Z
UID:117115-1776801600-1776807000@axendacultural.aelg.gal
SUMMARY:Presentación de Diarios (1938 e 1945)\, de Syra Alonso\, en Vigo
DESCRIPTION:
URL:https://axendacultural.aelg.gal/event/presentacion-de-diarios-1938-e-1945-de-syra-alonso-en-vigo/
LOCATION:Libraría Librouro\, Librouro\, Vigo
CATEGORIES:Biografías,Presentación de libros,Tradución
END:VEVENT
BEGIN:VEVENT
DTSTART;TZID=Asia/Krasnoyarsk:20260421T200000
DTEND;TZID=Asia/Krasnoyarsk:20260421T213000
DTSTAMP:20260421T013605
CREATED:20260420T133835Z
LAST-MODIFIED:20260420T133835Z
UID:117187-1776801600-1776807000@axendacultural.aelg.gal
SUMMARY:Presentación da Biblioteca 75 anos da Editorial Galaxia e homenaxe a María do Carme Kruckenberg\, en Vigo
DESCRIPTION:
URL:https://axendacultural.aelg.gal/event/presentacion-da-biblioteca-75-anos-da-editorial-galaxia-e-homenaxe-a-maria-do-carme-kruckenberg-en-vigo/
LOCATION:El Corte Inglés Vigo\, El Corte Inglés Vigo\, Vigo
CATEGORIES:Aniversarios,Homenaxes,Presentación de libros
END:VEVENT
END:VCALENDAR