BEGIN:VCALENDAR
VERSION:2.0
PRODID:-//::Axenda cultural AELG:: - ECPv6.6.4.2//NONSGML v1.0//EN
CALSCALE:GREGORIAN
METHOD:PUBLISH
X-WR-CALNAME:::Axenda cultural AELG::
X-ORIGINAL-URL:https://axendacultural.aelg.gal
X-WR-CALDESC:Events for ::Axenda cultural AELG::
REFRESH-INTERVAL;VALUE=DURATION:PT1H
X-Robots-Tag:noindex
X-PUBLISHED-TTL:PT1H
BEGIN:VTIMEZONE
TZID:Asia/Krasnoyarsk
BEGIN:STANDARD
TZOFFSETFROM:+0700
TZOFFSETTO:+0700
TZNAME:+07
DTSTART:20260101T000000
END:STANDARD
END:VTIMEZONE
BEGIN:VEVENT
DTSTART;TZID=Asia/Krasnoyarsk:20260423T123000
DTEND;TZID=Asia/Krasnoyarsk:20260426T200000
DTSTAMP:20260425T011738
CREATED:20260421T162123Z
LAST-MODIFIED:20260421T162327Z
UID:117358-1776947400-1777233600@axendacultural.aelg.gal
SUMMARY:Feira do Libro de Ferrol 2026
DESCRIPTION:
URL:https://axendacultural.aelg.gal/event/feira-do-libro-de-ferrol-2026/
LOCATION:Praza da Constitución\, Praza da Constitución\, Ferrol
CATEGORIES:Biografías,Coloquios,Feiras do Libro,Lectura,Narrativa,Presentación de libros
END:VEVENT
BEGIN:VEVENT
DTSTART;TZID=Asia/Krasnoyarsk:20260423T180000
DTEND;TZID=Asia/Krasnoyarsk:20260425T213000
DTSTAMP:20260425T011738
CREATED:20260420T190323Z
LAST-MODIFIED:20260420T190527Z
UID:117223-1776967200-1777152600@axendacultural.aelg.gal
SUMMARY:Ferrol: Festival de Poesía Salvaxe 2026
DESCRIPTION:
URL:https://axendacultural.aelg.gal/event/ferrol-festival-de-poesia-salvaxe-2026/
CATEGORIES:Música,Poesía,Recitais
END:VEVENT
BEGIN:VEVENT
DTSTART;TZID=Asia/Krasnoyarsk:20260425T113000
DTEND;TZID=Asia/Krasnoyarsk:20260425T193000
DTSTAMP:20260425T011738
CREATED:20260424T073123Z
LAST-MODIFIED:20260424T073343Z
UID:117443-1777116600-1777145400@axendacultural.aelg.gal
SUMMARY:I Xornadas da Mocidade Galega pola Memoria. A memoria fronte ao odio\, en Pontevedra
DESCRIPTION:
URL:https://axendacultural.aelg.gal/event/i-xornadas-da-mocidade-galega-pola-memoria-a-memoria-fronte-ao-odio-en-pontevedra/
LOCATION:Casa da Luz\, Casa da Luz\, Pontevedra
CATEGORIES:Encontros e Xornadas,Historia,Institucións,Mesas redondas,Sociedade,Xornalismo
END:VEVENT
BEGIN:VEVENT
DTSTART;TZID=Asia/Krasnoyarsk:20260425T120000
DTEND;TZID=Asia/Krasnoyarsk:20260425T133000
DTSTAMP:20260425T011738
CREATED:20260414T105506Z
LAST-MODIFIED:20260414T105639Z
UID:116824-1777118400-1777123800@axendacultural.aelg.gal
SUMMARY:Entrega do Premio Letras Galegas Vivas 2026 a Olga Novo\, en Barcelona
DESCRIPTION:
URL:https://axendacultural.aelg.gal/event/entrega-do-premio-letras-galegas-vivas-2026-a-olga-novo-en-barcelona/
LOCATION:Ateneu Roig\, Ateneu Roig\, Barcelona
CATEGORIES:Coloquios,Entrega de premios,Poesía
END:VEVENT
BEGIN:VEVENT
DTSTART;TZID=Asia/Krasnoyarsk:20260425T120000
DTEND;TZID=Asia/Krasnoyarsk:20260425T133000
DTSTAMP:20260425T011738
CREATED:20260420T185240Z
LAST-MODIFIED:20260420T185240Z
UID:117214-1777118400-1777123800@axendacultural.aelg.gal
SUMMARY:Presentación de Maios e desmaios\, de Ramón D. Veiga\, en Redondela
DESCRIPTION:
URL:https://axendacultural.aelg.gal/event/presentacion-de-maios-e-desmaios-de-ramon-d-veiga-en-redondela/
LOCATION:Libraría Rosalía e Compañía\, Libraría Rosalía e Compañía\, Redondela
CATEGORIES:Infantil e xuvenil,Narrativa,Presentación de libros
END:VEVENT
BEGIN:VEVENT
DTSTART;TZID=Asia/Krasnoyarsk:20260425T120000
DTEND;TZID=Asia/Krasnoyarsk:20260425T133000
DTSTAMP:20260425T011738
CREATED:20260421T115537Z
LAST-MODIFIED:20260421T115537Z
UID:117259-1777118400-1777123800@axendacultural.aelg.gal
SUMMARY:Actos do 25 de abril no Centenario do Día do Libro Vigo 2026
DESCRIPTION:
URL:https://axendacultural.aelg.gal/event/actos-do-25-de-abril-no-centenario-do-dia-do-libro-vigo-2026/
LOCATION:Casa Galega da Cultura\, Casa Galega da Cultura\, Vigo
CATEGORIES:Coloquios,Poesía
END:VEVENT
BEGIN:VEVENT
DTSTART;TZID=Asia/Krasnoyarsk:20260425T120000
DTEND;TZID=Asia/Krasnoyarsk:20260425T140000
DTSTAMP:20260425T011738
CREATED:20260424T122828Z
LAST-MODIFIED:20260424T122851Z
UID:117473-1777118400-1777125600@axendacultural.aelg.gal
SUMMARY:Lectura de textos de Syra Alonso\, na Coruña
DESCRIPTION:
URL:https://axendacultural.aelg.gal/event/lectura-de-textos-de-syra-alonso-na-coruna/
LOCATION:A Tobeira de Oza\, A Tobeira de Oza\, A Coruña
CATEGORIES:Biografías,Lectura
END:VEVENT
END:VCALENDAR