BEGIN:VCALENDAR
VERSION:2.0
PRODID:-//::Axenda cultural AELG:: - ECPv6.6.4.2//NONSGML v1.0//EN
CALSCALE:GREGORIAN
METHOD:PUBLISH
X-WR-CALNAME:::Axenda cultural AELG::
X-ORIGINAL-URL:https://axendacultural.aelg.gal
X-WR-CALDESC:Events for ::Axenda cultural AELG::
REFRESH-INTERVAL;VALUE=DURATION:PT1H
X-Robots-Tag:noindex
X-PUBLISHED-TTL:PT1H
BEGIN:VTIMEZONE
TZID:Asia/Krasnoyarsk
BEGIN:STANDARD
TZOFFSETFROM:+0700
TZOFFSETTO:+0700
TZNAME:+07
DTSTART:20250101T000000
END:STANDARD
END:VTIMEZONE
BEGIN:VEVENT
DTSTART;TZID=Asia/Krasnoyarsk:20251219T191900
DTEND;TZID=Asia/Krasnoyarsk:20251219T210000
DTSTAMP:20260420T122312
CREATED:20251213T141400Z
LAST-MODIFIED:20251230T141626Z
UID:112713-1766171940-1766178000@axendacultural.aelg.gal
SUMMARY:Velada literaria con Roberto Traba e Modesto Fraga\, en Fisterra
DESCRIPTION:
URL:https://axendacultural.aelg.gal/event/velada-literaria-con-roberto-traba-e-modesto-fraga-en-fisterra/
LOCATION:A Galería Bibliotaberna\, A Galería Bibliotaberna\, Fisterra
CATEGORIES:Coloquios,Poesía,Presentación de libros,Recitais
END:VEVENT
BEGIN:VEVENT
DTSTART;TZID=Asia/Krasnoyarsk:20251219T200000
DTEND;TZID=Asia/Krasnoyarsk:20251219T210000
DTSTAMP:20260420T122312
CREATED:20251214T172038Z
LAST-MODIFIED:20251214T172038Z
UID:112374-1766174400-1766178000@axendacultural.aelg.gal
SUMMARY:Presentación de Inventaria\, de Emma Pedreira\, na Coruña
DESCRIPTION:
URL:https://axendacultural.aelg.gal/event/presentacion-de-inventaria-de-emma-pedreira-na-coruna/
LOCATION:Amigos dos Museos de Galicia – Portas Ártabras\, Amigos dos Museos de Galicia - Portas Ártabras\, A Coruña
CATEGORIES:Coloquios,Poesía,Presentación de libros
END:VEVENT
BEGIN:VEVENT
DTSTART;TZID=Asia/Krasnoyarsk:20251219T200000
DTEND;TZID=Asia/Krasnoyarsk:20251219T213000
DTSTAMP:20260420T122312
CREATED:20251214T161442Z
LAST-MODIFIED:20251214T161608Z
UID:112306-1766174400-1766179800@axendacultural.aelg.gal
SUMMARY:De amor e mar\, con Diana Varela Puñal\, en Lugo
DESCRIPTION:
URL:https://axendacultural.aelg.gal/event/de-amor-e-mar-con-diana-varela-punal-en-lugo/
CATEGORIES:Coloquios,Poesía,Teatro
END:VEVENT
END:VCALENDAR