BEGIN:VCALENDAR
VERSION:2.0
PRODID:-//::Axenda cultural AELG:: - ECPv6.6.4.2//NONSGML v1.0//EN
CALSCALE:GREGORIAN
METHOD:PUBLISH
X-WR-CALNAME:::Axenda cultural AELG::
X-ORIGINAL-URL:https://axendacultural.aelg.gal
X-WR-CALDESC:Events for ::Axenda cultural AELG::
REFRESH-INTERVAL;VALUE=DURATION:PT1H
X-Robots-Tag:noindex
X-PUBLISHED-TTL:PT1H
BEGIN:VTIMEZONE
TZID:Asia/Krasnoyarsk
BEGIN:STANDARD
TZOFFSETFROM:+0700
TZOFFSETTO:+0700
TZNAME:+07
DTSTART:20260101T000000
END:STANDARD
END:VTIMEZONE
BEGIN:VEVENT
DTSTART;TZID=Asia/Krasnoyarsk:20260115T193000
DTEND;TZID=Asia/Krasnoyarsk:20260115T203000
DTSTAMP:20260419T195930
CREATED:20260108T092959Z
LAST-MODIFIED:20260108T092959Z
UID:112822-1768505400-1768509000@axendacultural.aelg.gal
SUMMARY:Conferencia de Mohamed Safa\, autor de Gaza. Un xenocidio televisado\, en Vigo
DESCRIPTION:
URL:https://axendacultural.aelg.gal/event/conferencia-de-mohamed-safa-autor-de-gaza-un-xenocidio-televisado-en-vigo/
CATEGORIES:Conferencias,Internacional
END:VEVENT
BEGIN:VEVENT
DTSTART;TZID=Asia/Krasnoyarsk:20260115T200000
DTEND;TZID=Asia/Krasnoyarsk:20260115T210000
DTSTAMP:20260419T195930
CREATED:20260113T125924Z
LAST-MODIFIED:20260113T130050Z
UID:113001-1768507200-1768510800@axendacultural.aelg.gal
SUMMARY:Conferencia e repichoca de Xurxo Souto: "Amaro\, o Santo Navegante que atopou a Illa do Paraíso"\, na Coruña
DESCRIPTION:
URL:https://axendacultural.aelg.gal/event/conferencia-e-repichoca-de-xurxo-souto-amaro-o-santo-navegante-que-atopou-a-illa-do-paraiso-na-coruna/
LOCATION:Asociación Veciñal das Atochas – Monte Alto\, Asociación Veciñal das Atochas - Monte Alto - A Torre\, A Coruña
CATEGORIES:Conferencias
END:VEVENT
BEGIN:VEVENT
DTSTART;TZID=Asia/Krasnoyarsk:20260122T193000
DTEND;TZID=Asia/Krasnoyarsk:20260122T210000
DTSTAMP:20260419T195930
CREATED:20260118T200106Z
LAST-MODIFIED:20260119T085422Z
UID:113113-1769110200-1769115600@axendacultural.aelg.gal
SUMMARY:Palestra-debate Ecoloxía no século XXI\, por Xavier Queipo
DESCRIPTION:
URL:https://axendacultural.aelg.gal/event/palestra-debate-ecoloxia-no-seculo-xxi-por-xavier-queipo/
LOCATION:RioLagares\, RioLagares\, Vigo
CATEGORIES:Conferencias,Debates,Sociedade
END:VEVENT
BEGIN:VEVENT
DTSTART;TZID=Asia/Krasnoyarsk:20260122T200000
DTEND;TZID=Asia/Krasnoyarsk:20260122T210000
DTSTAMP:20260419T195930
CREATED:20260121T112625Z
LAST-MODIFIED:20260121T112625Z
UID:113182-1769112000-1769115600@axendacultural.aelg.gal
SUMMARY:Conferencia Introdución ao entroido en Galicia\, por Felipe Senén\, na Coruña
DESCRIPTION:
URL:https://axendacultural.aelg.gal/event/conferencia-introducion-ao-entroido-en-galicia-por-felipe-senen-na-coruna/
LOCATION:Amigos dos Museos de Galicia – Portas Ártabras\, Amigos dos Museos de Galicia - Portas Ártabras\, A Coruña
CATEGORIES:Antropoloxía,Conferencias
END:VEVENT
BEGIN:VEVENT
DTSTART;TZID=Asia/Krasnoyarsk:20260129T200000
DTEND;TZID=Asia/Krasnoyarsk:20260129T213000
DTSTAMP:20260419T195930
CREATED:20260128T132750Z
LAST-MODIFIED:20260128T132750Z
UID:113571-1769716800-1769722200@axendacultural.aelg.gal
SUMMARY:Conferencia O Entroido en Galicia (continuación)\, por Felipe-Senén\, na Coruña
DESCRIPTION:
URL:https://axendacultural.aelg.gal/event/conferencia-o-entroido-en-galicia-continuacion-por-felipe-senen-na-coruna/
LOCATION:Amigos dos Museos de Galicia – Portas Ártabras\, Amigos dos Museos de Galicia - Portas Ártabras\, A Coruña
CATEGORIES:Antropoloxía,Conferencias
END:VEVENT
END:VCALENDAR