BEGIN:VCALENDAR
VERSION:2.0
PRODID:-//::Axenda cultural AELG:: - ECPv6.6.4.2//NONSGML v1.0//EN
CALSCALE:GREGORIAN
METHOD:PUBLISH
X-WR-CALNAME:::Axenda cultural AELG::
X-ORIGINAL-URL:https://axendacultural.aelg.gal
X-WR-CALDESC:Events for ::Axenda cultural AELG::
REFRESH-INTERVAL;VALUE=DURATION:PT1H
X-Robots-Tag:noindex
X-PUBLISHED-TTL:PT1H
BEGIN:VTIMEZONE
TZID:Asia/Krasnoyarsk
BEGIN:STANDARD
TZOFFSETFROM:+0700
TZOFFSETTO:+0700
TZNAME:+07
DTSTART:20250101T000000
END:STANDARD
END:VTIMEZONE
BEGIN:VEVENT
DTSTART;TZID=Asia/Krasnoyarsk:20251104T193000
DTEND;TZID=Asia/Krasnoyarsk:20251104T210000
DTSTAMP:20260420T075418
CREATED:20251121T114317Z
LAST-MODIFIED:20251121T114343Z
UID:110963-1762284600-1762290000@axendacultural.aelg.gal
SUMMARY:Presentación de Diarios\, de Syra Alonso
DESCRIPTION:
URL:https://axendacultural.aelg.gal/event/presentacion-de-diarios-de-syra-alonso/
LOCATION:Libraría Biblos Betanzos\, Libraría Biblos\, Betanzos
CATEGORIES:Biografías,Divulgación,Presentación de libros,Tradución
END:VEVENT
BEGIN:VEVENT
DTSTART;TZID=Asia/Krasnoyarsk:20251106T193000
DTEND;TZID=Asia/Krasnoyarsk:20251106T210000
DTSTAMP:20260420T075418
CREATED:20251110T182322Z
LAST-MODIFIED:20251110T182408Z
UID:109977-1762457400-1762462800@axendacultural.aelg.gal
SUMMARY:A Pobra do Caramiñal: presentación de María Vázquez\, a mestra socialista eliminada polo franquismo\, de Aurora Marco
DESCRIPTION:
URL:https://axendacultural.aelg.gal/event/a-pobra-do-caraminal-presentacion-de-maria-vazquez-a-mestra-socialista-eliminada-polo-franquismo-de-aurora-marco/
LOCATION:Fundación Luís Seoane\, Fundación Luís Seoane\, A Coruña
CATEGORIES:Biografías,Divulgación,Historia,Presentación de libros
END:VEVENT
BEGIN:VEVENT
DTSTART;TZID=Asia/Krasnoyarsk:20251107T200000
DTEND;TZID=Asia/Krasnoyarsk:20251107T213000
DTSTAMP:20260420T075418
CREATED:20251105T181749Z
LAST-MODIFIED:20251105T181836Z
UID:109723-1762545600-1762551000@axendacultural.aelg.gal
SUMMARY:Presentación de Vidas e historias LGBT da Idade Media\, con Carlos Callón
DESCRIPTION:
URL:https://axendacultural.aelg.gal/event/presentacion-de-vidas-e-historias-lgbt-da-idade-media-con-carlos-callon/
LOCATION:Centro Cívico de Barro\, Centro Cívico de Barro\, Barro
CATEGORIES:Divulgación,Presentación de libros
END:VEVENT
BEGIN:VEVENT
DTSTART;TZID=Asia/Krasnoyarsk:20251113T200000
DTEND;TZID=Asia/Krasnoyarsk:20251113T213000
DTSTAMP:20260420T075418
CREATED:20251110T181827Z
LAST-MODIFIED:20251110T181951Z
UID:109972-1763064000-1763069400@axendacultural.aelg.gal
SUMMARY:Presentación de María Vázquez\, a mestra socialista eliminada polo franquismo\, de Aurora Marco
DESCRIPTION:
URL:https://axendacultural.aelg.gal/event/presentacion-de-maria-vazquez-a-mestra-socialista-eliminada-polo-franquismo-de-aurora-marco-2/
LOCATION:Biblioteca Municipal Victoriano García Martí da Pobra do Caramiñal\, Biblioteca Pública Municipal Victoriano García Martí\, A Pobra do Caramiñal
CATEGORIES:Biografías,Divulgación,Historia,Presentación de libros
END:VEVENT
BEGIN:VEVENT
DTSTART;TZID=Asia/Krasnoyarsk:20251113T203000
DTEND;TZID=Asia/Krasnoyarsk:20251113T220000
DTSTAMP:20260420T075418
CREATED:20251117T090110Z
LAST-MODIFIED:20251118T224918Z
UID:110539-1763065800-1763071200@axendacultural.aelg.gal
SUMMARY:Presentación de Tocadoras do Val do Dubra e arte menor
DESCRIPTION:
URL:https://axendacultural.aelg.gal/event/presentacion-de-tocadoras-do-val-do-dubra-e-arte-menor/
LOCATION:Círculo de Recreo – Casino de Lalín\, Café Casino de Lalín\, Lalín
CATEGORIES:Divulgación,Oralidade,Poesía,Presentación de libros
END:VEVENT
BEGIN:VEVENT
DTSTART;TZID=Asia/Krasnoyarsk:20251114T200000
DTEND;TZID=Asia/Krasnoyarsk:20251114T213000
DTSTAMP:20260420T075418
CREATED:20251110T214416Z
LAST-MODIFIED:20251110T214844Z
UID:110018-1763150400-1763155800@axendacultural.aelg.gal
SUMMARY:Presentación de Crónica dos Campamentos do Val de Barcala\, de Francisco Villaverde e César Ramos
DESCRIPTION:
URL:https://axendacultural.aelg.gal/event/presentacion-de-cronica-dos-campamentos-do-val-de-barcala-de-francisco-villaverde-e-cesar-ramos/
LOCATION:Libraría Pedreira\, Libraría Pedreira\, Santiago de Compostela
CATEGORIES:Divulgación,Presentación de libros
END:VEVENT
BEGIN:VEVENT
DTSTART;TZID=Asia/Krasnoyarsk:20251114T200000
DTEND;TZID=Asia/Krasnoyarsk:20251114T213000
DTSTAMP:20260420T075418
CREATED:20251114T180957Z
LAST-MODIFIED:20251114T181106Z
UID:110341-1763150400-1763155800@axendacultural.aelg.gal
SUMMARY:Presentación de Taibo. Verso libre da música galega\, de Alberto Cancela Montes
DESCRIPTION:
URL:https://axendacultural.aelg.gal/event/presentacion-de-taibo-verso-libre-da-musica-galega-de-alberto-cancela-montes/
LOCATION:Biblioteca Pública Municipal de Rianxo\, Biblioteca Pública Municipal de Rianxo\, Rianxo
CATEGORIES:Divulgación,Música,Presentación de libros
END:VEVENT
BEGIN:VEVENT
DTSTART;TZID=Asia/Krasnoyarsk:20251117T190000
DTEND;TZID=Asia/Krasnoyarsk:20251117T203000
DTSTAMP:20260420T075418
CREATED:20251111T095254Z
LAST-MODIFIED:20251111T095348Z
UID:110107-1763406000-1763411400@axendacultural.aelg.gal
SUMMARY:Presentación de Verso e acorde\, de Alberto Pombo
DESCRIPTION:
URL:https://axendacultural.aelg.gal/event/presentacion-de-verso-e-acorde-de-alberto-pombo/
LOCATION:Biblioteca Municipal Fórum Metropolitano da Coruña\, Biblioteca Municipal Fórum Metropolitano\, A Coruña
CATEGORIES:Divulgación,Música,Presentación de libros
END:VEVENT
BEGIN:VEVENT
DTSTART;TZID=Asia/Krasnoyarsk:20251119T193000
DTEND;TZID=Asia/Krasnoyarsk:20251119T210000
DTSTAMP:20260420T075418
CREATED:20251114T123844Z
LAST-MODIFIED:20251114T124003Z
UID:110305-1763580600-1763586000@axendacultural.aelg.gal
SUMMARY:Carlos Callón apresenta Vidas e historias LGBT da Idade Media
DESCRIPTION:
URL:https://axendacultural.aelg.gal/event/carlos-callon-apresenta-vidas-e-historias-lgbt-da-idade-media/
LOCATION:Livraria Aberta (Porto)\, Livraria aberta\, Porto\, Portugal
CATEGORIES:Biografías,Divulgación,Historia,Internacional,Lusofonia,Presentación de libros
END:VEVENT
BEGIN:VEVENT
DTSTART;TZID=Asia/Krasnoyarsk:20251121T190000
DTEND;TZID=Asia/Krasnoyarsk:20251121T203000
DTSTAMP:20260420T075418
CREATED:20251112T212745Z
LAST-MODIFIED:20251121T104335Z
UID:110221-1763751600-1763757000@axendacultural.aelg.gal
SUMMARY:Presentación de Tespis e o contexto teatral coruñés\, de Francisco Oti Ríos
DESCRIPTION:
URL:https://axendacultural.aelg.gal/event/presentacion-de-tespis-e-o-contexto-teatral-corunes-de-francisco-oti-rios/
LOCATION:Concello de Sada\, Concello de Sada\, Sada
CATEGORIES:Divulgación,Presentación de libros,Teatro
END:VEVENT
BEGIN:VEVENT
DTSTART;TZID=Asia/Krasnoyarsk:20251122T120000
DTEND;TZID=Asia/Krasnoyarsk:20251122T133000
DTSTAMP:20260420T075418
CREATED:20251112T211315Z
LAST-MODIFIED:20251112T211315Z
UID:110190-1763812800-1763818200@axendacultural.aelg.gal
SUMMARY:Presentación de Na escuridade das ondas\, de Fernando Patricio Cortizo
DESCRIPTION:
URL:https://axendacultural.aelg.gal/event/presentacion-de-na-escuridade-das-ondas-de-fernando-patricio-cortizo/
LOCATION:Museo Mares de Cedeira\, Museo Mares de Cedeira\, Cedeira
CATEGORIES:Divulgación,Historia,Presentación de libros
END:VEVENT
BEGIN:VEVENT
DTSTART;TZID=Asia/Krasnoyarsk:20251125T200000
DTEND;TZID=Asia/Krasnoyarsk:20251125T213000
DTSTAMP:20260420T075418
CREATED:20251123T162542Z
LAST-MODIFIED:20251123T162913Z
UID:111156-1764100800-1764106200@axendacultural.aelg.gal
SUMMARY:Presentación de María Vázquez\, a mestra socialista eliminada polo franquismo\, de Aurora Marco
DESCRIPTION:
URL:https://axendacultural.aelg.gal/event/presentacion-de-maria-vazquez-a-mestra-socialista-eliminada-polo-franquismo-de-aurora-marco-3/
LOCATION:Casa da Cultura de Pontedeume\, Casa da Cultura de Pontedeume\, Pontedeume
CATEGORIES:Biografías,Divulgación,Historia,Presentación de libros
END:VEVENT
BEGIN:VEVENT
DTSTART;TZID=Asia/Krasnoyarsk:20251127T193000
DTEND;TZID=Asia/Krasnoyarsk:20251127T210000
DTSTAMP:20260420T075418
CREATED:20251121T173900Z
LAST-MODIFIED:20251211T181653Z
UID:111064-1764271800-1764277200@axendacultural.aelg.gal
SUMMARY:Presentación de Os rótulos da nosa vida
DESCRIPTION:
URL:https://axendacultural.aelg.gal/event/presentacion-de-os-rotulos-da-nosa-vida/
LOCATION:Galería Maraca\, Galería Maraca\, Vigo
CATEGORIES:Divulgación,Presentación de libros
END:VEVENT
BEGIN:VEVENT
DTSTART;TZID=Asia/Krasnoyarsk:20251129T200000
DTEND;TZID=Asia/Krasnoyarsk:20251129T213000
DTSTAMP:20260420T075418
CREATED:20251127T214805Z
LAST-MODIFIED:20251127T215032Z
UID:111504-1764446400-1764451800@axendacultural.aelg.gal
SUMMARY:Presentación de Illote P. Barraca 16\, de Santiago Rodríguez Salinas
DESCRIPTION:
URL:https://axendacultural.aelg.gal/event/presentacion-de-illote-p-barraca-16-de-santiago-rodriguez-salinas/
LOCATION:Centro Comercial Ramallosa (Nigrán)\, Centro Comercial Ramallosa Siglo XXI\, Nigrán
CATEGORIES:Divulgación,Historia,Presentación de libros
END:VEVENT
END:VCALENDAR