BEGIN:VCALENDAR
VERSION:2.0
PRODID:-//::Axenda cultural AELG:: - ECPv6.6.4.2//NONSGML v1.0//EN
CALSCALE:GREGORIAN
METHOD:PUBLISH
X-ORIGINAL-URL:https://axendacultural.aelg.gal
X-WR-CALDESC:Events for ::Axenda cultural AELG::
REFRESH-INTERVAL;VALUE=DURATION:PT1H
X-Robots-Tag:noindex
X-PUBLISHED-TTL:PT1H
BEGIN:VTIMEZONE
TZID:Asia/Krasnoyarsk
BEGIN:STANDARD
TZOFFSETFROM:+0700
TZOFFSETTO:+0700
TZNAME:+07
DTSTART:20260101T000000
END:STANDARD
END:VTIMEZONE
BEGIN:VEVENT
DTSTART;TZID=Asia/Krasnoyarsk:20260302T200000
DTEND;TZID=Asia/Krasnoyarsk:20260302T213000
DTSTAMP:20260420T011702
CREATED:20260226T183314Z
LAST-MODIFIED:20260226T183413Z
UID:114864-1772481600-1772487000@axendacultural.aelg.gal
SUMMARY:Presentación do caderno 170 anos do Banquete de Conxo\, en Compostela
DESCRIPTION:
URL:https://axendacultural.aelg.gal/event/presentacion-do-caderno-170-anos-do-banquete-de-conxo-en-compostela/
LOCATION:Centro Sociocultural Aurelio Aguirre de Conxo (Santiago de Compostela)\, Centro Sociocultural Aurelio Aguirre de Conxo (Santiago de Compostela)\, Santiago de Compostela
CATEGORIES:Divulgación,Historia,Presentación de libros
END:VEVENT
BEGIN:VEVENT
DTSTART;TZID=Asia/Krasnoyarsk:20260305T200000
DTEND;TZID=Asia/Krasnoyarsk:20260305T210000
DTSTAMP:20260420T011702
CREATED:20260302T224230Z
LAST-MODIFIED:20260302T224230Z
UID:115032-1772740800-1772744400@axendacultural.aelg.gal
SUMMARY:Carlos Callón apresenta Vidas e historias LGBT da Idade Media\, na Coruña
DESCRIPTION:
URL:https://axendacultural.aelg.gal/event/carlos-callon-apresenta-vidas-e-historias-lgbt-da-idade-media-na-coruna/
LOCATION:C. S. Gomes Gaioso\, Gomes Gaioso\, A Coruña
CATEGORIES:Biografías,Divulgación,Historia,Presentación de libros
END:VEVENT
BEGIN:VEVENT
DTSTART;TZID=Asia/Krasnoyarsk:20260305T200000
DTEND;TZID=Asia/Krasnoyarsk:20260305T213000
DTSTAMP:20260420T011702
CREATED:20260304T083518Z
LAST-MODIFIED:20260304T083518Z
UID:115089-1772740800-1772746200@axendacultural.aelg.gal
SUMMARY:Xurxo Souto presenta A novela do Bravú\, na Coruña
DESCRIPTION:O 5 de marzo\, ás 20:00 horas\, na Asociación Veciñal Agra do Orzán (Rúa Entrepenas\, 38\, soto)\, na Coruña\, Xurxo Souto presenta A novela do Bravú\, publicado por Xerais. No acto\, o público poderá coñecer de primeira man o proceso creativo\, partillar impresións co autor e descubrir os segredos desta nova obra. A entrada será libre até completar a capacidade do local.
URL:https://axendacultural.aelg.gal/event/xurxo-souto-presenta-a-novela-do-bravu-na-coruna-2/
LOCATION:Asociación Veciñal da Agra do Orzán da Coruña\, Asociación de Vecinos Agra do Orzán\, A Coruña
CATEGORIES:Divulgación,Música,Narrativa,Presentación de libros
END:VEVENT
BEGIN:VEVENT
DTSTART;TZID=Asia/Krasnoyarsk:20260306T200000
DTEND;TZID=Asia/Krasnoyarsk:20260306T213000
DTSTAMP:20260420T011702
CREATED:20260302T131614Z
LAST-MODIFIED:20260302T131614Z
UID:115001-1772827200-1772832600@axendacultural.aelg.gal
SUMMARY:Presentación de María Vázquez\, a mestra eliminada polo franquismo\, de Aurora Marco\, en Betanzos
DESCRIPTION:
URL:https://axendacultural.aelg.gal/event/presentacion-de-maria-vazquez-a-mestra-eliminada-polo-franquismo-de-aurora-marco-en-betanzos/
LOCATION:Edificio Liceo Betanzos\, Edificio Liceo\, Betanzos
CATEGORIES:Biografías,Divulgación,Historia,Presentación de libros
END:VEVENT
BEGIN:VEVENT
DTSTART;TZID=Asia/Krasnoyarsk:20260307T123000
DTEND;TZID=Asia/Krasnoyarsk:20260307T140000
DTSTAMP:20260420T011702
CREATED:20260304T085208Z
LAST-MODIFIED:20260304T085259Z
UID:115094-1772886600-1772892000@axendacultural.aelg.gal
SUMMARY:Presentación sonora de A novela do Bravú\, de Xurxo Souto\, no Porriño
DESCRIPTION:
URL:https://axendacultural.aelg.gal/event/presentacion-sonora-de-a-novela-do-bravu-de-xurxo-souto-no-porrino/
LOCATION:Círculo Recreativo Cultural do Porriño\, Círculo Recreativo Cultural do Porriño\, O Porriño
CATEGORIES:Divulgación,Música,Narrativa,Presentación de libros
END:VEVENT
BEGIN:VEVENT
DTSTART;TZID=Asia/Krasnoyarsk:20260313T193000
DTEND;TZID=Asia/Krasnoyarsk:20260313T210000
DTSTAMP:20260420T011702
CREATED:20260310T183234Z
LAST-MODIFIED:20260310T183234Z
UID:115312-1773430200-1773435600@axendacultural.aelg.gal
SUMMARY:Presentación de A novela do Bravú\, de Xurxo Souto\, en Pontedeume
DESCRIPTION:
URL:https://axendacultural.aelg.gal/event/presentacion-de-a-novela-do-bravu-de-xurxo-souto-en-pontedeume-2/
LOCATION:Casa da Cultura de Pontedeume\, Casa da Cultura de Pontedeume\, Pontedeume
CATEGORIES:Divulgación,Música,Narrativa,Presentación de libros
END:VEVENT
BEGIN:VEVENT
DTSTART;TZID=Asia/Krasnoyarsk:20260314T183000
DTEND;TZID=Asia/Krasnoyarsk:20260314T200000
DTSTAMP:20260420T011702
CREATED:20260311T155235Z
LAST-MODIFIED:20260311T155248Z
UID:115379-1773513000-1773518400@axendacultural.aelg.gal
SUMMARY:Presentación de A novela do Bravú\, de Xurxo Souto\, en Melide
DESCRIPTION:
URL:https://axendacultural.aelg.gal/event/presentacion-de-a-novela-do-bravu-de-xurxo-souto-en-melide/
LOCATION:Pub Gatos (Melide)\, Pub Gatos\, Melide
CATEGORIES:Divulgación,Música,Narrativa,Presentación de libros
END:VEVENT
BEGIN:VEVENT
DTSTART;TZID=Asia/Krasnoyarsk:20260314T190000
DTEND;TZID=Asia/Krasnoyarsk:20260314T203000
DTSTAMP:20260420T011702
CREATED:20260312T205819Z
LAST-MODIFIED:20260312T205846Z
UID:115475-1773514800-1773520200@axendacultural.aelg.gal
SUMMARY:Conferencia "Urraca emperatriz de toda Galiza"\, por Héitor Picallo\, en Ribadeo
DESCRIPTION:
URL:https://axendacultural.aelg.gal/event/conferencia-urraca-emperatriz-de-toda-galiza-por-heitor-picallo-en-ribadeo/
LOCATION:Casa del Viejo Pancho\, Casa del Viejo Pancho\, Ribadeo
CATEGORIES:Divulgación,Historia,Palestras
END:VEVENT
BEGIN:VEVENT
DTSTART;TZID=Asia/Krasnoyarsk:20260316T200000
DTEND;TZID=Asia/Krasnoyarsk:20260316T210000
DTSTAMP:20260420T011702
CREATED:20260312T212015Z
LAST-MODIFIED:20260315T212244Z
UID:115559-1773691200-1773694800@axendacultural.aelg.gal
SUMMARY:Presentación de O Rei Sabio\, de Simon Doubleday\, na Coruña
DESCRIPTION:
URL:https://axendacultural.aelg.gal/event/presentacion-de-o-rei-sabio-de-simon-doubleday-na-coruna/
LOCATION:Agrupación Cultural Alexandre Bóveda\, Asociación Cultural Alexandre Bóveda\, A Coruña
CATEGORIES:Biografías,Divulgación,Historia,Presentación de libros
END:VEVENT
BEGIN:VEVENT
DTSTART;TZID=Asia/Krasnoyarsk:20260321T123000
DTEND;TZID=Asia/Krasnoyarsk:20260321T140000
DTSTAMP:20260420T011702
CREATED:20260317T122729Z
LAST-MODIFIED:20260317T122729Z
UID:115640-1774096200-1774101600@axendacultural.aelg.gal
SUMMARY:Sesión sonora con Xurxo Souto\, en Vilalba
DESCRIPTION:
URL:https://axendacultural.aelg.gal/event/sesion-sonora-con-xurxo-souto-en-vilalba/
LOCATION:Concello de Vilalba\, Concello de Vilalba\, Vilalba
CATEGORIES:Divulgación,Música,Presentación de libros
END:VEVENT
BEGIN:VEVENT
DTSTART;TZID=Asia/Krasnoyarsk:20260326T183000
DTEND;TZID=Asia/Krasnoyarsk:20260326T200000
DTSTAMP:20260420T011702
CREATED:20260312T204610Z
LAST-MODIFIED:20260312T204621Z
UID:115467-1774549800-1774555200@axendacultural.aelg.gal
SUMMARY:Presentación de Bestiário\, de Vítor Vaqueiro e Ánxel Huete\, en Compostela
DESCRIPTION:
URL:https://axendacultural.aelg.gal/event/presentacion-de-bestiario-de-vitor-vaqueiro-e-anxel-huete-en-compostela/
LOCATION:Museo do Pobo Galego\, Museo do Pobo Galego\, Santiago de Compostela
CATEGORIES:Divulgación,Ilustración,Presentación de libros
END:VEVENT
END:VCALENDAR