BEGIN:VCALENDAR
VERSION:2.0
PRODID:-//::Axenda cultural AELG:: - ECPv6.6.4.2//NONSGML v1.0//EN
CALSCALE:GREGORIAN
METHOD:PUBLISH
X-ORIGINAL-URL:https://axendacultural.aelg.gal
X-WR-CALDESC:Events for ::Axenda cultural AELG::
REFRESH-INTERVAL;VALUE=DURATION:PT1H
X-Robots-Tag:noindex
X-PUBLISHED-TTL:PT1H
BEGIN:VTIMEZONE
TZID:Asia/Krasnoyarsk
BEGIN:STANDARD
TZOFFSETFROM:+0700
TZOFFSETTO:+0700
TZNAME:+07
DTSTART:20260101T000000
END:STANDARD
END:VTIMEZONE
BEGIN:VEVENT
DTSTART;TZID=Asia/Krasnoyarsk:20260220T190000
DTEND;TZID=Asia/Krasnoyarsk:20260220T203000
DTSTAMP:20260420T045128
CREATED:20260212T225215Z
LAST-MODIFIED:20260212T225215Z
UID:114193-1771614000-1771619400@axendacultural.aelg.gal
SUMMARY:Obradoiro e presentación de Guía ilustrada do Entroido Galego\, con Alba de Evan e Xabier Domínguez\, no Carballiño
DESCRIPTION:
URL:https://axendacultural.aelg.gal/event/obradoiro-e-presentacion-de-guia-ilustrada-do-entroido-galego-con-alba-de-evan-e-xabier-dominguez-no-carballino/
LOCATION:OZOCOgz (O Carballiño)\, OZOCOgz Deseño Galego\, O Carballiño
CATEGORIES:Divulgación,Ilustración,Infantil e xuvenil,Obradoiros,Presentación de libros
END:VEVENT
BEGIN:VEVENT
DTSTART;TZID=Asia/Krasnoyarsk:20260220T200000
DTEND;TZID=Asia/Krasnoyarsk:20260220T210000
DTSTAMP:20260420T045128
CREATED:20260218T083154Z
LAST-MODIFIED:20260218T083202Z
UID:114440-1771617600-1771621200@axendacultural.aelg.gal
SUMMARY:Presentación de Historias de muíños e muiñeiros/as na cerna de Galicia\, de María Montserrat Varela Vázquez\, en Arzúa
DESCRIPTION:
URL:https://axendacultural.aelg.gal/event/presentacion-de-historias-de-muinos-e-muineiros-as-na-cerna-de-galicia-de-maria-montserrat-varela-vazquez-en-arzua/
LOCATION:Capela da Madalena\, Capela da Madanela\, Arzúa
CATEGORIES:Divulgación,Presentación de libros
END:VEVENT
BEGIN:VEVENT
DTSTART;TZID=Asia/Krasnoyarsk:20260220T200000
DTEND;TZID=Asia/Krasnoyarsk:20260220T213000
DTSTAMP:20260420T045128
CREATED:20260218T180320Z
LAST-MODIFIED:20260219T180641Z
UID:114528-1771617600-1771623000@axendacultural.aelg.gal
SUMMARY:Presentación do libro Patrimonio lúdico galego. Investigación\, recursos e divulgación dos xogos tradicionais\, en Melide
DESCRIPTION:
URL:https://axendacultural.aelg.gal/event/presentacion-do-libro-patrimonio-ludico-galego-investigacion-recursos-e-divulgacion-dos-xogos-tradicionais-en-melide/
LOCATION:Biblioteca Municipal Xosé Vázquez Pintor (Melide)\, Biblioteca Municipal Xosè Vàzquez Pintor\, Melide
CATEGORIES:Divulgación,Música,Presentación de libros
END:VEVENT
END:VCALENDAR