BEGIN:VCALENDAR
VERSION:2.0
PRODID:-//::Axenda cultural AELG:: - ECPv6.6.4.2//NONSGML v1.0//EN
CALSCALE:GREGORIAN
METHOD:PUBLISH
X-WR-CALNAME:::Axenda cultural AELG::
X-ORIGINAL-URL:https://axendacultural.aelg.gal
X-WR-CALDESC:Events for ::Axenda cultural AELG::
REFRESH-INTERVAL;VALUE=DURATION:PT1H
X-Robots-Tag:noindex
X-PUBLISHED-TTL:PT1H
BEGIN:VTIMEZONE
TZID:Asia/Krasnoyarsk
BEGIN:STANDARD
TZOFFSETFROM:+0700
TZOFFSETTO:+0700
TZNAME:+07
DTSTART:20250101T000000
END:STANDARD
END:VTIMEZONE
BEGIN:VEVENT
DTSTART;TZID=Asia/Krasnoyarsk:20251105T094500
DTEND;TZID=Asia/Krasnoyarsk:20251105T193000
DTSTAMP:20260421T002318
CREATED:20251121T112934Z
LAST-MODIFIED:20251121T114000Z
UID:110933-1762335900-1762371000@axendacultural.aelg.gal
SUMMARY:Xornada Son libre de decidir sobre a miña vida
DESCRIPTION:Máis información e inscrición aquí.
URL:https://axendacultural.aelg.gal/event/xornada-son-libre-de-decidir-sobre-a-mina-vida/
LOCATION:Consello da Cultura Galega\, Pazo de Raxoi\, Santiago de Compostela
CATEGORIES:Conferencias,Encontros e Xornadas,Mesas redondas,Sociedade
END:VEVENT
BEGIN:VEVENT
DTSTART;TZID=Asia/Krasnoyarsk:20251105T180000
DTEND;TZID=Asia/Krasnoyarsk:20251105T203000
DTSTAMP:20260421T002318
CREATED:20251105T082054Z
LAST-MODIFIED:20251105T181333Z
UID:109594-1762365600-1762374600@axendacultural.aelg.gal
SUMMARY:Momentos da cultura galega: Castelao en Buenos Aires
DESCRIPTION:
URL:https://axendacultural.aelg.gal/event/momentos-da-cultura-galega-castelao-en-buenos-aires/
CATEGORIES:Conferencias,Encontros e Xornadas
END:VEVENT
END:VCALENDAR