BEGIN:VCALENDAR
VERSION:2.0
PRODID:-//::Axenda cultural AELG:: - ECPv6.6.4.2//NONSGML v1.0//EN
CALSCALE:GREGORIAN
METHOD:PUBLISH
X-ORIGINAL-URL:https://axendacultural.aelg.gal
X-WR-CALDESC:Events for ::Axenda cultural AELG::
REFRESH-INTERVAL;VALUE=DURATION:PT1H
X-Robots-Tag:noindex
X-PUBLISHED-TTL:PT1H
BEGIN:VTIMEZONE
TZID:Asia/Krasnoyarsk
BEGIN:STANDARD
TZOFFSETFROM:+0700
TZOFFSETTO:+0700
TZNAME:+07
DTSTART:20250101T000000
END:STANDARD
END:VTIMEZONE
BEGIN:VEVENT
DTSTART;TZID=Asia/Krasnoyarsk:20251113T170000
DTEND;TZID=Asia/Krasnoyarsk:20251113T200000
DTSTAMP:20260421T001813
CREATED:20251122T122728Z
LAST-MODIFIED:20251122T122941Z
UID:111114-1763053200-1763064000@axendacultural.aelg.gal
SUMMARY:Xornadas Gálix. Desfacendo a Raia XVII. Ensinar dende a LIX
DESCRIPTION:
URL:https://axendacultural.aelg.gal/event/xornadas-galix-desfacendo-a-raia-xvii-ensinar-dende-a-lix/
LOCATION:Escola Galega de Administración Pública\, Escola Galega de Administración Pública (Santiago de Compostela)\, Santiago de Compostela
CATEGORIES:Conferencias,Encontros e Xornadas,Infantil e xuvenil,Literatura e ensino,Poesía
END:VEVENT
END:VCALENDAR