BEGIN:VCALENDAR
VERSION:2.0
PRODID:-//::Axenda cultural AELG:: - ECPv6.6.4.2//NONSGML v1.0//EN
CALSCALE:GREGORIAN
METHOD:PUBLISH
X-ORIGINAL-URL:https://axendacultural.aelg.gal
X-WR-CALDESC:Events for ::Axenda cultural AELG::
REFRESH-INTERVAL;VALUE=DURATION:PT1H
X-Robots-Tag:noindex
X-PUBLISHED-TTL:PT1H
BEGIN:VTIMEZONE
TZID:Asia/Krasnoyarsk
BEGIN:STANDARD
TZOFFSETFROM:+0700
TZOFFSETTO:+0700
TZNAME:+07
DTSTART:20260101T000000
END:STANDARD
END:VTIMEZONE
BEGIN:VEVENT
DTSTART;TZID=Asia/Krasnoyarsk:20260423T123000
DTEND;TZID=Asia/Krasnoyarsk:20260426T200000
DTSTAMP:20260422T070404
CREATED:20260421T162123Z
LAST-MODIFIED:20260421T162327Z
UID:117358-1776947400-1777233600@axendacultural.aelg.gal
SUMMARY:Feira do Libro de Ferrol 2026
DESCRIPTION:
URL:https://axendacultural.aelg.gal/event/feira-do-libro-de-ferrol-2026/
LOCATION:Praza da Constitución\, Praza da Constitución\, Ferrol
CATEGORIES:Biografías,Coloquios,Feiras do Libro,Lectura,Narrativa,Presentación de libros
END:VEVENT
END:VCALENDAR