BEGIN:VCALENDAR
VERSION:2.0
PRODID:-//::Axenda cultural AELG:: - ECPv6.6.4.2//NONSGML v1.0//EN
CALSCALE:GREGORIAN
METHOD:PUBLISH
X-WR-CALNAME:::Axenda cultural AELG::
X-ORIGINAL-URL:https://axendacultural.aelg.gal
X-WR-CALDESC:Events for ::Axenda cultural AELG::
REFRESH-INTERVAL;VALUE=DURATION:PT1H
X-Robots-Tag:noindex
X-PUBLISHED-TTL:PT1H
BEGIN:VTIMEZONE
TZID:Asia/Krasnoyarsk
BEGIN:STANDARD
TZOFFSETFROM:+0700
TZOFFSETTO:+0700
TZNAME:+07
DTSTART:20250101T000000
END:STANDARD
END:VTIMEZONE
BEGIN:VEVENT
DTSTART;TZID=Asia/Krasnoyarsk:20251206T120000
DTEND;TZID=Asia/Krasnoyarsk:20251206T130000
DTSTAMP:20260419T210959
CREATED:20251204T133536Z
LAST-MODIFIED:20251204T133639Z
UID:111859-1765022400-1765026000@axendacultural.aelg.gal
SUMMARY:Iria-Friné Rivera Vázquez falará sobre A era de Camilo Díaz Baliño: o amencer dos Deuses\, Weimar e o impacto da Terceira Internacional soviética\, na Coruña
DESCRIPTION:
URL:https://axendacultural.aelg.gal/event/iria-frine-rivera-vazquez-falara-sobre-a-era-de-camilo-diaz-balino-o-amencer-dos-deuses-weimar-e-o-impacto-da-terceira-internacional-sovietica-na-coruna/
LOCATION:C. S. Gomes Gaioso\, Gomes Gaioso\, A Coruña
CATEGORIES:Arte,Conferencias,Historia
END:VEVENT
END:VCALENDAR