BEGIN:VCALENDAR
VERSION:2.0
PRODID:-//::Axenda cultural AELG:: - ECPv6.6.4.2//NONSGML v1.0//EN
CALSCALE:GREGORIAN
METHOD:PUBLISH
X-ORIGINAL-URL:https://axendacultural.aelg.gal
X-WR-CALDESC:Events for ::Axenda cultural AELG::
REFRESH-INTERVAL;VALUE=DURATION:PT1H
X-Robots-Tag:noindex
X-PUBLISHED-TTL:PT1H
BEGIN:VTIMEZONE
TZID:Asia/Krasnoyarsk
BEGIN:STANDARD
TZOFFSETFROM:+0700
TZOFFSETTO:+0700
TZNAME:+07
DTSTART:20250101T000000
END:STANDARD
END:VTIMEZONE
BEGIN:VEVENT
DTSTART;TZID=Asia/Krasnoyarsk:20251204T183000
DTEND;TZID=Asia/Krasnoyarsk:20251204T203000
DTSTAMP:20260421T173543
CREATED:20251128T230858Z
LAST-MODIFIED:20251128T230910Z
UID:111578-1764873000-1764880200@axendacultural.aelg.gal
SUMMARY:Presentación de Alicia e a mestra de Oza\, de Paula Carballeira\, en Teo
DESCRIPTION:
URL:https://axendacultural.aelg.gal/event/presentacion-de-alicia-e-a-mestra-de-oza-de-paula-carballeira-en-teo/
CATEGORIES:Infantil e xuvenil,Narrativa,Presentación de libros
END:VEVENT
BEGIN:VEVENT
DTSTART;TZID=Asia/Krasnoyarsk:20251205T180000
DTEND;TZID=Asia/Krasnoyarsk:20251205T193000
DTSTAMP:20260421T173543
CREATED:20251203T221154Z
LAST-MODIFIED:20251207T221442Z
UID:112020-1764957600-1764963000@axendacultural.aelg.gal
SUMMARY:Contacontos e presentación de As aventuras de Joe e Fonte\, de Aurora Corbacho e Chimay\, en Salceda de Caselas
DESCRIPTION:
URL:https://axendacultural.aelg.gal/event/contacontos-e-presentacion-de-as-aventuras-de-joe-e-fonte-de-aurora-corbacho-e-chimay-en-salceda-de-caselas/
LOCATION:Libraría Lemos (Salceda de Caselas)\, Librería Lemos\, Salceda de Caselas
CATEGORIES:Contacontos,Infantil e xuvenil,Narrativa,Presentación de libros
END:VEVENT
BEGIN:VEVENT
DTSTART;TZID=Asia/Krasnoyarsk:20251212T193000
DTEND;TZID=Asia/Krasnoyarsk:20251212T210000
DTSTAMP:20260421T173543
CREATED:20251210T234209Z
LAST-MODIFIED:20251210T234209Z
UID:112207-1765567800-1765573200@axendacultural.aelg.gal
SUMMARY:Presentación de Arredor do sol\, de Mónica Varela\, en Teo
DESCRIPTION:
URL:https://axendacultural.aelg.gal/event/presentacion-de-arredor-do-sol-de-monica-varela-en-teo/
LOCATION:Auditorio Constante Liste (Teo)\, Auditorio Constante Liste\, Teo
CATEGORIES:Infantil e xuvenil,Literatura e ensino,Poesía,Presentación de libros
END:VEVENT
BEGIN:VEVENT
DTSTART;TZID=Asia/Krasnoyarsk:20251213T110000
DTEND;TZID=Asia/Krasnoyarsk:20251213T130000
DTSTAMP:20260421T173543
CREATED:20251209T225026Z
LAST-MODIFIED:20251209T225026Z
UID:112141-1765623600-1765630800@axendacultural.aelg.gal
SUMMARY:Obradoiro de ilustración con Xosé Tomás\, en Compostela
DESCRIPTION:
URL:https://axendacultural.aelg.gal/event/obradoiro-de-ilustracion-con-xose-tomas-en-compostela/
LOCATION:Libraría Pedreira\, Libraría Pedreira\, Santiago de Compostela
CATEGORIES:Banda deseñada,Ilustración,Infantil e xuvenil,Presentación de libros
END:VEVENT
BEGIN:VEVENT
DTSTART;TZID=Asia/Krasnoyarsk:20251214T160000
DTEND;TZID=Asia/Krasnoyarsk:20251214T190000
DTSTAMP:20260421T173543
CREATED:20251201T182519Z
LAST-MODIFIED:20251201T183017Z
UID:111663-1765728000-1765738800@axendacultural.aelg.gal
SUMMARY:Contacontos Unha historia diferente do parrulo feo e Barco de Nadal dos guerreiros\, con Soledad García Riveiro\, en Nigrán
DESCRIPTION:
URL:https://axendacultural.aelg.gal/event/contacontos-unha-historia-diferente-do-parrulo-feo-e-barco-de-nadal-dos-guerreiros-con-soledad-garcia-riveiro-en-nigran/
LOCATION:Auditorio de Nigrán\, Auditorio de Nigrán\, Nigrán
CATEGORIES:Contacontos,Infantil e xuvenil,Narrativa
END:VEVENT
BEGIN:VEVENT
DTSTART;TZID=Asia/Krasnoyarsk:20251214T180000
DTEND;TZID=Asia/Krasnoyarsk:20251214T200000
DTSTAMP:20260421T173543
CREATED:20251110T095209Z
LAST-MODIFIED:20251127T100335Z
UID:109885-1765735200-1765742400@axendacultural.aelg.gal
SUMMARY:Videopresentación especial de Undomel\, de Soledad García Riveiro\, en Nigrán
DESCRIPTION:
URL:https://axendacultural.aelg.gal/event/videopresentacion-especial-de-undomel-de-soledad-garcia-riveiro-en-nigran/
LOCATION:Auditorio de Nigrán\, Auditorio de Nigrán\, Nigrán
CATEGORIES:Audiovisual,Infantil e xuvenil,Narrativa,Presentación de libros
END:VEVENT
BEGIN:VEVENT
DTSTART;TZID=Asia/Krasnoyarsk:20251217T200000
DTEND;TZID=Asia/Krasnoyarsk:20251217T213000
DTSTAMP:20260421T173543
CREATED:20251214T174304Z
LAST-MODIFIED:20251214T174800Z
UID:112402-1766001600-1766007000@axendacultural.aelg.gal
SUMMARY:Presentación de Be Water II\, de Antía Yáñez\, en Vigo
DESCRIPTION:
URL:https://axendacultural.aelg.gal/event/presentacion-de-be-water-ii-de-antia-yanez-en-vigo/
LOCATION:Libraría Cartabón\, Libraría Cartabón\, Vigo
CATEGORIES:Infantil e xuvenil,Narrativa,Presentación de libros
END:VEVENT
BEGIN:VEVENT
DTSTART;TZID=Asia/Krasnoyarsk:20251218T180000
DTEND;TZID=Asia/Krasnoyarsk:20251218T200000
DTSTAMP:20260421T173543
CREATED:20251207T134033Z
LAST-MODIFIED:20251207T134033Z
UID:111990-1766080800-1766088000@axendacultural.aelg.gal
SUMMARY:Sinatura de Bruxas e Dragóns\, de Ledicia Costas e Luismi Pérez\, na Coruña
DESCRIPTION:
URL:https://axendacultural.aelg.gal/event/sinatura-de-bruxas-e-dragons-de-ledicia-costas-e-luismi-perez-na-coruna/
LOCATION:Libraría Galgo Azul\, Galgo Azul (Libros\, grolos e moito máis)\, A Coruña
CATEGORIES:Infantil e xuvenil,Narrativa,Presentación de libros
END:VEVENT
BEGIN:VEVENT
DTSTART;TZID=Asia/Krasnoyarsk:20251219T170000
DTEND;TZID=Asia/Krasnoyarsk:20251219T190000
DTSTAMP:20260421T173543
CREATED:20251207T135058Z
LAST-MODIFIED:20251207T135058Z
UID:111996-1766163600-1766170800@axendacultural.aelg.gal
SUMMARY:Sinatura de Bruxas e Dragóns\, de Ledicia Costas e Luismi Pérez\, en Bueu
DESCRIPTION:
URL:https://axendacultural.aelg.gal/event/sinatura-de-bruxas-e-dragons-de-ledicia-costas-e-luismi-perez-en-bueu/
LOCATION:Centro Social do Mar de Bueu\, Centro Social do Mar\, Bueu
CATEGORIES:Infantil e xuvenil,Narrativa,Presentación de libros
END:VEVENT
BEGIN:VEVENT
DTSTART;TZID=Asia/Krasnoyarsk:20251220T120000
DTEND;TZID=Asia/Krasnoyarsk:20251220T133000
DTSTAMP:20260421T173543
CREATED:20251212T215901Z
LAST-MODIFIED:20251221T220039Z
UID:112497-1766232000-1766237400@axendacultural.aelg.gal
SUMMARY:Rosa Aneiros asina exemplares de Unha historia de amor como outra calquera\, en Compostela
DESCRIPTION:
URL:https://axendacultural.aelg.gal/event/rosa-aneiros-asina-exemplares-de-unha-historia-de-amor-como-outra-calquera-en-compostela/
LOCATION:Libraría Couceiro\, Librería Couceiro\, Santiago de Compostela
CATEGORIES:Infantil e xuvenil,Narrativa,Presentación de libros
END:VEVENT
BEGIN:VEVENT
DTSTART;TZID=Asia/Krasnoyarsk:20251220T120000
DTEND;TZID=Asia/Krasnoyarsk:20251220T140000
DTSTAMP:20260421T173544
CREATED:20251207T135435Z
LAST-MODIFIED:20251207T135435Z
UID:112002-1766232000-1766239200@axendacultural.aelg.gal
SUMMARY:Sinatura de Bruxas e Dragóns\, de Ledicia Costas e Luismi Pérez\, en Pontevedra
DESCRIPTION:
URL:https://axendacultural.aelg.gal/event/sinatura-de-bruxas-e-dragons-de-ledicia-costas-e-luismi-perez-en-pontevedra/
LOCATION:Centro Social Gorgullón\, Centro Social Gorgullón\, Pontevedra
CATEGORIES:Ilustración,Infantil e xuvenil,Narrativa,Presentación de libros
END:VEVENT
BEGIN:VEVENT
DTSTART;TZID=Asia/Krasnoyarsk:20251221T173000
DTEND;TZID=Asia/Krasnoyarsk:20251221T190000
DTSTAMP:20260421T173544
CREATED:20251119T112922Z
LAST-MODIFIED:20251127T100229Z
UID:110771-1766338200-1766343600@axendacultural.aelg.gal
SUMMARY:Videoconto especial LOST\, de Soledad García Riveiro\, en Vigo
DESCRIPTION:
URL:https://axendacultural.aelg.gal/event/videoconto-especial-lost-de-soledad-garcia-riveiro-en-vigo/
LOCATION:Auditorio Municipal do Concello de Vigo\, Auditorio Municipal do Concello de Vigo\, Vigo
CATEGORIES:Audiovisual,Infantil e xuvenil,Narrativa,Presentación de libros
END:VEVENT
BEGIN:VEVENT
DTSTART;TZID=Asia/Krasnoyarsk:20251226T180000
DTEND;TZID=Asia/Krasnoyarsk:20251226T193000
DTSTAMP:20260421T173544
CREATED:20251221T212101Z
LAST-MODIFIED:20251221T212112Z
UID:112480-1766772000-1766777400@axendacultural.aelg.gal
SUMMARY:Presentación do libro-disco O Dentista Musical\, con Pablo Varela\, na Coruña
DESCRIPTION:
URL:https://axendacultural.aelg.gal/event/presentacion-do-libro-disco-o-dentista-musical-con-pablo-varela-na-coruna/
LOCATION:Asociación Veciñal da Agra do Orzán da Coruña\, Asociación de Vecinos Agra do Orzán\, A Coruña
CATEGORIES:Infantil e xuvenil,Música,Presentación de libros
END:VEVENT
BEGIN:VEVENT
DTSTART;TZID=Asia/Krasnoyarsk:20251227T170000
DTEND;TZID=Asia/Krasnoyarsk:20251227T183000
DTSTAMP:20260421T173544
CREATED:20251207T135757Z
LAST-MODIFIED:20251207T135757Z
UID:112007-1766854800-1766860200@axendacultural.aelg.gal
SUMMARY:Presentación de Bruxas e Dragóns\, de Ledicia Costas e Luismi Pérez\, en Vigo
DESCRIPTION:
URL:https://axendacultural.aelg.gal/event/presentacion-de-bruxas-e-dragons-de-ledicia-costas-e-luismi-perez-en-vigo/
LOCATION:Vigo de Papel\, Vigo de Papel\, Vigo
CATEGORIES:Infantil e xuvenil,Narrativa,Presentación de libros
END:VEVENT
END:VCALENDAR