BEGIN:VCALENDAR
VERSION:2.0
PRODID:-//::Axenda cultural AELG:: - ECPv6.6.4.2//NONSGML v1.0//EN
CALSCALE:GREGORIAN
METHOD:PUBLISH
X-ORIGINAL-URL:https://axendacultural.aelg.gal
X-WR-CALDESC:Events for ::Axenda cultural AELG::
REFRESH-INTERVAL;VALUE=DURATION:PT1H
X-Robots-Tag:noindex
X-PUBLISHED-TTL:PT1H
BEGIN:VTIMEZONE
TZID:Asia/Krasnoyarsk
BEGIN:STANDARD
TZOFFSETFROM:+0700
TZOFFSETTO:+0700
TZNAME:+07
DTSTART:20260101T000000
END:STANDARD
END:VTIMEZONE
BEGIN:VEVENT
DTSTART;TZID=Asia/Krasnoyarsk:20260212T193000
DTEND;TZID=Asia/Krasnoyarsk:20260212T213000
DTSTAMP:20260424T063220
CREATED:20260208T181916Z
LAST-MODIFIED:20260208T181916Z
UID:113907-1770924600-1770931800@axendacultural.aelg.gal
SUMMARY:Círculo de lectura en RioLagares\, en Vigo
DESCRIPTION:
URL:https://axendacultural.aelg.gal/event/circulo-de-lectura-en-riolagares-en-vigo-2/
LOCATION:RioLagares\, RioLagares\, Vigo
CATEGORIES:Lectura
END:VEVENT
END:VCALENDAR