BEGIN:VCALENDAR
VERSION:2.0
PRODID:-//::Axenda cultural AELG:: - ECPv6.6.4.2//NONSGML v1.0//EN
CALSCALE:GREGORIAN
METHOD:PUBLISH
X-ORIGINAL-URL:https://axendacultural.aelg.gal
X-WR-CALDESC:Events for ::Axenda cultural AELG::
REFRESH-INTERVAL;VALUE=DURATION:PT1H
X-Robots-Tag:noindex
X-PUBLISHED-TTL:PT1H
BEGIN:VTIMEZONE
TZID:Asia/Krasnoyarsk
BEGIN:STANDARD
TZOFFSETFROM:+0700
TZOFFSETTO:+0700
TZNAME:+07
DTSTART:20250101T000000
END:STANDARD
END:VTIMEZONE
BEGIN:VEVENT
DTSTART;TZID=Asia/Krasnoyarsk:20251104T190000
DTEND;TZID=Asia/Krasnoyarsk:20251104T203000
DTSTAMP:20260420T071118
CREATED:20251121T120552Z
LAST-MODIFIED:20251121T120910Z
UID:111011-1762282800-1762288200@axendacultural.aelg.gal
SUMMARY:Encontro Ensinar co teatro ou ensinar teatro: diante e detrás do pano\, con Raquel Castro
DESCRIPTION:
URL:https://axendacultural.aelg.gal/event/encontro-ensinar-co-teatro-ou-ensinar-teatro-diante-e-detras-do-pano-con-raquel-castro/
LOCATION:Facultade de Ciencias da Educación da Universidade de Santiago de Compostela\, Facultade de Ciencias da Educación - USC\, Campus Norte\, Santiago de Compostela
CATEGORIES:Asociación de Escritoras e Escritores en Lingua Galega,Coloquios,Conferencias,Infantil e xuvenil,Literatura e ensino,Teatro
END:VEVENT
BEGIN:VEVENT
DTSTART;TZID=Asia/Krasnoyarsk:20251106T170000
DTEND;TZID=Asia/Krasnoyarsk:20251106T200000
DTSTAMP:20260420T071118
CREATED:20251122T122522Z
LAST-MODIFIED:20251122T122546Z
UID:111108-1762448400-1762459200@axendacultural.aelg.gal
SUMMARY:Xornadas Gálix. Desfacendo a Raia XVII. Ensinar dende a LIX
DESCRIPTION:
URL:https://axendacultural.aelg.gal/event/compostela-xornadas-galix-desfacendo-a-raia-xvii-ensinar-dende-a-lix/
LOCATION:Escola Galega de Administración Pública\, Escola Galega de Administración Pública (Santiago de Compostela)\, Santiago de Compostela
CATEGORIES:Conferencias,Encontros e Xornadas,Infantil e xuvenil,Literatura e ensino,Teatro
END:VEVENT
BEGIN:VEVENT
DTSTART;TZID=Asia/Krasnoyarsk:20251107T200000
DTEND;TZID=Asia/Krasnoyarsk:20251107T213000
DTSTAMP:20260420T071118
CREATED:20251105T172725Z
LAST-MODIFIED:20251105T181357Z
UID:109673-1762545600-1762551000@axendacultural.aelg.gal
SUMMARY:Presentación de A miña gata Piu\, de Fernando González Graña
DESCRIPTION:
URL:https://axendacultural.aelg.gal/event/presentacion-de-a-mina-gata-piu-de-fernando-gonzalez-grana/
LOCATION:Museo do Moble e da Madeira da Estrada (MOME)\, Feira do Moble de Galicia\, A Estrada
CATEGORIES:Ilustración,Infantil e xuvenil,Literatura e ensino,Poesía,Presentación de libros
END:VEVENT
BEGIN:VEVENT
DTSTART;TZID=Asia/Krasnoyarsk:20251113T170000
DTEND;TZID=Asia/Krasnoyarsk:20251113T200000
DTSTAMP:20260420T071118
CREATED:20251122T122728Z
LAST-MODIFIED:20251122T122941Z
UID:111114-1763053200-1763064000@axendacultural.aelg.gal
SUMMARY:Xornadas Gálix. Desfacendo a Raia XVII. Ensinar dende a LIX
DESCRIPTION:
URL:https://axendacultural.aelg.gal/event/xornadas-galix-desfacendo-a-raia-xvii-ensinar-dende-a-lix/
LOCATION:Escola Galega de Administración Pública\, Escola Galega de Administración Pública (Santiago de Compostela)\, Santiago de Compostela
CATEGORIES:Conferencias,Encontros e Xornadas,Infantil e xuvenil,Literatura e ensino,Poesía
END:VEVENT
BEGIN:VEVENT
DTSTART;TZID=Asia/Krasnoyarsk:20251125T183000
DTEND;TZID=Asia/Krasnoyarsk:20251126T203000
DTSTAMP:20260420T071118
CREATED:20251121T132903Z
LAST-MODIFIED:20251121T133055Z
UID:111046-1764095400-1764189000@axendacultural.aelg.gal
SUMMARY:VIII Mostra de teatro escolar Olimpio Arca Caldas
DESCRIPTION:
URL:https://axendacultural.aelg.gal/event/viii-mostra-de-teatro-escolar-olimpio-arca-caldas/
LOCATION:Teatro Principal da Estrada\, Teatro Principal A Estrada\, A Estrada
CATEGORIES:Infantil e xuvenil,Literatura e ensino,Teatro,Teatro en escena
END:VEVENT
BEGIN:VEVENT
DTSTART;TZID=Asia/Krasnoyarsk:20251128T190000
DTEND;TZID=Asia/Krasnoyarsk:20251128T203000
DTSTAMP:20260420T071118
CREATED:20251119T170819Z
LAST-MODIFIED:20251119T171111Z
UID:110788-1764356400-1764361800@axendacultural.aelg.gal
SUMMARY:Presentación de Nais\, de Charo Valcárcel
DESCRIPTION:
URL:https://axendacultural.aelg.gal/event/presentacion-de-nais-de-charo-valcarcel/
LOCATION:IES Valle-Inclán Pontevedra\, IES Valle-Inclán\, Pontevedra
CATEGORIES:Literatura e ensino,Narrativa,Presentación de libros
END:VEVENT
END:VCALENDAR