BEGIN:VCALENDAR
VERSION:2.0
PRODID:-//::Axenda cultural AELG:: - ECPv6.6.4.2//NONSGML v1.0//EN
CALSCALE:GREGORIAN
METHOD:PUBLISH
X-WR-CALNAME:::Axenda cultural AELG::
X-ORIGINAL-URL:https://axendacultural.aelg.gal
X-WR-CALDESC:Events for ::Axenda cultural AELG::
REFRESH-INTERVAL;VALUE=DURATION:PT1H
X-Robots-Tag:noindex
X-PUBLISHED-TTL:PT1H
BEGIN:VTIMEZONE
TZID:Asia/Krasnoyarsk
BEGIN:STANDARD
TZOFFSETFROM:+0700
TZOFFSETTO:+0700
TZNAME:+07
DTSTART:20260101T000000
END:STANDARD
END:VTIMEZONE
BEGIN:VEVENT
DTSTART;TZID=Asia/Krasnoyarsk:20260318T100000
DTEND;TZID=Asia/Krasnoyarsk:20260318T130000
DTSTAMP:20260420T155618
CREATED:20260312T094752Z
LAST-MODIFIED:20260312T095005Z
UID:115391-1773828000-1773838800@axendacultural.aelg.gal
SUMMARY:Xornada Ricardo Carvalho Calero e Ramón Otero Pedrayo: Memoria dunha fonda relación\, en Compostela
DESCRIPTION:
URL:https://axendacultural.aelg.gal/event/xornada-ricardo-carvalho-calero-e-ramon-otero-pedrayo-memoria-dunha-fonda-relacion-en-compostela/
LOCATION:Parlamento de Galicia\, Parlamento de Galicia\, Santiago de Compostela
CATEGORIES:Coloquios,Encontros e Xornadas,Ensaio,Literatura e ensino,Mesas redondas,Música,Narrativa,Poesía,Recitais,Teatro
END:VEVENT
BEGIN:VEVENT
DTSTART;TZID=Asia/Krasnoyarsk:20260323T104500
DTEND;TZID=Asia/Krasnoyarsk:20260323T194500
DTSTAMP:20260420T155618
CREATED:20260226T180053Z
LAST-MODIFIED:20260226T180350Z
UID:114821-1774262700-1774295100@axendacultural.aelg.gal
SUMMARY:Xornada Non hai fronteiras (ou si?): xornalismo e literatura nas letras galegas\, en Compostela
DESCRIPTION:
URL:https://axendacultural.aelg.gal/event/xornada-non-hai-fronteiras-ou-si-xornalismo-e-literatura-nas-letras-galegas-en-compostela/
LOCATION:Consello da Cultura Galega\, Pazo de Raxoi\, Santiago de Compostela
CATEGORIES:Encontros e Xornadas,Mesas redondas,Narrativa,Xornalismo
END:VEVENT
BEGIN:VEVENT
DTSTART;TZID=Asia/Krasnoyarsk:20260325T193000
DTEND;TZID=Asia/Krasnoyarsk:20260325T210000
DTSTAMP:20260420T155618
CREATED:20260318T130251Z
LAST-MODIFIED:20260318T130315Z
UID:115752-1774467000-1774472400@axendacultural.aelg.gal
SUMMARY:Mesa redonda Begoña Caamaño\, escritora (e) feminista\, en Vigo
DESCRIPTION:
URL:https://axendacultural.aelg.gal/event/mesa-redonda-begona-caamano-escritora-e-feminista-en-vigo/
LOCATION:A Morada (Vigo)\, A Morada\, Vigo
CATEGORIES:Mesas redondas,Narrativa,Sociedade
END:VEVENT
END:VCALENDAR