BEGIN:VCALENDAR
VERSION:2.0
PRODID:-//::Axenda cultural AELG:: - ECPv6.6.4.2//NONSGML v1.0//EN
CALSCALE:GREGORIAN
METHOD:PUBLISH
X-ORIGINAL-URL:https://axendacultural.aelg.gal
X-WR-CALDESC:Events for ::Axenda cultural AELG::
REFRESH-INTERVAL;VALUE=DURATION:PT1H
X-Robots-Tag:noindex
X-PUBLISHED-TTL:PT1H
BEGIN:VTIMEZONE
TZID:Asia/Krasnoyarsk
BEGIN:STANDARD
TZOFFSETFROM:+0700
TZOFFSETTO:+0700
TZNAME:+07
DTSTART:20250101T000000
END:STANDARD
END:VTIMEZONE
BEGIN:VEVENT
DTSTART;TZID=Asia/Krasnoyarsk:20251105T193000
DTEND;TZID=Asia/Krasnoyarsk:20251105T210000
DTSTAMP:20260420T022257
CREATED:20250925T055225Z
LAST-MODIFIED:20251105T181341Z
UID:108636-1762371000-1762376400@axendacultural.aelg.gal
SUMMARY:Presentación de Manual de camuflaxe\, de Samuel Merino
DESCRIPTION:
URL:https://axendacultural.aelg.gal/event/test/
LOCATION:Numax\, Rúa Concepción Arenal\, 9\, Santiago de Compostela
CATEGORIES:Poesía,Presentación de libros
END:VEVENT
BEGIN:VEVENT
DTSTART;TZID=Asia/Krasnoyarsk:20251106T193000
DTEND;TZID=Asia/Krasnoyarsk:20251106T210000
DTSTAMP:20260420T022257
CREATED:20251106T120611Z
LAST-MODIFIED:20251106T120847Z
UID:109761-1762457400-1762462800@axendacultural.aelg.gal
SUMMARY:Presentación de A pel do exilio\, de Silvia Penas
DESCRIPTION:
URL:https://axendacultural.aelg.gal/event/presentacion-de-a-pel-do-exilio-de-silvia-penas/
LOCATION:Libraría Paz\, Libraría Paz de Pontevedra\, Pontevedra
CATEGORIES:Coloquios,Poesía,Presentación de libros
END:VEVENT
BEGIN:VEVENT
DTSTART;TZID=Asia/Krasnoyarsk:20251107T190000
DTEND;TZID=Asia/Krasnoyarsk:20251107T203000
DTSTAMP:20260420T022257
CREATED:20251105T175138Z
LAST-MODIFIED:20251105T181301Z
UID:109681-1762542000-1762547400@axendacultural.aelg.gal
SUMMARY:Presentación de Manual de camuflaxe\, de Samuel Merino
DESCRIPTION:
URL:https://axendacultural.aelg.gal/event/bouzas-vigo-presentacion-de-manual-de-camuflaxe-de-samuel-merino/
LOCATION:Liceo Marítimo de Bouzas (Vigo)\, Liceo Marítimo de Bouzas\, Vigo
CATEGORIES:Poesía,Presentación de libros
END:VEVENT
BEGIN:VEVENT
DTSTART;TZID=Asia/Krasnoyarsk:20251107T193000
DTEND;TZID=Asia/Krasnoyarsk:20251107T210000
DTSTAMP:20260420T022257
CREATED:20251105T180543Z
LAST-MODIFIED:20251105T180624Z
UID:109703-1762543800-1762549200@axendacultural.aelg.gal
SUMMARY:Conferencia "Ler o mundo en Celanova. Poemas de Celso Emilio"\, por Xosé María Álvarez Cáccamo
DESCRIPTION:
URL:https://axendacultural.aelg.gal/event/conferencia-ler-o-mundo-en-celanova-poemas-de-celso-emilio-por-xose-maria-alvarez-caccamo/
LOCATION:Fundación Curros Enríquez (Celanova)\, Fundación Curros Enríquez\, Celanova
CATEGORIES:Conferencias,Poesía
END:VEVENT
BEGIN:VEVENT
DTSTART;TZID=Asia/Krasnoyarsk:20251107T193000
DTEND;TZID=Asia/Krasnoyarsk:20251107T210000
DTSTAMP:20260420T022257
CREATED:20251110T230203Z
LAST-MODIFIED:20251110T230305Z
UID:110078-1762543800-1762549200@axendacultural.aelg.gal
SUMMARY:Perfomance poética: Nao Cetácea. A resistencia mariñeira con Xosé Iglesias
DESCRIPTION:“O 7 de novembro\, ás 19.30 h\, na A. C. Alexandre Bóveda (Rúa Santo André\, 36\, 1º)\, na Coruña\, o poeta e mariñeiro Xosé Iglesias presentará unha performance poética e audiovisual.\nO acto\, de aproximadamente unha hora de duración\, combinará a creación plástica en directo (o autor pintará un tema mariño con acuarelas) coa proxección dunha peza audiovisual. Esta peza\, gravada a bordo do seu pesqueiro “Primero Villar”\, formúlase como un “canto poético ao mar” e\, á vez\, como un “berro de esperanza por un oficio que pouco a pouco vai chegando ao seu límite”.\nA intervención busca artellar un discurso sobre o mar desde o propio mar\, seguindo o ronsel de referentes como Manoel Antonio. Proxectaranse tamén videopoemas baseados nos seus catro poemarios anteriores: Transfusión Oceánica\, A relixión do mar\, Luces da Costa da Morte e Atlántico Norte\, Chamádeme Ismael.\nAdemais da performance\, presentarase a súa última publicación\, o álbum ilustrado Nao Cetácea (Editorial Canela)\, que continúa a liña da súa obra previa\, Nación Mar. Concibido como un “libro de resistencia mariñeira”\, Nao Cetácea recolle en 60 ilustracións anécdotas e historias dos pesqueiros do noso país\, ofrecendo unha testemuña gráfica e poética dunha cultura en profunda transformación.\nAs persoas interesadas poden inscribirse aquí.”
URL:https://axendacultural.aelg.gal/event/perfomance-poetica-nao-cetacea-a-resistencia-marineira-con-xose-iglesias/
LOCATION:Agrupación Cultural Alexandre Bóveda\, Asociación Cultural Alexandre Bóveda\, A Coruña
CATEGORIES:Poesía
END:VEVENT
BEGIN:VEVENT
DTSTART;TZID=Asia/Krasnoyarsk:20251107T200000
DTEND;TZID=Asia/Krasnoyarsk:20251107T213000
DTSTAMP:20260420T022257
CREATED:20251105T172725Z
LAST-MODIFIED:20251105T181357Z
UID:109673-1762545600-1762551000@axendacultural.aelg.gal
SUMMARY:Presentación de A miña gata Piu\, de Fernando González Graña
DESCRIPTION:
URL:https://axendacultural.aelg.gal/event/presentacion-de-a-mina-gata-piu-de-fernando-gonzalez-grana/
LOCATION:Museo do Moble e da Madeira da Estrada (MOME)\, Feira do Moble de Galicia\, A Estrada
CATEGORIES:Ilustración,Infantil e xuvenil,Literatura e ensino,Poesía,Presentación de libros
END:VEVENT
BEGIN:VEVENT
DTSTART;TZID=Asia/Krasnoyarsk:20251107T200000
DTEND;TZID=Asia/Krasnoyarsk:20251107T213000
DTSTAMP:20260420T022257
CREATED:20251110T221531Z
LAST-MODIFIED:20251110T221620Z
UID:110069-1762545600-1762551000@axendacultural.aelg.gal
SUMMARY:Presentación de Escrita oculta\, de Isolda Santiago
DESCRIPTION:
URL:https://axendacultural.aelg.gal/event/presentacion-de-escrita-oculta-de-isolda-santiago/
LOCATION:Numax\, Rúa Concepción Arenal\, 9\, Santiago de Compostela
CATEGORIES:Poesía,Presentación de libros
END:VEVENT
BEGIN:VEVENT
DTSTART;TZID=Asia/Krasnoyarsk:20251107T200000
DTEND;TZID=Asia/Krasnoyarsk:20251107T213000
DTSTAMP:20260420T022257
CREATED:20251110T225728Z
LAST-MODIFIED:20251110T225902Z
UID:110071-1762545600-1762551000@axendacultural.aelg.gal
SUMMARY:Presentación de Pequena vida salvaxe\, de Roberto X. Hermida
DESCRIPTION:
URL:https://axendacultural.aelg.gal/event/presentacion-de-pequena-vida-salvaxe-de-roberto-x-hermida/
LOCATION:Biblioteca Municipal Enrique Rivera Rouco das Pontes\, Biblioteca pública municipal As Pontes\, As Pontes
CATEGORIES:Poesía,Presentación de libros
END:VEVENT
BEGIN:VEVENT
DTSTART;TZID=Asia/Krasnoyarsk:20251108T123000
DTEND;TZID=Asia/Krasnoyarsk:20251108T140000
DTSTAMP:20260420T022257
CREATED:20251106T191630Z
LAST-MODIFIED:20251106T191630Z
UID:109797-1762605000-1762610400@axendacultural.aelg.gal
SUMMARY:Presentación de Conecta co íntimo\, de David Otero
DESCRIPTION:
URL:https://axendacultural.aelg.gal/event/presentacion-de-conecta-co-intimo-de-david-otero/
LOCATION:OZOCOgz (O Carballiño)\, OZOCOgz Deseño Galego\, O Carballiño
CATEGORIES:Poesía,Presentación de libros,Recitais
END:VEVENT
BEGIN:VEVENT
DTSTART;VALUE=DATE:20251110
DTEND;VALUE=DATE:20251112
DTSTAMP:20260420T022257
CREATED:20251126T233002Z
LAST-MODIFIED:20251126T233450Z
UID:111438-1762732800-1762905599@axendacultural.aelg.gal
SUMMARY:Colóquio Internacional Sob o Signo de Camões. Cânones e Heterodoxias
DESCRIPTION:
URL:https://axendacultural.aelg.gal/event/coloquio-internacional-sob-o-signo-de-camoes-canones-e-heterodoxias/
LOCATION:Biblioteca Nacional de Portugal\, Biblioteca Nacional de Portugal\, Lisboa
CATEGORIES:Coloquios,Conferencias,Encontros e Xornadas,Lusofonia,Poesía
END:VEVENT
BEGIN:VEVENT
DTSTART;TZID=Asia/Krasnoyarsk:20251112T183000
DTEND;TZID=Asia/Krasnoyarsk:20251112T200000
DTSTAMP:20260420T022257
CREATED:20251110T174428Z
LAST-MODIFIED:20251110T174543Z
UID:109934-1762972200-1762977600@axendacultural.aelg.gal
SUMMARY:Encontro con Yolanda Castaño arredor de ‘A falsa autónoma’
DESCRIPTION:O 12 de novembro\, ás 18:30 h.\, no salón de actos da Biblioteca Miguel González Garcés da Coruña (Rúa González Garcés\, 1)\, o club de lectura da Biblioteca terá un encontro con Yolanda Castaño arredor de A falsa autónoma\, onde a autora ofrecerá un paseo guiado polos textos do seu último poemario desvelando motivos\, lecturas e debates ilustrados co recital dos propios poemas. A entrada será libre até completar a capacidade da sala.
URL:https://axendacultural.aelg.gal/event/encontro-con-yolanda-castano-arredor-de-a-falsa-autonoma/
LOCATION:Biblioteca Pública da Coruña Miguel González Garcés\, Biblioteca Pública da Coruña Miguel González Garcés\, A Coruña
CATEGORIES:Coloquios,Lectura,Poesía
END:VEVENT
BEGIN:VEVENT
DTSTART;TZID=Asia/Krasnoyarsk:20251113T170000
DTEND;TZID=Asia/Krasnoyarsk:20251113T200000
DTSTAMP:20260420T022257
CREATED:20251122T122728Z
LAST-MODIFIED:20251122T122941Z
UID:111114-1763053200-1763064000@axendacultural.aelg.gal
SUMMARY:Xornadas Gálix. Desfacendo a Raia XVII. Ensinar dende a LIX
DESCRIPTION:
URL:https://axendacultural.aelg.gal/event/xornadas-galix-desfacendo-a-raia-xvii-ensinar-dende-a-lix/
LOCATION:Escola Galega de Administración Pública\, Escola Galega de Administración Pública (Santiago de Compostela)\, Santiago de Compostela
CATEGORIES:Conferencias,Encontros e Xornadas,Infantil e xuvenil,Literatura e ensino,Poesía
END:VEVENT
BEGIN:VEVENT
DTSTART;TZID=Asia/Krasnoyarsk:20251113T203000
DTEND;TZID=Asia/Krasnoyarsk:20251113T220000
DTSTAMP:20260420T022257
CREATED:20251111T104147Z
LAST-MODIFIED:20251111T104342Z
UID:110137-1763065800-1763071200@axendacultural.aelg.gal
SUMMARY:De corpo e palabra
DESCRIPTION:
URL:https://axendacultural.aelg.gal/event/de-corpo-e-palabra/
LOCATION:Centro Ágora\, Centro Ágora\, A Coruña
CATEGORIES:Danza,Espectáculos,Música,Poesía,Recitais,Teatro
END:VEVENT
BEGIN:VEVENT
DTSTART;TZID=Asia/Krasnoyarsk:20251113T203000
DTEND;TZID=Asia/Krasnoyarsk:20251113T220000
DTSTAMP:20260420T022257
CREATED:20251117T090110Z
LAST-MODIFIED:20251118T224918Z
UID:110539-1763065800-1763071200@axendacultural.aelg.gal
SUMMARY:Presentación de Tocadoras do Val do Dubra e arte menor
DESCRIPTION:
URL:https://axendacultural.aelg.gal/event/presentacion-de-tocadoras-do-val-do-dubra-e-arte-menor/
LOCATION:Círculo de Recreo – Casino de Lalín\, Café Casino de Lalín\, Lalín
CATEGORIES:Divulgación,Oralidade,Poesía,Presentación de libros
END:VEVENT
BEGIN:VEVENT
DTSTART;TZID=Asia/Krasnoyarsk:20251114T180000
DTEND;TZID=Asia/Krasnoyarsk:20251114T193000
DTSTAMP:20260420T022257
CREATED:20251107T073216Z
LAST-MODIFIED:20251110T095619Z
UID:109808-1763143200-1763148600@axendacultural.aelg.gal
SUMMARY:Presentación de O faiado das papoulas\, de Baia Fernández de la Torre
DESCRIPTION:
URL:https://axendacultural.aelg.gal/event/presentacion-de-o-faiado-das-papoulas-de-baia-fernandez-de-la-torre/
LOCATION:Casa do Pobo de Anceu (Pontecaldelas)\, Casa do Pobo de Anceu\, Pontecaldelas
CATEGORIES:Poesía,Presentación de libros
END:VEVENT
BEGIN:VEVENT
DTSTART;TZID=Asia/Krasnoyarsk:20251114T190000
DTEND;TZID=Asia/Krasnoyarsk:20251114T203000
DTSTAMP:20260420T022257
CREATED:20251111T095858Z
LAST-MODIFIED:20251111T095940Z
UID:110119-1763146800-1763152200@axendacultural.aelg.gal
SUMMARY:Recital poético-audiovisual de Véndoche un poema\, de Fran Alonso
DESCRIPTION:
URL:https://axendacultural.aelg.gal/event/recital-poetico-audiovisual-de-vendoche-un-poema-de-fran-alonso/
LOCATION:ULA Libraría Social\, ULA Libraría Social\, Serra de Outes
CATEGORIES:Audiovisual,Poesía,Recitais
END:VEVENT
BEGIN:VEVENT
DTSTART;TZID=Asia/Krasnoyarsk:20251114T190000
DTEND;TZID=Asia/Krasnoyarsk:20251114T203000
DTSTAMP:20260420T022257
CREATED:20251111T221519Z
LAST-MODIFIED:20251119T100922Z
UID:110154-1763146800-1763152200@axendacultural.aelg.gal
SUMMARY:Presentación de Amor Palimpsesta\, de Helena Salgueiro
DESCRIPTION:
URL:https://axendacultural.aelg.gal/event/presentacion-de-amor-palimpsesta-de-helena-salgueiro/
LOCATION:Casa da Cultura de Sarria\, Casa da Cultura de Sarria\, Sarria
CATEGORIES:Poesía,Presentación de libros
END:VEVENT
BEGIN:VEVENT
DTSTART;TZID=Asia/Krasnoyarsk:20251114T200000
DTEND;TZID=Asia/Krasnoyarsk:20251114T213000
DTSTAMP:20260420T022257
CREATED:20251110T212939Z
LAST-MODIFIED:20251110T213141Z
UID:109992-1763150400-1763155800@axendacultural.aelg.gal
SUMMARY:Presentación de Seis leiras e un piano\, de Claudia Castro
DESCRIPTION:
URL:https://axendacultural.aelg.gal/event/presentacion-de-seis-leiras-e-un-piano-de-claudia-castro/
LOCATION:Berbiriana\, Berbiriana\, A Coruña
CATEGORIES:Infantil e xuvenil,Música,Poesía,Presentación de libros
END:VEVENT
BEGIN:VEVENT
DTSTART;TZID=Asia/Krasnoyarsk:20251115T120000
DTEND;TZID=Asia/Krasnoyarsk:20251115T133000
DTSTAMP:20260420T022257
CREATED:20251110T172538Z
LAST-MODIFIED:20251110T172623Z
UID:109918-1763208000-1763213400@axendacultural.aelg.gal
SUMMARY:Presentación de Véndoche un poema\, de Fran Alonso
DESCRIPTION:
URL:https://axendacultural.aelg.gal/event/presentacion-de-vendoche-un-poema-de-fran-alonso/
LOCATION:Biblioteca Pública Municipal Central de Bueu\, Biblioteca Pública Municipal Central de Bueu\, Bueu
CATEGORIES:Poesía,Presentación de libros,Recitais
END:VEVENT
BEGIN:VEVENT
DTSTART;TZID=Asia/Krasnoyarsk:20251117T200000
DTEND;TZID=Asia/Krasnoyarsk:20251117T213000
DTSTAMP:20260420T022257
CREATED:20251117T223306Z
LAST-MODIFIED:20251117T223402Z
UID:110582-1763409600-1763415000@axendacultural.aelg.gal
SUMMARY:Recital de Reshma Maresh e Yamini T. Prabhu no Ciclo Poetas Di(n)versos
DESCRIPTION:
URL:https://axendacultural.aelg.gal/event/recital-de-reshma-maresh-e-yamini-t-prabhu-no-ciclo-poetas-dinversos/
LOCATION:Centro Ágora\, Centro Ágora\, A Coruña
CATEGORIES:Internacional,Poesía,Recitais
END:VEVENT
BEGIN:VEVENT
DTSTART;TZID=Asia/Krasnoyarsk:20251118T190000
DTEND;TZID=Asia/Krasnoyarsk:20251118T203000
DTSTAMP:20260420T022257
CREATED:20251113T222829Z
LAST-MODIFIED:20251113T222837Z
UID:110270-1763492400-1763497800@axendacultural.aelg.gal
SUMMARY:Presentación de Vostede está aquí\, de Antía Marante
DESCRIPTION:
URL:https://axendacultural.aelg.gal/event/presentacion-de-vostede-esta-aqui-de-antia-marante/
LOCATION:Berbiriana\, Berbiriana\, A Coruña
CATEGORIES:Poesía,Presentación de libros
END:VEVENT
BEGIN:VEVENT
DTSTART;TZID=Asia/Krasnoyarsk:20251119T110000
DTEND;TZID=Asia/Krasnoyarsk:20251119T130000
DTSTAMP:20260420T022257
CREATED:20251116T165511Z
LAST-MODIFIED:20251116T165555Z
UID:110398-1763550000-1763557200@axendacultural.aelg.gal
SUMMARY:Presentación de Scripta Manent. 50 anos de memoria e palabra
DESCRIPTION:
URL:https://axendacultural.aelg.gal/event/presentacion-de-scripta-manent-50-anos-de-memoria-e-palabra/
LOCATION:Facultade de Filoloxía (USC)\, Facultade de Filoloxía (USC)\, Santiago de Compostela
CATEGORIES:Exposicións,Lectura,Poesía,Presentación de libros,Recitais
END:VEVENT
BEGIN:VEVENT
DTSTART;TZID=Asia/Krasnoyarsk:20251119T190000
DTEND;TZID=Asia/Krasnoyarsk:20251119T203000
DTSTAMP:20260420T022257
CREATED:20251112T211701Z
LAST-MODIFIED:20251112T211701Z
UID:110197-1763578800-1763584200@axendacultural.aelg.gal
SUMMARY:presentación de O faiado das papoulas\, de Baia Fernández de la Torre
DESCRIPTION:
URL:https://axendacultural.aelg.gal/event/presentacion-de-o-faiado-das-papoulas-de-baia-fernandez-de-la-torre-2/
LOCATION:Casa das Formigas\, Casa das Formigas\, Cambados
CATEGORIES:Ilustración,Poesía,Presentación de libros
END:VEVENT
BEGIN:VEVENT
DTSTART;TZID=Asia/Krasnoyarsk:20251119T193000
DTEND;TZID=Asia/Krasnoyarsk:20251119T210000
DTSTAMP:20260420T022257
CREATED:20251117T092018Z
LAST-MODIFIED:20251117T092301Z
UID:110548-1763580600-1763586000@axendacultural.aelg.gal
SUMMARY:Presentación de Sereas afónicas\, de Luísa Abad
DESCRIPTION:
URL:https://axendacultural.aelg.gal/event/presentacion-de-sereas-afonicas-de-luisa-abad/
LOCATION:Afundación Santiago de Compostela\, Sede Afundación Santiago de Compostela\, Santiago de Compostela
CATEGORIES:Música,Poesía,Presentación de libros
END:VEVENT
BEGIN:VEVENT
DTSTART;TZID=Asia/Krasnoyarsk:20251119T200000
DTEND;TZID=Asia/Krasnoyarsk:20251119T213000
DTSTAMP:20260420T022257
CREATED:20251114T200651Z
LAST-MODIFIED:20251114T200710Z
UID:110357-1763582400-1763587800@axendacultural.aelg.gal
SUMMARY:Presentación de Love me tender\, de Ana Romaní
DESCRIPTION:
URL:https://axendacultural.aelg.gal/event/presentacion-de-love-me-tender-de-ana-romani/
LOCATION:Libraría Pedreira\, Libraría Pedreira\, Santiago de Compostela
CATEGORIES:Poesía,Presentación de libros
END:VEVENT
BEGIN:VEVENT
DTSTART;TZID=Asia/Krasnoyarsk:20251119T200000
DTEND;TZID=Asia/Krasnoyarsk:20251119T213000
DTSTAMP:20260420T022257
CREATED:20251116T215757Z
LAST-MODIFIED:20251116T215808Z
UID:110499-1763582400-1763587800@axendacultural.aelg.gal
SUMMARY:Presentación de Laudatio funebris\, de Andrés Díaz e Eva Moreda
DESCRIPTION:
URL:https://axendacultural.aelg.gal/event/presentacion-de-laudatio-funebris-de-andres-diaz-e-eva-moreda/
LOCATION:Amigos dos Museos de Galicia – Portas Ártabras\, Amigos dos Museos de Galicia - Portas Ártabras\, A Coruña
CATEGORIES:Ensaio,Poesía,Presentación de libros
END:VEVENT
BEGIN:VEVENT
DTSTART;TZID=Asia/Krasnoyarsk:20251120T193000
DTEND;TZID=Asia/Krasnoyarsk:20251120T210000
DTSTAMP:20260420T022257
CREATED:20251116T210211Z
LAST-MODIFIED:20251116T210245Z
UID:110433-1763667000-1763672400@axendacultural.aelg.gal
SUMMARY:Presentación de Manual de camuflaxe\, de Samuel Merino
DESCRIPTION:
URL:https://axendacultural.aelg.gal/event/presentacion-de-manual-de-camuflaxe-de-samuel-merino/
LOCATION:Libraría Eixo\, Librería Eixo\, Ourense
CATEGORIES:Poesía,Presentación de libros
END:VEVENT
BEGIN:VEVENT
DTSTART;TZID=Asia/Krasnoyarsk:20251120T200000
DTEND;TZID=Asia/Krasnoyarsk:20251120T210000
DTSTAMP:20260420T022257
CREATED:20251118T175837Z
LAST-MODIFIED:20251211T175940Z
UID:112251-1763668800-1763672400@axendacultural.aelg.gal
SUMMARY:Presentación de Diapasón desastre\, de Vanessa Glemsel\, en Vigo
DESCRIPTION:
URL:https://axendacultural.aelg.gal/event/presentacion-de-diapason-desastre-de-vanessa-glemsel-en-vigo/
LOCATION:A Morada (Vigo)\, A Morada\, Vigo
CATEGORIES:Poesía,Presentación de libros
END:VEVENT
BEGIN:VEVENT
DTSTART;TZID=Asia/Krasnoyarsk:20251120T200000
DTEND;TZID=Asia/Krasnoyarsk:20251120T213000
DTSTAMP:20260420T022257
CREATED:20251116T222452Z
LAST-MODIFIED:20251118T224906Z
UID:110512-1763668800-1763674200@axendacultural.aelg.gal
SUMMARY:Presentación de arte menor\, de Susana Sanches Arins
DESCRIPTION:
URL:https://axendacultural.aelg.gal/event/presentacion-de-arte-menor-de-susana-sanches-arins/
LOCATION:A Cova Céltica\, A Cova Céltica\, A Coruña
CATEGORIES:Música,Poesía,Presentación de libros
END:VEVENT
BEGIN:VEVENT
DTSTART;TZID=Asia/Krasnoyarsk:20251120T200000
DTEND;TZID=Asia/Krasnoyarsk:20251120T213000
DTSTAMP:20260420T022257
CREATED:20251119T110648Z
LAST-MODIFIED:20251207T110835Z
UID:111976-1763668800-1763674200@axendacultural.aelg.gal
SUMMARY:Presentación de Mundo Carne\, de Branca Trigo
DESCRIPTION:
URL:https://axendacultural.aelg.gal/event/presentacion-de-mundo-carne-de-branca-trigo/
LOCATION:Libraría Cartabón\, Libraría Cartabón\, Vigo
CATEGORIES:Ilustración,Poesía,Presentación de libros
END:VEVENT
END:VCALENDAR