BEGIN:VCALENDAR
VERSION:2.0
PRODID:-//::Axenda cultural AELG:: - ECPv6.6.4.2//NONSGML v1.0//EN
CALSCALE:GREGORIAN
METHOD:PUBLISH
X-ORIGINAL-URL:https://axendacultural.aelg.gal
X-WR-CALDESC:Events for ::Axenda cultural AELG::
REFRESH-INTERVAL;VALUE=DURATION:PT1H
X-Robots-Tag:noindex
X-PUBLISHED-TTL:PT1H
BEGIN:VTIMEZONE
TZID:Asia/Krasnoyarsk
BEGIN:STANDARD
TZOFFSETFROM:+0700
TZOFFSETTO:+0700
TZNAME:+07
DTSTART:20260101T000000
END:STANDARD
END:VTIMEZONE
BEGIN:VEVENT
DTSTART;TZID=Asia/Krasnoyarsk:20260102T200000
DTEND;TZID=Asia/Krasnoyarsk:20260102T213000
DTSTAMP:20260419T230300
CREATED:20251228T224548Z
LAST-MODIFIED:20251228T224644Z
UID:112678-1767384000-1767389400@axendacultural.aelg.gal
SUMMARY:Presentación de Marusía\, de Luís Chapela Bermúdez\, en Moaña
DESCRIPTION:
URL:https://axendacultural.aelg.gal/event/presentacion-de-marusia-de-luis-chapela-bermudez-en-moana/
CATEGORIES:Poesía,Presentación de libros
END:VEVENT
BEGIN:VEVENT
DTSTART;TZID=Asia/Krasnoyarsk:20260103T110000
DTEND;TZID=Asia/Krasnoyarsk:20260103T130000
DTSTAMP:20260419T230300
CREATED:20251231T163925Z
LAST-MODIFIED:20251231T163936Z
UID:112732-1767438000-1767445200@axendacultural.aelg.gal
SUMMARY:Claudia Castro firma os seus libros en Teo
DESCRIPTION:
URL:https://axendacultural.aelg.gal/event/claudia-castro-firma-os-seus-libros-en-teo/
LOCATION:A Vagoneta Educativa\, A VAGONETA EDUCATIVA\, Teo
CATEGORIES:Infantil e xuvenil,Narrativa,Poesía,Presentación de libros
END:VEVENT
BEGIN:VEVENT
DTSTART;TZID=Asia/Krasnoyarsk:20260108T200000
DTEND;TZID=Asia/Krasnoyarsk:20260108T213000
DTSTAMP:20260419T230300
CREATED:20260101T191759Z
LAST-MODIFIED:20260101T191846Z
UID:112741-1767902400-1767907800@axendacultural.aelg.gal
SUMMARY:Lançamento de Erótica é a alma das cereijas\, de Adela Figueroa Panisse\, em Lugo
DESCRIPTION:Fer
URL:https://axendacultural.aelg.gal/event/lancamento-de-erotica-e-a-alma-das-cereijas-de-adela-figueroa-panisse-em-lugo/
LOCATION:La Ferretería (Lugo)\, Rúa San Froilán\, 11\, Lugo
CATEGORIES:Música,Poesía,Presentación de libros
END:VEVENT
BEGIN:VEVENT
DTSTART;TZID=Asia/Krasnoyarsk:20260112T200000
DTEND;TZID=Asia/Krasnoyarsk:20260112T213000
DTSTAMP:20260419T230300
CREATED:20260109T112623Z
LAST-MODIFIED:20260109T112633Z
UID:112850-1768248000-1768253400@axendacultural.aelg.gal
SUMMARY:Presentación de O rumor do distante\, de Cesáreo Sánchez Iglesias\, na Coruña
DESCRIPTION:“O 12 de xaneiro\, ás 20:00 horas\, na A. C. Alexandre Bóveda da Coruña (Rúa Santo André\, 36\, 1º)\, terá lugar a presentación de O rumor do distante\, de Cesáreo Sánchez Iglesias\, publicado por Laiovento. O autor estará acompañado no acto por Estíbaliz Espinosa.\nAs humildes trazas dos camiños\, comunicando a montaña e o mar\, ao longo da historia da Galiza\, vertebraron a cultura de noso e a xeografía de parte de Europa. Trouxeron a camiñantes coa súa cultura e a súa visión do mundo e levaron de retorno á súa terra a ollada marabillada polas imaxes do sagrado\, dunha terra e dun pobo cunha cultura milenaria.\nEste longo poema que percorre os sete camiños (6+1) foi escrito paralelamente aos traballos do autor na protección do patrimonio cultural galego. Coa delimitación das súas trazas\, o poeta inicia a súa escrita\, constatando que somos un dos pobos que máis humanizou a natureza\, nun titánico traballo de séculos\, sedimentando o ser que nos constitúe\, dando nomes a lugares que significan e son o noso ADN\, e que neste poemario\, que obtivo o XX Premio Esquío de Poesía en Lingua Galega\, foron habitados da poesía.\nAo ollar cara atrás vemos os camiños submersos na banalización do seu significado cultural. Hoxe\, ollamos como a nosa terra segue a se desangrar nunha silente extenuación que destrúe o noso patrimonio cultural. Se permitimos a deshumanización da nosa terra desaparecerá aquilo que anainou a nosa identidade. Este proceso invisible de aculturación\, alén do espolio económico\, fainos parte dun proceso de destrución do patrimonio natural\, con minas que arrincan a dourada entraña\, envelenando as augas até nos converter nunha estéril terra morta.\nCesáreo Sánchez Iglesias (Dadín-Irixo\, 1951) é autor dunha ampla obra\, principiada en 1978 con Silencios e conversas de inverno. Estudou Arquitectura Técnica e Socioloxía e Ciencias Políticas en Madrid e foi un dos fundadores da Agrupación Cultural Lóstrego\, que presidiu. Continuou a manter unha posición dinámica dentro da creación do movemento asociativo cultural durante a transición. Foi presidente da A. C. Alexandre Bóveda e director de Edicións A Nosa Terra. Desde 2005 é o presidente da AELG.”
URL:https://axendacultural.aelg.gal/event/presentacion-de-o-rumor-do-distante-de-cesareo-sanchez-iglesias-na-coruna/
LOCATION:Agrupación Cultural Alexandre Bóveda\, Asociación Cultural Alexandre Bóveda\, A Coruña
CATEGORIES:Poesía,Presentación de libros
END:VEVENT
BEGIN:VEVENT
DTSTART;TZID=Asia/Krasnoyarsk:20260114T200000
DTEND;TZID=Asia/Krasnoyarsk:20260114T213000
DTSTAMP:20260419T230300
CREATED:20260111T173010Z
LAST-MODIFIED:20260112T202015Z
UID:112918-1768420800-1768426200@axendacultural.aelg.gal
SUMMARY:Presentación de Catro décadas. Poesía 1983-2023\, de Xosé María Álvarez Cáccamo\, na Coruña
DESCRIPTION:
URL:https://axendacultural.aelg.gal/event/presentacion-de-catro-decadas-poesia-1983-2023-de-xose-maria-alvarez-caccamo-na-coruna/
LOCATION:Amigos dos Museos de Galicia – Portas Ártabras\, Amigos dos Museos de Galicia - Portas Ártabras\, A Coruña
CATEGORIES:Poesía,Presentación de libros
END:VEVENT
BEGIN:VEVENT
DTSTART;TZID=Asia/Krasnoyarsk:20260115T190000
DTEND;TZID=Asia/Krasnoyarsk:20260115T203000
DTSTAMP:20260419T230300
CREATED:20260102T170834Z
LAST-MODIFIED:20260102T170858Z
UID:112785-1768503600-1768509000@axendacultural.aelg.gal
SUMMARY:Presentación de Somos\, de Luís Valle\, en Compostela
DESCRIPTION:
URL:https://axendacultural.aelg.gal/event/presentacion-de-somos-de-luis-valle-en-compostela/
LOCATION:Libraría Pedreira\, Libraría Pedreira\, Santiago de Compostela
CATEGORIES:Poesía,Presentación de libros
END:VEVENT
BEGIN:VEVENT
DTSTART;TZID=Asia/Krasnoyarsk:20260115T193000
DTEND;TZID=Asia/Krasnoyarsk:20260115T210000
DTSTAMP:20260419T230300
CREATED:20260110T113611Z
LAST-MODIFIED:20260110T113611Z
UID:112858-1768505400-1768510800@axendacultural.aelg.gal
SUMMARY:Presentación do fotolibro Os ollos que ven o tempo\, de Carmen de Miguel e Emma Pedreira\, na Coruña
DESCRIPTION:
URL:https://axendacultural.aelg.gal/event/presentacion-do-fotolibro-os-ollos-que-ven-o-tempo-de-carmen-de-miguel-e-emma-pedreira-na-coruna/
LOCATION:Amigos dos Museos de Galicia – Portas Ártabras\, Amigos dos Museos de Galicia - Portas Ártabras\, A Coruña
CATEGORIES:Fotografía,Música,Poesía,Presentación de libros
END:VEVENT
BEGIN:VEVENT
DTSTART;TZID=Asia/Krasnoyarsk:20260115T200000
DTEND;TZID=Asia/Krasnoyarsk:20260115T213000
DTSTAMP:20260419T230300
CREATED:20260111T131925Z
LAST-MODIFIED:20260111T131925Z
UID:112898-1768507200-1768512600@axendacultural.aelg.gal
SUMMARY:Presentación de A cohesión da auga\, de Ramona Giráldez Domínguez\, en Vigo
DESCRIPTION:
URL:https://axendacultural.aelg.gal/event/presentacion-de-a-cohesion-da-auga-de-ramona-giraldez-dominguez-en-vigo/
LOCATION:Café UF Negra Sombra\, Café UF\, Vigo
CATEGORIES:Poesía,Presentación de libros
END:VEVENT
BEGIN:VEVENT
DTSTART;TZID=Asia/Krasnoyarsk:20260116T190000
DTEND;TZID=Asia/Krasnoyarsk:20260116T203000
DTSTAMP:20260419T230300
CREATED:20260112T171841Z
LAST-MODIFIED:20260112T171841Z
UID:112953-1768590000-1768595400@axendacultural.aelg.gal
SUMMARY:Presentación da tradución da Eneida\, de Virxilio\, en Carballo
DESCRIPTION:
URL:https://axendacultural.aelg.gal/event/presentacion-da-traducion-da-eneida-de-virxilio-en-carballo/
LOCATION:Libraría Brañas Verdes\, Librería Brañas Verdes (Carballo)\, Carballo
CATEGORIES:Poesía,Presentación de libros,Tradución
END:VEVENT
BEGIN:VEVENT
DTSTART;TZID=Asia/Krasnoyarsk:20260116T210000
DTEND;TZID=Asia/Krasnoyarsk:20260116T220000
DTSTAMP:20260419T230300
CREATED:20260111T221348Z
LAST-MODIFIED:20260111T221510Z
UID:112941-1768597200-1768600800@axendacultural.aelg.gal
SUMMARY:Concerto-recital Homenaxe a Castelao\, con Francisco Castro\, en Rianxo
DESCRIPTION:
URL:https://axendacultural.aelg.gal/event/concerto-recital-homenaxe-a-castelao-con-francisco-castro-en-rianxo/
LOCATION:Auditorio Municipal de Rianxo\, Auditorio Municipal de Rianxo\, Rianxo
CATEGORIES:Música,Narrativa,Poesía
END:VEVENT
BEGIN:VEVENT
DTSTART;TZID=Asia/Krasnoyarsk:20260118T133000
DTEND;TZID=Asia/Krasnoyarsk:20260118T143000
DTSTAMP:20260419T230300
CREATED:20260114T090016Z
LAST-MODIFIED:20260114T090108Z
UID:113031-1768743000-1768746600@axendacultural.aelg.gal
SUMMARY:Lançamento de Erótica é a alma das cereijas\, de Adela Figueroa\, em Vilar de Santos
DESCRIPTION:
URL:https://axendacultural.aelg.gal/event/lancamento-de-erotica-e-a-alma-das-cereijas-de-adela-figueroa-em-vilar-de-santos/
LOCATION:A Arca da Noe\, A Arca da Noe\, Vilar de Santos
CATEGORIES:Música,Poesía,Presentación de libros
END:VEVENT
BEGIN:VEVENT
DTSTART;TZID=Asia/Krasnoyarsk:20260121T200000
DTEND;TZID=Asia/Krasnoyarsk:20260121T213000
DTSTAMP:20260419T230300
CREATED:20260111T214710Z
LAST-MODIFIED:20260119T180427Z
UID:112925-1769025600-1769031000@axendacultural.aelg.gal
SUMMARY:Presentación de Memoria. Poesía selecta 1981-2023\, de Xavier Rodríguez Baixeras\, na Coruña
DESCRIPTION:
URL:https://axendacultural.aelg.gal/event/presentacion-de-memoria-poesia-selecta-1981-2023-de-xavier-rodriguez-baixeras-na-coruna/
LOCATION:Amigos dos Museos de Galicia – Portas Ártabras\, Amigos dos Museos de Galicia - Portas Ártabras\, A Coruña
CATEGORIES:Poesía,Presentación de libros
END:VEVENT
BEGIN:VEVENT
DTSTART;TZID=Asia/Krasnoyarsk:20260122T193000
DTEND;TZID=Asia/Krasnoyarsk:20260122T210000
DTSTAMP:20260419T230300
CREATED:20260127T232245Z
LAST-MODIFIED:20260127T232325Z
UID:113547-1769110200-1769115600@axendacultural.aelg.gal
SUMMARY:Presentación de Os pozos elegantes das clavículas\, de María Álvarez Landesa\, en Pontevedra
DESCRIPTION:
URL:https://axendacultural.aelg.gal/event/presentacion-de-os-pozos-elegantes-das-claviculas-de-maria-alvarez-landesa-en-pontevedra/
LOCATION:Libraría Paz\, Libraría Paz de Pontevedra\, Pontevedra
CATEGORIES:Poesía,Presentación de libros
END:VEVENT
BEGIN:VEVENT
DTSTART;TZID=Asia/Krasnoyarsk:20260124T124500
DTEND;TZID=Asia/Krasnoyarsk:20260124T140000
DTSTAMP:20260419T230300
CREATED:20260114T172803Z
LAST-MODIFIED:20260114T172825Z
UID:113069-1769258700-1769263200@axendacultural.aelg.gal
SUMMARY:Presentación de Celaxe\, de Alicia Fonteboa\, en Compostela
DESCRIPTION:
URL:https://axendacultural.aelg.gal/event/presentacion-de-celaxe-de-alicia-fonteboa-en-compostela/
LOCATION:Libraría Couceiro\, Librería Couceiro\, Santiago de Compostela
CATEGORIES:Poesía,Presentación de libros
END:VEVENT
BEGIN:VEVENT
DTSTART;TZID=Asia/Krasnoyarsk:20260126T200000
DTEND;TZID=Asia/Krasnoyarsk:20260126T210000
DTSTAMP:20260419T230300
CREATED:20260122T134115Z
LAST-MODIFIED:20260122T134126Z
UID:113247-1769457600-1769461200@axendacultural.aelg.gal
SUMMARY:Recital de Lupe Gómez e Wole Soyinka no Ciclo Poetas Di(n)versos\, na Coruña
DESCRIPTION:
URL:https://axendacultural.aelg.gal/event/recital-de-lupe-gomez-e-wole-soyinka-no-ciclo-poetas-dinversos-na-coruna/
LOCATION:Centro Ágora\, Centro Ágora\, A Coruña
CATEGORIES:Internacional,Poesía,Recitais,Tradución
END:VEVENT
BEGIN:VEVENT
DTSTART;TZID=Asia/Krasnoyarsk:20260128T200000
DTEND;TZID=Asia/Krasnoyarsk:20260128T213000
DTSTAMP:20260419T230300
CREATED:20260111T215810Z
LAST-MODIFIED:20260126T173649Z
UID:112933-1769630400-1769635800@axendacultural.aelg.gal
SUMMARY:Presentación de O canto da terra. 1978-2023\, de Xavier Seoane\, na Coruña
DESCRIPTION:
URL:https://axendacultural.aelg.gal/event/presentacion-de-o-canto-da-terra-1978-2023-de-xavier-seoane-na-coruna/
LOCATION:Amigos dos Museos de Galicia – Portas Ártabras\, Amigos dos Museos de Galicia - Portas Ártabras\, A Coruña
CATEGORIES:Poesía,Presentación de libros
END:VEVENT
BEGIN:VEVENT
DTSTART;TZID=Asia/Krasnoyarsk:20260129T180000
DTEND;TZID=Asia/Krasnoyarsk:20260129T193000
DTSTAMP:20260419T230300
CREATED:20260121T224620Z
LAST-MODIFIED:20260416T103046Z
UID:113215-1769709600-1769715000@axendacultural.aelg.gal
SUMMARY:Presentación de O pouco tempo que nos queda\, de Nila A. Pousa\, na Coruña
DESCRIPTION:
URL:https://axendacultural.aelg.gal/event/presentacion-de-o-pouco-tempo-que-nos-queda-de-nila-a-pousa-na-coruna/
LOCATION:Sto lat art (A Coruña)\, Rúa San Vicente\, 65\, A Coruña
CATEGORIES:Poesía,Presentación de libros,Recitais
END:VEVENT
BEGIN:VEVENT
DTSTART;TZID=Asia/Krasnoyarsk:20260129T200000
DTEND;TZID=Asia/Krasnoyarsk:20260129T213000
DTSTAMP:20260419T230300
CREATED:20260120T115620Z
LAST-MODIFIED:20260120T115656Z
UID:113151-1769716800-1769722200@axendacultural.aelg.gal
SUMMARY:Presentación de Somos\, de Luís Valle\, en Vigo
DESCRIPTION:
URL:https://axendacultural.aelg.gal/event/presentacion-de-somos-de-luis-valle-en-vigo/
LOCATION:Café De catro a catro\, Café De catro a catro\, Vigo
CATEGORIES:Poesía,Presentación de libros
END:VEVENT
BEGIN:VEVENT
DTSTART;TZID=Asia/Krasnoyarsk:20260129T201500
DTEND;TZID=Asia/Krasnoyarsk:20260129T213000
DTSTAMP:20260419T230300
CREATED:20260121T223416Z
LAST-MODIFIED:20260121T223523Z
UID:113196-1769717700-1769722200@axendacultural.aelg.gal
SUMMARY:Presentación de Agora\, eu cariota\, de Xosé Gago\, en Monforte de Lemos
DESCRIPTION:
URL:https://axendacultural.aelg.gal/event/presentacion-de-agora-eu-cariota-de-xose-gago-en-monforte-de-lemos/
LOCATION:Restaurante Trespés (Monforte de Lemos)\, Trespés\, Monforte de Lemos
CATEGORIES:Poesía,Presentación de libros
END:VEVENT
BEGIN:VEVENT
DTSTART;TZID=Asia/Krasnoyarsk:20260130T200000
DTEND;TZID=Asia/Krasnoyarsk:20260130T210000
DTSTAMP:20260419T230300
CREATED:20260114T125944Z
LAST-MODIFIED:20260114T125958Z
UID:113041-1769803200-1769806800@axendacultural.aelg.gal
SUMMARY:Presentación de Rompente\, de Ana López\, na Coruña
DESCRIPTION:
URL:https://axendacultural.aelg.gal/event/presentacion-de-rompente-de-ana-lopez-na-coruna/
LOCATION:Amigos dos Museos de Galicia – Portas Ártabras\, Amigos dos Museos de Galicia - Portas Ártabras\, A Coruña
CATEGORIES:Poesía,Presentación de libros
END:VEVENT
BEGIN:VEVENT
DTSTART;TZID=Asia/Krasnoyarsk:20260130T203000
DTEND;TZID=Asia/Krasnoyarsk:20260130T220000
DTSTAMP:20260419T230300
CREATED:20260124T223136Z
LAST-MODIFIED:20260124T223854Z
UID:113362-1769805000-1769810400@axendacultural.aelg.gal
SUMMARY:A cegueira intrépida: festa poética para públicos impúdicos\, en Bertamiráns
DESCRIPTION:
URL:https://axendacultural.aelg.gal/event/a-cegueira-intrepida-festa-poetica-para-publicos-impudicos-en-bertamirans/
LOCATION:Libraría Bandini\, Bandini Libros\, S.L.\, Bertamiráns (Ames)
CATEGORIES:Música,Poesía,Recitais
END:VEVENT
BEGIN:VEVENT
DTSTART;TZID=Asia/Krasnoyarsk:20260131T120000
DTEND;TZID=Asia/Krasnoyarsk:20260131T170000
DTSTAMP:20260419T230300
CREATED:20260124T213114Z
LAST-MODIFIED:20260124T213253Z
UID:113292-1769860800-1769878800@axendacultural.aelg.gal
SUMMARY:Homenaxe a Pepita de Bonxe\, en Vilalba
DESCRIPTION:
URL:https://axendacultural.aelg.gal/event/homenaxe-a-pepita-de-bonxe-en-vilalba/
LOCATION:Muíño do Rañego\, Muíño do Rañego\, Vilalba
CATEGORIES:Homenaxes,Poesía,Recitais
END:VEVENT
BEGIN:VEVENT
DTSTART;TZID=Asia/Krasnoyarsk:20260131T123000
DTEND;TZID=Asia/Krasnoyarsk:20260131T140000
DTSTAMP:20260419T230300
CREATED:20260127T223837Z
LAST-MODIFIED:20260127T223837Z
UID:113526-1769862600-1769868000@axendacultural.aelg.gal
SUMMARY:Presentación de Inventaria\, de Emma Pedreira\, en Pontevedra
DESCRIPTION:
URL:https://axendacultural.aelg.gal/event/presentacion-de-inventaria-de-emma-pedreira-en-pontevedra/
LOCATION:Libraría Paz\, Libraría Paz de Pontevedra\, Pontevedra
CATEGORIES:Coloquios,Poesía,Presentación de libros
END:VEVENT
BEGIN:VEVENT
DTSTART;TZID=Asia/Krasnoyarsk:20260131T180000
DTEND;TZID=Asia/Krasnoyarsk:20260131T193000
DTSTAMP:20260419T230300
CREATED:20260126T103738Z
LAST-MODIFIED:20260126T104014Z
UID:113437-1769882400-1769887800@axendacultural.aelg.gal
SUMMARY:Presentación de Os ausentes\, de Jacobo Barros López\, Cativo\, en Camelle
DESCRIPTION:
URL:https://axendacultural.aelg.gal/event/presentacion-de-os-ausentes-de-jacobo-barros-lopez-cativo-en-camelle/
LOCATION:Museo de Man\, Museo do Alemán\, Camelle
CATEGORIES:Poesía,Presentación de libros
END:VEVENT
BEGIN:VEVENT
DTSTART;TZID=Asia/Krasnoyarsk:20260131T190000
DTEND;TZID=Asia/Krasnoyarsk:20260131T203000
DTSTAMP:20260419T230300
CREATED:20260127T222715Z
LAST-MODIFIED:20260127T222858Z
UID:113513-1769886000-1769891400@axendacultural.aelg.gal
SUMMARY:Presentación de Nación Mar e Nao cetácea\, de Xosé Iglesias\, en Muxía
DESCRIPTION:
URL:https://axendacultural.aelg.gal/event/presentacion-de-nacion-mar-e-nao-cetacea-de-xose-iglesias-en-muxia/
LOCATION:Lonxa de Muxía\, Mercado do Peixe de Muxía\, Muxía
CATEGORIES:Ilustración,Poesía,Presentación de libros
END:VEVENT
END:VCALENDAR