BEGIN:VCALENDAR
VERSION:2.0
PRODID:-//::Axenda cultural AELG:: - ECPv6.6.4.2//NONSGML v1.0//EN
CALSCALE:GREGORIAN
METHOD:PUBLISH
X-WR-CALNAME:::Axenda cultural AELG::
X-ORIGINAL-URL:https://axendacultural.aelg.gal
X-WR-CALDESC:Events for ::Axenda cultural AELG::
REFRESH-INTERVAL;VALUE=DURATION:PT1H
X-Robots-Tag:noindex
X-PUBLISHED-TTL:PT1H
BEGIN:VTIMEZONE
TZID:Asia/Krasnoyarsk
BEGIN:STANDARD
TZOFFSETFROM:+0700
TZOFFSETTO:+0700
TZNAME:+07
DTSTART:20250101T000000
END:STANDARD
END:VTIMEZONE
BEGIN:VEVENT
DTSTART;TZID=Asia/Krasnoyarsk:20251122T123000
DTEND;TZID=Asia/Krasnoyarsk:20251122T133000
DTSTAMP:20260420T040535
CREATED:20251121T131145Z
LAST-MODIFIED:20251121T131336Z
UID:111041-1763814600-1763818200@axendacultural.aelg.gal
SUMMARY:Entrega de premios do VIII Certame de poesía Torre de Caldaloba
DESCRIPTION:
URL:https://axendacultural.aelg.gal/event/entrega-de-premios-do-viii-certame-de-poesia-torre-de-caldaloba/
CATEGORIES:Entrega de premios,Poesía
END:VEVENT
BEGIN:VEVENT
DTSTART;TZID=Asia/Krasnoyarsk:20251122T123000
DTEND;TZID=Asia/Krasnoyarsk:20251122T140000
DTSTAMP:20260420T040535
CREATED:20251119T102836Z
LAST-MODIFIED:20251119T102836Z
UID:110734-1763814600-1763820000@axendacultural.aelg.gal
SUMMARY:Presentación de Eira\, de Sara Martínez Bello
DESCRIPTION:
URL:https://axendacultural.aelg.gal/event/presentacion-de-eira-de-sara-martinez-bello/
LOCATION:Libraría Galgo Azul\, Galgo Azul (Libros\, grolos e moito máis)\, A Coruña
CATEGORIES:Coloquios,Poesía,Presentación de libros
END:VEVENT
BEGIN:VEVENT
DTSTART;TZID=Asia/Krasnoyarsk:20251122T190000
DTEND;TZID=Asia/Krasnoyarsk:20251122T203000
DTSTAMP:20260420T040535
CREATED:20251117T085301Z
LAST-MODIFIED:20251117T085554Z
UID:110530-1763838000-1763843400@axendacultural.aelg.gal
SUMMARY:Performance poética Nao cetácea. A resistencia mariñeira\, con Xosé Iglesias
DESCRIPTION:
URL:https://axendacultural.aelg.gal/event/performance-poetica-nao-cetacea-a-resistencia-marineira-con-xose-iglesias/
LOCATION:Casa da Calzada (Cambados)\, Exposalnés\, Cambados
CATEGORIES:Arte,Espectáculos,Poesía,Presentación de libros
END:VEVENT
BEGIN:VEVENT
DTSTART;TZID=Asia/Krasnoyarsk:20251122T203000
DTEND;TZID=Asia/Krasnoyarsk:20251122T213000
DTSTAMP:20260420T040535
CREATED:20251121T123523Z
LAST-MODIFIED:20251121T123636Z
UID:111033-1763843400-1763847000@axendacultural.aelg.gal
SUMMARY:Entrega do XXXVIII Premio de Poesía Xosemaría Pérez Parallé a Paula Currás Prada
DESCRIPTION:
URL:https://axendacultural.aelg.gal/event/entrega-do-xxxviii-premio-de-poesia-xosemaria-perez-paralle-a-paula-curras-prada/
LOCATION:Círculo Mercantil e Industrial Unidade de Fene\, Círculo Mercantil e Industrial Unidade de Fene\, Fene
CATEGORIES:Entrega de premios,Música,Poesía
END:VEVENT
END:VCALENDAR