BEGIN:VCALENDAR
VERSION:2.0
PRODID:-//::Axenda cultural AELG:: - ECPv6.6.4.2//NONSGML v1.0//EN
CALSCALE:GREGORIAN
METHOD:PUBLISH
X-WR-CALNAME:::Axenda cultural AELG::
X-ORIGINAL-URL:https://axendacultural.aelg.gal
X-WR-CALDESC:Events for ::Axenda cultural AELG::
REFRESH-INTERVAL;VALUE=DURATION:PT1H
X-Robots-Tag:noindex
X-PUBLISHED-TTL:PT1H
BEGIN:VTIMEZONE
TZID:Asia/Krasnoyarsk
BEGIN:STANDARD
TZOFFSETFROM:+0700
TZOFFSETTO:+0700
TZNAME:+07
DTSTART:20250101T000000
END:STANDARD
END:VTIMEZONE
BEGIN:VEVENT
DTSTART;TZID=Asia/Krasnoyarsk:20251213T120000
DTEND;TZID=Asia/Krasnoyarsk:20251213T133000
DTSTAMP:20260420T020139
CREATED:20251209T225744Z
LAST-MODIFIED:20251209T225838Z
UID:112147-1765627200-1765632600@axendacultural.aelg.gal
SUMMARY:Lorca en Galicia\, conferencia e proxección de Henrique Alvarellos\, en Vilalba
DESCRIPTION:
URL:https://axendacultural.aelg.gal/event/lorca-en-galicia-conferencia-e-proxeccion-de-henrique-alvarellos-en-vilalba/
LOCATION:Biblioteca Pública Municipal de Vilalba\, Biblioteca Pública Municipal De Vilalba\, Vilalba
CATEGORIES:Conferencias,Poesía
END:VEVENT
BEGIN:VEVENT
DTSTART;TZID=Asia/Krasnoyarsk:20251213T120000
DTEND;TZID=Asia/Krasnoyarsk:20251213T133000
DTSTAMP:20260420T020139
CREATED:20251209T231725Z
LAST-MODIFIED:20251209T232026Z
UID:112165-1765627200-1765632600@axendacultural.aelg.gal
SUMMARY:Presentación de Vostede está aquí\, de Antía Marante\, en Compostela
DESCRIPTION:
URL:https://axendacultural.aelg.gal/event/presentacion-de-vostede-esta-aqui-de-antia-marante-en-compostela/
LOCATION:Libraría Lila de Lilith\, Libraría Lila de Lilith\, Santiago de Compostela
CATEGORIES:Poesía,Presentación de libros
END:VEVENT
BEGIN:VEVENT
DTSTART;TZID=Asia/Krasnoyarsk:20251213T130000
DTEND;TZID=Asia/Krasnoyarsk:20251213T143000
DTSTAMP:20260420T020139
CREATED:20251212T162605Z
LAST-MODIFIED:20251214T162956Z
UID:112331-1765630800-1765636200@axendacultural.aelg.gal
SUMMARY:Homenaxe poético-musical en lembranza de Eugenio e Manuel Cancelas\, Manuel María e José Benito Blanco\, e José Vázquez Sampedro\, en Moaña
DESCRIPTION:
URL:https://axendacultural.aelg.gal/event/homenaxe-poetico-musical-en-lembranza-de-eugenio-e-manuel-cancelas-manuel-maria-e-jose-benito-blanco-e-jose-vazquez-sampedro-en-moana/
LOCATION:Concello de Moaña\, Concello de Moaña\, Moaña
CATEGORIES:Historia,Homenaxes,Música,Poesía,Recitais
END:VEVENT
END:VCALENDAR