BEGIN:VCALENDAR
VERSION:2.0
PRODID:-//::Axenda cultural AELG:: - ECPv6.6.4.2//NONSGML v1.0//EN
CALSCALE:GREGORIAN
METHOD:PUBLISH
X-ORIGINAL-URL:https://axendacultural.aelg.gal
X-WR-CALDESC:Events for ::Axenda cultural AELG::
REFRESH-INTERVAL;VALUE=DURATION:PT1H
X-Robots-Tag:noindex
X-PUBLISHED-TTL:PT1H
BEGIN:VTIMEZONE
TZID:Asia/Krasnoyarsk
BEGIN:STANDARD
TZOFFSETFROM:+0700
TZOFFSETTO:+0700
TZNAME:+07
DTSTART:20250101T000000
END:STANDARD
END:VTIMEZONE
BEGIN:VEVENT
DTSTART;TZID=Asia/Krasnoyarsk:20251221T120000
DTEND;TZID=Asia/Krasnoyarsk:20251221T133000
DTSTAMP:20260420T020222
CREATED:20251212T192052Z
LAST-MODIFIED:20260112T171522Z
UID:112751-1766318400-1766323800@axendacultural.aelg.gal
SUMMARY:Presentación de Erótica é a alma das cereijas\, de Adela Figueroa Panisse\, en Ribadavia
DESCRIPTION:
URL:https://axendacultural.aelg.gal/event/presentacion-de-erotica-e-a-alma-das-cereijas-de-adela-figueroa-panisse-en-ribadavia/
LOCATION:Club Artístico de Ribadavia\, Club Artístico\, Ribadavia
CATEGORIES:Poesía,Presentación de libros
END:VEVENT
BEGIN:VEVENT
DTSTART;TZID=Asia/Krasnoyarsk:20251221T123000
DTEND;TZID=Asia/Krasnoyarsk:20251221T140000
DTSTAMP:20260420T020222
CREATED:20251213T124922Z
LAST-MODIFIED:20251220T124938Z
UID:112465-1766320200-1766325600@axendacultural.aelg.gal
SUMMARY:Presentación de O faiado das papoulas\, de Baia Fernández de la Torre\, en Neda
DESCRIPTION:
URL:https://axendacultural.aelg.gal/event/presentacion-de-o-faiado-das-papoulas-de-baia-fernandez-de-la-torre-en-neda/
LOCATION:Piruchela Colectivo\, Piruchela Colectivo\, Neda
CATEGORIES:Poesía,Presentación de libros
END:VEVENT
END:VCALENDAR