BEGIN:VCALENDAR
VERSION:2.0
PRODID:-//::Axenda cultural AELG:: - ECPv6.6.4.2//NONSGML v1.0//EN
CALSCALE:GREGORIAN
METHOD:PUBLISH
X-ORIGINAL-URL:https://axendacultural.aelg.gal
X-WR-CALDESC:Events for ::Axenda cultural AELG::
REFRESH-INTERVAL;VALUE=DURATION:PT1H
X-Robots-Tag:noindex
X-PUBLISHED-TTL:PT1H
BEGIN:VTIMEZONE
TZID:Asia/Krasnoyarsk
BEGIN:STANDARD
TZOFFSETFROM:+0700
TZOFFSETTO:+0700
TZNAME:+07
DTSTART:20260101T000000
END:STANDARD
END:VTIMEZONE
BEGIN:VEVENT
DTSTART;TZID=Asia/Krasnoyarsk:20260228T103000
DTEND;TZID=Asia/Krasnoyarsk:20260228T203000
DTSTAMP:20260419T213439
CREATED:20260220T112218Z
LAST-MODIFIED:20260220T113043Z
UID:114612-1772274600-1772310600@axendacultural.aelg.gal
SUMMARY:II Xornadas Poesía por un tubo. Obradoiros de poesía con Luz Airado Bello\, Brenda Mondelo e Eli Ríos\, en Lugo
DESCRIPTION:
URL:https://axendacultural.aelg.gal/event/ii-xornadas-poesia-por-un-tubo-obradoiros-de-poesia-con-luz-airado-bello-brenda-mondelo-e-eli-rios-en-lugo/
LOCATION:Arte e parte. Laboratorio de creación Luz Darriba\, Av. da Coruña\, 67\, Lugo
CATEGORIES:Obradoiros,Poesía
END:VEVENT
BEGIN:VEVENT
DTSTART;TZID=Asia/Krasnoyarsk:20260228T123000
DTEND;TZID=Asia/Krasnoyarsk:20260228T140000
DTSTAMP:20260419T213439
CREATED:20260217T153152Z
LAST-MODIFIED:20260217T153203Z
UID:114416-1772281800-1772287200@axendacultural.aelg.gal
SUMMARY:Vermú entre libros. Branca Trigo e Octavia Russo conversan con Lara Dopazo\, en Pontevedra
DESCRIPTION:
URL:https://axendacultural.aelg.gal/event/vermu-entre-libros-branca-trigo-e-octavia-russo-conversan-con-lara-dopazo-en-pontevedra/
LOCATION:Libraría Paz\, Libraría Paz de Pontevedra\, Pontevedra
CATEGORIES:Coloquios,Poesía,Presentación de libros
END:VEVENT
BEGIN:VEVENT
DTSTART;TZID=Asia/Krasnoyarsk:20260228T123000
DTEND;TZID=Asia/Krasnoyarsk:20260228T203000
DTSTAMP:20260419T213439
CREATED:20260223T113310Z
LAST-MODIFIED:20260223T113416Z
UID:114693-1772281800-1772310600@axendacultural.aelg.gal
SUMMARY:Lupercais 2026\, en Lugo
DESCRIPTION:
URL:https://axendacultural.aelg.gal/event/lupercais-2026-en-lugo/
LOCATION:Centro Cultural O Vello Cárcere\, O Vello Cárcere\, Lugo
CATEGORIES:Homenaxes,Poesía,Recitais
END:VEVENT
END:VCALENDAR