BEGIN:VCALENDAR
VERSION:2.0
PRODID:-//::Axenda cultural AELG:: - ECPv6.6.4.2//NONSGML v1.0//EN
CALSCALE:GREGORIAN
METHOD:PUBLISH
X-WR-CALNAME:::Axenda cultural AELG::
X-ORIGINAL-URL:https://axendacultural.aelg.gal
X-WR-CALDESC:Events for ::Axenda cultural AELG::
REFRESH-INTERVAL;VALUE=DURATION:PT1H
X-Robots-Tag:noindex
X-PUBLISHED-TTL:PT1H
BEGIN:VTIMEZONE
TZID:Asia/Krasnoyarsk
BEGIN:STANDARD
TZOFFSETFROM:+0700
TZOFFSETTO:+0700
TZNAME:+07
DTSTART:20260101T000000
END:STANDARD
END:VTIMEZONE
BEGIN:VEVENT
DTSTART;TZID=Asia/Krasnoyarsk:20260313T190000
DTEND;TZID=Asia/Krasnoyarsk:20260313T203000
DTSTAMP:20260419T213245
CREATED:20260312T094353Z
LAST-MODIFIED:20260313T094530Z
UID:115499-1773428400-1773433800@axendacultural.aelg.gal
SUMMARY:Presentación de Cando as borrascas non tiñan nome\, de Ana Barral Rodríguez\, en Lugo
DESCRIPTION:
URL:https://axendacultural.aelg.gal/event/presentacion-de-cando-as-borrascas-non-tinan-nome-de-ana-barral-rodriguez-en-lugo/
LOCATION:Centro Cultural O Vello Cárcere\, O Vello Cárcere\, Lugo
CATEGORIES:Poesía,Presentación de libros
END:VEVENT
BEGIN:VEVENT
DTSTART;TZID=Asia/Krasnoyarsk:20260313T200000
DTEND;TZID=Asia/Krasnoyarsk:20260313T210000
DTSTAMP:20260419T213245
CREATED:20260310T105328Z
LAST-MODIFIED:20260310T105328Z
UID:115304-1773432000-1773435600@axendacultural.aelg.gal
SUMMARY:Presentación de Hipnose Encarnada\, de Ramiro Torres\, en Carballo
DESCRIPTION:
URL:https://axendacultural.aelg.gal/event/presentacion-de-hipnose-encarnada-de-ramiro-torres-en-carballo/
LOCATION:Espiral Maior Foro\, Espiral Maior Foro\, Carballo
CATEGORIES:Poesía,Presentación de libros
END:VEVENT
BEGIN:VEVENT
DTSTART;TZID=Asia/Krasnoyarsk:20260313T203000
DTEND;TZID=Asia/Krasnoyarsk:20260313T220000
DTSTAMP:20260419T213245
CREATED:20260308T201053Z
LAST-MODIFIED:20260308T201251Z
UID:115274-1773433800-1773439200@axendacultural.aelg.gal
SUMMARY:Presentación de As ninguén\, de Elisabeth Oliveira\, en Ribeira
DESCRIPTION:
URL:https://axendacultural.aelg.gal/event/presentacion-de-as-ninguen-de-elisabeth-oliveira-en-ribeira/
CATEGORIES:Poesía,Presentación de libros
END:VEVENT
END:VCALENDAR