BEGIN:VCALENDAR
VERSION:2.0
PRODID:-//::Axenda cultural AELG:: - ECPv6.6.4.2//NONSGML v1.0//EN
CALSCALE:GREGORIAN
METHOD:PUBLISH
X-WR-CALNAME:::Axenda cultural AELG::
X-ORIGINAL-URL:https://axendacultural.aelg.gal
X-WR-CALDESC:Events for ::Axenda cultural AELG::
REFRESH-INTERVAL;VALUE=DURATION:PT1H
X-Robots-Tag:noindex
X-PUBLISHED-TTL:PT1H
BEGIN:VTIMEZONE
TZID:Asia/Krasnoyarsk
BEGIN:STANDARD
TZOFFSETFROM:+0700
TZOFFSETTO:+0700
TZNAME:+07
DTSTART:20260101T000000
END:STANDARD
END:VTIMEZONE
BEGIN:VEVENT
DTSTART;TZID=Asia/Krasnoyarsk:20260123T190000
DTEND;TZID=Asia/Krasnoyarsk:20260123T203000
DTSTAMP:20260421T020305
CREATED:20260120T174646Z
LAST-MODIFIED:20260120T174803Z
UID:113164-1769194800-1769200200@axendacultural.aelg.gal
SUMMARY:Presentación de A praza do diamante\, de Mercè Rodoreda\, en Compostela
DESCRIPTION:
URL:https://axendacultural.aelg.gal/event/presentacion-de-a-praza-do-diamante-de-merce-rodoreda-en-compostela/
LOCATION:Numax\, Rúa Concepción Arenal\, 9\, Santiago de Compostela
CATEGORIES:Coloquios,Narrativa,Presentación de libros,Tradución
END:VEVENT
BEGIN:VEVENT
DTSTART;TZID=Asia/Krasnoyarsk:20260123T193000
DTEND;TZID=Asia/Krasnoyarsk:20260123T210000
DTSTAMP:20260421T020305
CREATED:20260121T215906Z
LAST-MODIFIED:20260124T220024Z
UID:113319-1769196600-1769202000@axendacultural.aelg.gal
SUMMARY:Presentación de Anaquiños\, de Raquel Catalán\, en Marín
DESCRIPTION:
URL:https://axendacultural.aelg.gal/event/presentacion-de-anaquinos-de-raquel-catalan-en-marin/
LOCATION:Museo Municipal Manuel Torres\, Museo Municipal Manuel Torres\, Marín
CATEGORIES:Narrativa,Presentación de libros
END:VEVENT
BEGIN:VEVENT
DTSTART;TZID=Asia/Krasnoyarsk:20260123T193000
DTEND;TZID=Asia/Krasnoyarsk:20260123T210000
DTSTAMP:20260421T020305
CREATED:20260121T221614Z
LAST-MODIFIED:20260124T221718Z
UID:113340-1769196600-1769202000@axendacultural.aelg.gal
SUMMARY:Presentación de Os mortos que amei\, de Iria Collazo López\, en Cangas
DESCRIPTION:
URL:https://axendacultural.aelg.gal/event/presentacion-de-os-mortos-que-amei-de-iria-collazo-lopez-en-cangas/
LOCATION:Pitanga Café e Flor\, Rúa do Sol\, 2\, Cangas do Morrazo
CATEGORIES:Coloquios,Narrativa,Presentación de libros
END:VEVENT
BEGIN:VEVENT
DTSTART;TZID=Asia/Krasnoyarsk:20260123T203000
DTEND;TZID=Asia/Krasnoyarsk:20260123T213000
DTSTAMP:20260421T020305
CREATED:20260115T101200Z
LAST-MODIFIED:20260115T101207Z
UID:113081-1769200200-1769203800@axendacultural.aelg.gal
SUMMARY:Abraham Pérez conversa con Dolores Vilavedra arredor de A vida a arder\, en Bertamiráns
DESCRIPTION:
URL:https://axendacultural.aelg.gal/event/abraham-perez-conversa-con-dolores-vilavedra-arredor-de-a-vida-a-arder-en-bertamirans/
LOCATION:Libraría Bandini\, Bandini Libros\, S.L.\, Bertamiráns (Ames)
CATEGORIES:Coloquios,Narrativa,Presentación de libros
END:VEVENT
BEGIN:VEVENT
DTSTART;TZID=Asia/Krasnoyarsk:20260123T203000
DTEND;TZID=Asia/Krasnoyarsk:20260123T213000
DTSTAMP:20260421T020305
CREATED:20260120T174117Z
LAST-MODIFIED:20260120T174141Z
UID:113159-1769200200-1769203800@axendacultural.aelg.gal
SUMMARY:Proxección de Pucho Boedo\, un crooner na fin do mundo\, e coloquio con Xurxo Souto\, na Coruña
DESCRIPTION:
URL:https://axendacultural.aelg.gal/event/proxeccion-de-pucho-boedo-un-crooner-na-fin-do-mundo-e-coloquio-con-xurxo-souto-na-coruna/
LOCATION:Circo de Artesáns (A Coruña)\, Circulo de Artesanos\, A Coruña
CATEGORIES:Audiovisual,Coloquios,Música,Presentación de libros
END:VEVENT
END:VCALENDAR