BEGIN:VCALENDAR
VERSION:2.0
PRODID:-//::Axenda cultural AELG:: - ECPv6.6.4.2//NONSGML v1.0//EN
CALSCALE:GREGORIAN
METHOD:PUBLISH
X-WR-CALNAME:::Axenda cultural AELG::
X-ORIGINAL-URL:https://axendacultural.aelg.gal
X-WR-CALDESC:Events for ::Axenda cultural AELG::
REFRESH-INTERVAL;VALUE=DURATION:PT1H
X-Robots-Tag:noindex
X-PUBLISHED-TTL:PT1H
BEGIN:VTIMEZONE
TZID:Asia/Krasnoyarsk
BEGIN:STANDARD
TZOFFSETFROM:+0700
TZOFFSETTO:+0700
TZNAME:+07
DTSTART:20260101T000000
END:STANDARD
END:VTIMEZONE
BEGIN:VEVENT
DTSTART;TZID=Asia/Krasnoyarsk:20260227T190000
DTEND;TZID=Asia/Krasnoyarsk:20260227T203000
DTSTAMP:20260420T202916
CREATED:20260219T125626Z
LAST-MODIFIED:20260219T125626Z
UID:114502-1772218800-1772224200@axendacultural.aelg.gal
SUMMARY:Presentación de Mañá\, cando sexamos luns\, de Xaquín Núñez\, en Santiago de Compostela
DESCRIPTION:
URL:https://axendacultural.aelg.gal/event/presentacion-de-mana-cando-sexamos-luns-de-xaquin-nunez-en-santiago-de-compostela/
LOCATION:Libraría Follas Novas\, Librería Follas Novas (Santiago de Compostela)\, Santiago de Compostela
CATEGORIES:Narrativa,Presentación de libros
END:VEVENT
BEGIN:VEVENT
DTSTART;TZID=Asia/Krasnoyarsk:20260227T190000
DTEND;TZID=Asia/Krasnoyarsk:20260227T203000
DTSTAMP:20260420T202916
CREATED:20260226T130126Z
LAST-MODIFIED:20260227T130233Z
UID:114894-1772218800-1772224200@axendacultural.aelg.gal
SUMMARY:Presentación e recital de Vestidos de organdí\, de Pura Tejelo\, en Viveiro
DESCRIPTION:O 27 de febreiro\, ás 19:00 horas\, na Aula Universitaria de Viveiro (Avenida de Cervantes)\, Pura Tejelo presenta Vestidos de organdí\, publicado por Belagua Edicións. No acto\, a autora falará e lerá varios poemas do seu libro\, acompañada por Sabela Barcón Soto.
URL:https://axendacultural.aelg.gal/event/presentacion-e-recital-de-vestidos-de-organdi-de-pura-tejelo-en-viveiro/
LOCATION:Aula Universitaria UNED Viveiro\, Aula Universitaria UNED Viveiro\, Viveiro
CATEGORIES:Coloquios,Poesía,Presentación de libros,Recitais
END:VEVENT
BEGIN:VEVENT
DTSTART;TZID=Asia/Krasnoyarsk:20260227T193000
DTEND;TZID=Asia/Krasnoyarsk:20260227T210000
DTSTAMP:20260420T202916
CREATED:20260211T180030Z
LAST-MODIFIED:20260211T180220Z
UID:114112-1772220600-1772226000@axendacultural.aelg.gal
SUMMARY:Presentación de Nais\, de Charo Valcárcel\, en Vinseiro (A Estrada)
DESCRIPTION:
URL:https://axendacultural.aelg.gal/event/presentacion-de-nais-de-charo-valcarcel-en-vinseiro-a-estrada/
CATEGORIES:Narrativa,Presentación de libros
END:VEVENT
BEGIN:VEVENT
DTSTART;TZID=Asia/Krasnoyarsk:20260227T193000
DTEND;TZID=Asia/Krasnoyarsk:20260227T210000
DTSTAMP:20260420T202916
CREATED:20260216T124835Z
LAST-MODIFIED:20260216T124846Z
UID:114302-1772220600-1772226000@axendacultural.aelg.gal
SUMMARY:Conversa arredor do Libro negro da lingua galega\, de Carlos Callón\, en Verín
DESCRIPTION:
URL:https://axendacultural.aelg.gal/event/conversa-arredor-do-libro-negro-da-lingua-galega-de-carlos-callon-en-verin/
LOCATION:Biblioteca Pública Municipal de Verín\, Biblioteca Pública Municipal de Verín\, Verín
CATEGORIES:Coloquios,Divulgación,Lingua,Presentación de libros,Sociedade
END:VEVENT
BEGIN:VEVENT
DTSTART;TZID=Asia/Krasnoyarsk:20260227T200000
DTEND;TZID=Asia/Krasnoyarsk:20260227T213000
DTSTAMP:20260420T202916
CREATED:20260204T170150Z
LAST-MODIFIED:20260204T170222Z
UID:113845-1772222400-1772227800@axendacultural.aelg.gal
SUMMARY:Recital poético de Asfixia\, de Clara Martín\, en Ourense
DESCRIPTION:
URL:https://axendacultural.aelg.gal/event/recital-poetico-de-asfixia-de-clara-martin-en-ourense/
LOCATION:Ceres 1894\, Ceres 1894\, Ourense
CATEGORIES:Música,Poesía,Presentación de libros,Recitais
END:VEVENT
BEGIN:VEVENT
DTSTART;TZID=Asia/Krasnoyarsk:20260227T200000
DTEND;TZID=Asia/Krasnoyarsk:20260227T213000
DTSTAMP:20260420T202916
CREATED:20260216T125252Z
LAST-MODIFIED:20260216T125316Z
UID:114310-1772222400-1772227800@axendacultural.aelg.gal
SUMMARY:Presentación de Drácula\, de Bram Stoker\, no Carballiño
DESCRIPTION:
URL:https://axendacultural.aelg.gal/event/presentacion-de-dracula-de-bram-stoker-no-carballino/
LOCATION:OZOCOgz (O Carballiño)\, OZOCOgz Deseño Galego\, O Carballiño
CATEGORIES:Ilustración,Narrativa,Presentación de libros,Tradución
END:VEVENT
BEGIN:VEVENT
DTSTART;TZID=Asia/Krasnoyarsk:20260227T200000
DTEND;TZID=Asia/Krasnoyarsk:20260227T213000
DTSTAMP:20260420T202916
CREATED:20260224T112518Z
LAST-MODIFIED:20260224T112518Z
UID:114743-1772222400-1772227800@axendacultural.aelg.gal
SUMMARY:Presentación de Desertos\, de Miguel Sande\, en Carballo
DESCRIPTION:
URL:https://axendacultural.aelg.gal/event/presentacion-de-desertos-de-miguel-sande-en-carballo/
LOCATION:Espiral Maior Foro\, Espiral Maior Foro\, Carballo
CATEGORIES:Música,Poesía,Presentación de libros
END:VEVENT
BEGIN:VEVENT
DTSTART;TZID=Asia/Krasnoyarsk:20260227T203000
DTEND;TZID=Asia/Krasnoyarsk:20260227T213000
DTSTAMP:20260420T202916
CREATED:20260223T114449Z
LAST-MODIFIED:20260223T125651Z
UID:114702-1772224200-1772227800@axendacultural.aelg.gal
SUMMARY:Conversa arredor de Agora non é antes. Ideas para unha revolución tranquila\, con Antón Baamonde\, en Bertamiráns
DESCRIPTION:
URL:https://axendacultural.aelg.gal/event/conversa-arredor-de-agora-non-e-antes-ideas-para-unha-revolucion-tranquila-con-anton-baamonde-en-bertamirans/
LOCATION:Libraría Bandini\, Bandini Libros\, S.L.\, Bertamiráns (Ames)
CATEGORIES:Coloquios,Ensaio,Presentación de libros
END:VEVENT
BEGIN:VEVENT
DTSTART;TZID=Asia/Krasnoyarsk:20260227T203000
DTEND;TZID=Asia/Krasnoyarsk:20260227T220000
DTSTAMP:20260420T202916
CREATED:20260201T212621Z
LAST-MODIFIED:20260201T212658Z
UID:113692-1772224200-1772229600@axendacultural.aelg.gal
SUMMARY:Presentación de Conecta co íntimo\, de David Otero\, en Lérez\, Pontevedra
DESCRIPTION:
URL:https://axendacultural.aelg.gal/event/presentacion-de-conecta-co-intimo-de-david-otero-en-lerez-pontevedra/
LOCATION:Asociación Sociocultural de Lérez Cedofeita\, Centro Cultural de Lérez\, Pontevedra
CATEGORIES:Poesía,Presentación de libros
END:VEVENT
END:VCALENDAR