BEGIN:VCALENDAR
VERSION:2.0
PRODID:-//::Axenda cultural AELG:: - ECPv6.6.4.2//NONSGML v1.0//EN
CALSCALE:GREGORIAN
METHOD:PUBLISH
X-ORIGINAL-URL:https://axendacultural.aelg.gal
X-WR-CALDESC:Events for ::Axenda cultural AELG::
REFRESH-INTERVAL;VALUE=DURATION:PT1H
X-Robots-Tag:noindex
X-PUBLISHED-TTL:PT1H
BEGIN:VTIMEZONE
TZID:Asia/Krasnoyarsk
BEGIN:STANDARD
TZOFFSETFROM:+0700
TZOFFSETTO:+0700
TZNAME:+07
DTSTART:20260101T000000
END:STANDARD
END:VTIMEZONE
BEGIN:VEVENT
DTSTART;TZID=Asia/Krasnoyarsk:20260228T094500
DTEND;TZID=Asia/Krasnoyarsk:20260228T203000
DTSTAMP:20260420T203034
CREATED:20260208T184253Z
LAST-MODIFIED:20260208T184318Z
UID:113925-1772271900-1772310600@axendacultural.aelg.gal
SUMMARY:XXII Xornadas das mulleres Begoña Caamaño\, en Compostela
DESCRIPTION:
URL:https://axendacultural.aelg.gal/event/xxii-xornadas-das-mulleres-begona-caamano-en-compostela/
CATEGORIES:Biografías,Coloquios,Conferencias,Debates,Encontros e Xornadas,Literatura e ensino,Presentación de libros,Roteiros,Xornalismo
END:VEVENT
BEGIN:VEVENT
DTSTART;TZID=Asia/Krasnoyarsk:20260228T120000
DTEND;TZID=Asia/Krasnoyarsk:20260228T133000
DTSTAMP:20260420T203034
CREATED:20260216T132333Z
LAST-MODIFIED:20260216T132342Z
UID:114347-1772280000-1772285400@axendacultural.aelg.gal
SUMMARY:Presentación de Pusilánime\, de Mario Caneiro\, en Ferrol
DESCRIPTION:
URL:https://axendacultural.aelg.gal/event/presentacion-de-pusilanime-de-mario-caneiro-en-ferrol/
LOCATION:Central Librera\, Central Librera Ferrol\, Librería\, Ferrol
CATEGORIES:Narrativa,Presentación de libros
END:VEVENT
BEGIN:VEVENT
DTSTART;TZID=Asia/Krasnoyarsk:20260228T123000
DTEND;TZID=Asia/Krasnoyarsk:20260228T140000
DTSTAMP:20260420T203034
CREATED:20260217T153152Z
LAST-MODIFIED:20260217T153203Z
UID:114416-1772281800-1772287200@axendacultural.aelg.gal
SUMMARY:Vermú entre libros. Branca Trigo e Octavia Russo conversan con Lara Dopazo\, en Pontevedra
DESCRIPTION:
URL:https://axendacultural.aelg.gal/event/vermu-entre-libros-branca-trigo-e-octavia-russo-conversan-con-lara-dopazo-en-pontevedra/
LOCATION:Libraría Paz\, Libraría Paz de Pontevedra\, Pontevedra
CATEGORIES:Coloquios,Poesía,Presentación de libros
END:VEVENT
BEGIN:VEVENT
DTSTART;TZID=Asia/Krasnoyarsk:20260228T183000
DTEND;TZID=Asia/Krasnoyarsk:20260228T200000
DTSTAMP:20260420T203034
CREATED:20260219T180037Z
LAST-MODIFIED:20260219T180037Z
UID:114523-1772303400-1772308800@axendacultural.aelg.gal
SUMMARY:Sesión sonora arredor de A novela do Bravú\, con Xurxo Souto\, en Outeiro de Rei
DESCRIPTION:
URL:https://axendacultural.aelg.gal/event/sesion-sonora-arredor-de-a-novela-do-bravu-con-xurxo-souto-en-outeiro-de-rei/
LOCATION:Casa-Museo Manuel María\, Casa-Museo Manuel María\, Outeiro de Rei
CATEGORIES:Divulgación,Música,Presentación de libros
END:VEVENT
BEGIN:VEVENT
DTSTART;TZID=Asia/Krasnoyarsk:20260228T190000
DTEND;TZID=Asia/Krasnoyarsk:20260228T203000
DTSTAMP:20260420T203034
CREATED:20260220T085710Z
LAST-MODIFIED:20260305T113943Z
UID:114582-1772305200-1772310600@axendacultural.aelg.gal
SUMMARY:Presentación de Literatura insólita\, de Armando Requeixo\, en Viveiro
DESCRIPTION:
URL:https://axendacultural.aelg.gal/event/presentacion-de-literatura-insolita-de-armando-requeixo-en-viveiro/
LOCATION:Biblioteca Municipal de Viveiro\, Biblioteca Municipal de Viveiro\, Viveiro
CATEGORIES:Ensaio,Presentación de libros
END:VEVENT
BEGIN:VEVENT
DTSTART;TZID=Asia/Krasnoyarsk:20260228T193000
DTEND;TZID=Asia/Krasnoyarsk:20260228T210000
DTSTAMP:20260420T203034
CREATED:20260219T192322Z
LAST-MODIFIED:20260219T192420Z
UID:114553-1772307000-1772312400@axendacultural.aelg.gal
SUMMARY:Conversa arredor de As histórias que nos cont(ar)am\, de Henrique Egea Lapina\, em Vilar de Santos
DESCRIPTION:
URL:https://axendacultural.aelg.gal/event/conversa-arredor-de-as-historias-que-nos-contaram-de-henrique-egea-lapina-em-vilar-de-santos/
LOCATION:Museo da Limia\, Museo da Limia\, Vilar de Santos
CATEGORIES:Coloquios,Divulgación,Historia,Lusofonia,Presentación de libros
END:VEVENT
END:VCALENDAR