BEGIN:VCALENDAR
VERSION:2.0
PRODID:-//::Axenda cultural AELG:: - ECPv6.6.4.2//NONSGML v1.0//EN
CALSCALE:GREGORIAN
METHOD:PUBLISH
X-WR-CALNAME:::Axenda cultural AELG::
X-ORIGINAL-URL:https://axendacultural.aelg.gal
X-WR-CALDESC:Events for ::Axenda cultural AELG::
REFRESH-INTERVAL;VALUE=DURATION:PT1H
X-Robots-Tag:noindex
X-PUBLISHED-TTL:PT1H
BEGIN:VTIMEZONE
TZID:Asia/Krasnoyarsk
BEGIN:STANDARD
TZOFFSETFROM:+0700
TZOFFSETTO:+0700
TZNAME:+07
DTSTART:20260101T000000
END:STANDARD
END:VTIMEZONE
BEGIN:VEVENT
DTSTART;TZID=Asia/Krasnoyarsk:20260306T173000
DTEND;TZID=Asia/Krasnoyarsk:20260306T190000
DTSTAMP:20260420T202916
CREATED:20260303T091534Z
LAST-MODIFIED:20260305T113938Z
UID:115047-1772818200-1772823600@axendacultural.aelg.gal
SUMMARY:Presentación de Literatura insólita\, de Armando Requeixo\, en Pontevedra
DESCRIPTION:
URL:https://axendacultural.aelg.gal/event/presentacion-de-literatura-insolita-de-armando-requeixo-en-pontevedra/
LOCATION:EPA Río Lérez (Pontevedra)\, Centro EPAPU RÍO LÉREZ\, Pontevedra
CATEGORIES:Ensaio,Música,Presentación de libros
END:VEVENT
BEGIN:VEVENT
DTSTART;TZID=Asia/Krasnoyarsk:20260306T180000
DTEND;TZID=Asia/Krasnoyarsk:20260306T200000
DTSTAMP:20260420T202916
CREATED:20260301T215203Z
LAST-MODIFIED:20260302T132444Z
UID:114942-1772820000-1772827200@axendacultural.aelg.gal
SUMMARY:Presentación de O Barco do Nadal\, de Soledad García Riveiro\, en Sabarís (Baiona)
DESCRIPTION:
URL:https://axendacultural.aelg.gal/event/presentacion-de-o-barco-do-nadal-de-soledad-garcia-riveiro-en-sabaris-baiona/
LOCATION:Centro Multiusos de Sabarís\, Centro multiusos Sabarís Baiona\, Sabarís (Baiona)
CATEGORIES:Ilustración,Infantil e xuvenil,Presentación de libros
END:VEVENT
BEGIN:VEVENT
DTSTART;TZID=Asia/Krasnoyarsk:20260306T190000
DTEND;TZID=Asia/Krasnoyarsk:20260306T203000
DTSTAMP:20260420T202916
CREATED:20260303T144158Z
LAST-MODIFIED:20260303T144211Z
UID:115068-1772823600-1772829000@axendacultural.aelg.gal
SUMMARY:Presentación de Agora non é antes\, de Antón Baamonde\, en Pontevedra
DESCRIPTION:
URL:https://axendacultural.aelg.gal/event/presentacion-de-agora-non-e-antes-de-anton-baamonde-en-pontevedra/
LOCATION:Museo de Pontevedra\, Museo Provincial de Pontevedra\, Pontevedra
CATEGORIES:Ensaio,Presentación de libros
END:VEVENT
BEGIN:VEVENT
DTSTART;TZID=Asia/Krasnoyarsk:20260306T190000
DTEND;TZID=Asia/Krasnoyarsk:20260306T203000
DTSTAMP:20260420T202916
CREATED:20260303T215009Z
LAST-MODIFIED:20260305T215345Z
UID:115189-1772823600-1772829000@axendacultural.aelg.gal
SUMMARY:Coloquio "As mulleres: unhas superviventes"\, con Ramón Caride\, Oralice Silva e Gema Díez\, en Vilagarcía
DESCRIPTION:
URL:https://axendacultural.aelg.gal/event/coloquio-as-mulleres-unhas-superviventes-con-ramon-caride-oralice-silva-e-gema-diez-en-vilagarcia/
LOCATION:Planeta Mozo (Vilagarcía de Arousa)\, Planeta Mozo\, Vilagarcía de Arousa
CATEGORIES:Coloquios,Narrativa,Presentación de libros,Sociedade
END:VEVENT
BEGIN:VEVENT
DTSTART;TZID=Asia/Krasnoyarsk:20260306T190000
DTEND;TZID=Asia/Krasnoyarsk:20260306T203000
DTSTAMP:20260420T202916
CREATED:20260305T123528Z
LAST-MODIFIED:20260305T123528Z
UID:115161-1772823600-1772829000@axendacultural.aelg.gal
SUMMARY:Presentación de Cen Ilíadas\, de Marcelino Fernández Mallo\, na Coruña
DESCRIPTION:
URL:https://axendacultural.aelg.gal/event/presentacion-de-cen-iliadas-de-marcelino-fernandez-mallo-na-coruna/
LOCATION:Librería Lume\, Librería Lume\, A Coruña
CATEGORIES:Narrativa,Presentación de libros
END:VEVENT
BEGIN:VEVENT
DTSTART;TZID=Asia/Krasnoyarsk:20260306T200000
DTEND;TZID=Asia/Krasnoyarsk:20260306T213000
DTSTAMP:20260420T202916
CREATED:20260226T182925Z
LAST-MODIFIED:20260226T182939Z
UID:114857-1772827200-1772832600@axendacultural.aelg.gal
SUMMARY:Presentación de Mundo Carne\, de Branca Trigo\, en Compostela
DESCRIPTION:
URL:https://axendacultural.aelg.gal/event/presentacion-de-mundo-carne-de-branca-trigo-en-compostela/
LOCATION:Libraría Pedreira\, Libraría Pedreira\, Santiago de Compostela
CATEGORIES:Ilustración,Narrativa,Presentación de libros
END:VEVENT
BEGIN:VEVENT
DTSTART;TZID=Asia/Krasnoyarsk:20260306T200000
DTEND;TZID=Asia/Krasnoyarsk:20260306T213000
DTSTAMP:20260420T202916
CREATED:20260302T131614Z
LAST-MODIFIED:20260302T131614Z
UID:115001-1772827200-1772832600@axendacultural.aelg.gal
SUMMARY:Presentación de María Vázquez\, a mestra eliminada polo franquismo\, de Aurora Marco\, en Betanzos
DESCRIPTION:
URL:https://axendacultural.aelg.gal/event/presentacion-de-maria-vazquez-a-mestra-eliminada-polo-franquismo-de-aurora-marco-en-betanzos/
LOCATION:Edificio Liceo Betanzos\, Edificio Liceo\, Betanzos
CATEGORIES:Biografías,Divulgación,Historia,Presentación de libros
END:VEVENT
END:VCALENDAR