BEGIN:VCALENDAR
VERSION:2.0
PRODID:-//::Axenda cultural AELG:: - ECPv6.6.4.2//NONSGML v1.0//EN
CALSCALE:GREGORIAN
METHOD:PUBLISH
X-ORIGINAL-URL:https://axendacultural.aelg.gal
X-WR-CALDESC:Events for ::Axenda cultural AELG::
REFRESH-INTERVAL;VALUE=DURATION:PT1H
X-Robots-Tag:noindex
X-PUBLISHED-TTL:PT1H
BEGIN:VTIMEZONE
TZID:Asia/Krasnoyarsk
BEGIN:STANDARD
TZOFFSETFROM:+0700
TZOFFSETTO:+0700
TZNAME:+07
DTSTART:20260101T000000
END:STANDARD
END:VTIMEZONE
BEGIN:VEVENT
DTSTART;TZID=Asia/Krasnoyarsk:20260317T190000
DTEND;TZID=Asia/Krasnoyarsk:20260317T210000
DTSTAMP:20260420T233514
CREATED:20260311T121321Z
LAST-MODIFIED:20260311T121343Z
UID:115369-1773774000-1773781200@axendacultural.aelg.gal
SUMMARY:4 tempos: conversas con ciencia. Verdor terríbel na ciencia do poema\, na Coruña
DESCRIPTION:
URL:https://axendacultural.aelg.gal/event/4-tempos-conversas-con-ciencia-verdor-terribel-na-ciencia-do-poema-na-coruna/
LOCATION:Fundación Luís Seoane\, Fundación Luís Seoane\, A Coruña
CATEGORIES:Ciencia,Coloquios,Música,Poesía,Recitais
END:VEVENT
BEGIN:VEVENT
DTSTART;TZID=Asia/Krasnoyarsk:20260318T100000
DTEND;TZID=Asia/Krasnoyarsk:20260318T130000
DTSTAMP:20260420T233514
CREATED:20260312T094752Z
LAST-MODIFIED:20260312T095005Z
UID:115391-1773828000-1773838800@axendacultural.aelg.gal
SUMMARY:Xornada Ricardo Carvalho Calero e Ramón Otero Pedrayo: Memoria dunha fonda relación\, en Compostela
DESCRIPTION:
URL:https://axendacultural.aelg.gal/event/xornada-ricardo-carvalho-calero-e-ramon-otero-pedrayo-memoria-dunha-fonda-relacion-en-compostela/
LOCATION:Parlamento de Galicia\, Parlamento de Galicia\, Santiago de Compostela
CATEGORIES:Coloquios,Encontros e Xornadas,Ensaio,Literatura e ensino,Mesas redondas,Música,Narrativa,Poesía,Recitais,Teatro
END:VEVENT
BEGIN:VEVENT
DTSTART;TZID=Asia/Krasnoyarsk:20260318T190000
DTEND;TZID=Asia/Krasnoyarsk:20260318T210000
DTSTAMP:20260420T233514
CREATED:20260316T174911Z
LAST-MODIFIED:20260317T175209Z
UID:115671-1773860400-1773867600@axendacultural.aelg.gal
SUMMARY:Actividades do 18 de marzo no Festival Alguén que respira 2026\, en Compostela
DESCRIPTION:
URL:https://axendacultural.aelg.gal/event/actividades-do-18-de-marzo-no-festival-alguen-que-respira-2026-en-compostela/
LOCATION:Teatro Principal de Santiago de Compostela\, Teatro Principal\, Santiago de Compostela
CATEGORIES:Coloquios,Comunicados e manifestos,Poesía,Recitais
END:VEVENT
BEGIN:VEVENT
DTSTART;TZID=Asia/Krasnoyarsk:20260319T190000
DTEND;TZID=Asia/Krasnoyarsk:20260319T220000
DTSTAMP:20260420T233514
CREATED:20260317T175548Z
LAST-MODIFIED:20260317T175706Z
UID:115683-1773946800-1773957600@axendacultural.aelg.gal
SUMMARY:Actividades do 19 de marzo no Festival Alguén que respira 2026\, en Compostela
DESCRIPTION:
URL:https://axendacultural.aelg.gal/event/actividades-do-19-de-marzo-no-festival-alguen-que-respira-2026-en-compostela/
LOCATION:Teatro Principal de Santiago de Compostela\, Teatro Principal\, Santiago de Compostela
CATEGORIES:Historia,Internacional,Poesía,Recitais
END:VEVENT
BEGIN:VEVENT
DTSTART;TZID=Asia/Krasnoyarsk:20260320T200000
DTEND;TZID=Asia/Krasnoyarsk:20260320T220000
DTSTAMP:20260420T233514
CREATED:20260317T180134Z
LAST-MODIFIED:20260317T180315Z
UID:115694-1774036800-1774044000@axendacultural.aelg.gal
SUMMARY:Actividades do 20 de marzo no Festival Alguén que respira 2026\, en Compostela
DESCRIPTION:
URL:https://axendacultural.aelg.gal/event/actividades-do-20-de-marzo-no-festival-alguen-que-respira-2026-en-compostela/
LOCATION:Teatro Principal de Santiago de Compostela\, Teatro Principal\, Santiago de Compostela
CATEGORIES:Ciencia,Coloquios,Literatura e ensino,Música,Poesía,Recitais
END:VEVENT
BEGIN:VEVENT
DTSTART;TZID=Asia/Krasnoyarsk:20260321T110000
DTEND;TZID=Asia/Krasnoyarsk:20260321T140000
DTSTAMP:20260420T233514
CREATED:20260317T173557Z
LAST-MODIFIED:20260317T173557Z
UID:115650-1774090800-1774101600@axendacultural.aelg.gal
SUMMARY:I Festival de Poesía de Redondela María Balteira
DESCRIPTION:
URL:https://axendacultural.aelg.gal/event/i-festival-de-poesia-de-redondela-maria-balteira/
LOCATION:Libraría Rosalía e Compañía\, Libraría Rosalía e Compañía\, Redondela
CATEGORIES:Coloquios,Música,Poesía,Presentación de libros,Recitais
END:VEVENT
BEGIN:VEVENT
DTSTART;TZID=Asia/Krasnoyarsk:20260321T123000
DTEND;TZID=Asia/Krasnoyarsk:20260321T140000
DTSTAMP:20260420T233514
CREATED:20260311T115136Z
LAST-MODIFIED:20260311T115312Z
UID:115351-1774096200-1774101600@axendacultural.aelg.gal
SUMMARY:Recital de poesía e presentación de poemarios de Comadres das Letras e María Álvarez Landesa\, no Carballiño
DESCRIPTION:
URL:https://axendacultural.aelg.gal/event/recital-de-poesia-e-presentacion-de-poemarios-de-comadres-das-letras-e-maria-alvarez-landesa-no-carballino/
LOCATION:OZOCOgz (O Carballiño)\, OZOCOgz Deseño Galego\, O Carballiño
CATEGORIES:Poesía,Presentación de libros,Recitais
END:VEVENT
BEGIN:VEVENT
DTSTART;TZID=Asia/Krasnoyarsk:20260321T180000
DTEND;TZID=Asia/Krasnoyarsk:20260321T220000
DTSTAMP:20260420T233514
CREATED:20260317T180745Z
LAST-MODIFIED:20260317T181043Z
UID:115707-1774116000-1774130400@axendacultural.aelg.gal
SUMMARY:Actividades do 21 de marzo no Festival Alguén que respira 2026\, en Compostela
DESCRIPTION:
URL:https://axendacultural.aelg.gal/event/actividades-do-21-de-marzo-no-festival-alguen-que-respira-2026-en-compostela/
LOCATION:Teatro Principal de Santiago de Compostela\, Teatro Principal\, Santiago de Compostela
CATEGORIES:Cinema,Coloquios,Poesía,Recitais
END:VEVENT
BEGIN:VEVENT
DTSTART;TZID=Asia/Krasnoyarsk:20260323T190000
DTEND;TZID=Asia/Krasnoyarsk:20260323T203000
DTSTAMP:20260420T233514
CREATED:20260321T174004Z
LAST-MODIFIED:20260401T102529Z
UID:115912-1774292400-1774297800@axendacultural.aelg.gal
SUMMARY:Presentación\, coloquio e combate poético arredor de O ring\, con Yolanda López e Xoán Pedreira\, na Coruña
DESCRIPTION:
URL:https://axendacultural.aelg.gal/event/presentacion-coloquio-e-combate-poetico-arredor-de-o-ring-con-yolanda-lopez-e-xoan-pedreira-na-coruna/
LOCATION:Biblioteca Municipal Fórum Metropolitano da Coruña\, Biblioteca Municipal Fórum Metropolitano\, A Coruña
CATEGORIES:Coloquios,Poesía,Presentación de libros,Recitais
END:VEVENT
BEGIN:VEVENT
DTSTART;TZID=Asia/Krasnoyarsk:20260323T200000
DTEND;TZID=Asia/Krasnoyarsk:20260323T210000
DTSTAMP:20260420T233514
CREATED:20260320T103838Z
LAST-MODIFIED:20260320T103838Z
UID:115831-1774296000-1774299600@axendacultural.aelg.gal
SUMMARY:Recital de Xoán C. Rodríguez e Rómulo Bustos Aguirre no Ciclo Poetas Di(n)versos\, na Coruña
DESCRIPTION:
URL:https://axendacultural.aelg.gal/event/recital-de-xoan-c-rodriguez-e-romulo-bustos-aguirre-no-ciclo-poetas-dinversos-na-coruna/
LOCATION:Centro Ágora\, Centro Ágora\, A Coruña
CATEGORIES:Internacional,Poesía,Recitais
END:VEVENT
BEGIN:VEVENT
DTSTART;TZID=Asia/Krasnoyarsk:20260325T183000
DTEND;TZID=Asia/Krasnoyarsk:20260325T203000
DTSTAMP:20260420T233514
CREATED:20260315T212743Z
LAST-MODIFIED:20260315T212743Z
UID:115566-1774463400-1774470600@axendacultural.aelg.gal
SUMMARY:Recital poético e concerto polo Día da Poesía\, en Vigo
DESCRIPTION:
URL:https://axendacultural.aelg.gal/event/recital-poetico-e-concerto-polo-dia-da-poesia-en-vigo/
LOCATION:Café De catro a catro\, Café De catro a catro\, Vigo
CATEGORIES:Música,Poesía,Recitais
END:VEVENT
BEGIN:VEVENT
DTSTART;TZID=Asia/Krasnoyarsk:20260328T123000
DTEND;TZID=Asia/Krasnoyarsk:20260328T140000
DTSTAMP:20260420T233514
CREATED:20260326T092055Z
LAST-MODIFIED:20260330T092123Z
UID:116179-1774701000-1774706400@axendacultural.aelg.gal
SUMMARY:Conversa e recital no Día Mundial da Poesía 2026\, en Pontevedra
DESCRIPTION:
URL:https://axendacultural.aelg.gal/event/conversa-e-recital-no-dia-mundial-da-poesia-2026-en-pontevedra/
LOCATION:Deputación de Pontevedra\, Deputación Provincial de Pontevedra - Edificio Administrativo\, Pontevedra
CATEGORIES:Coloquios,Poesía,Recitais
END:VEVENT
BEGIN:VEVENT
DTSTART;TZID=Asia/Krasnoyarsk:20260328T180000
DTEND;TZID=Asia/Krasnoyarsk:20260328T193000
DTSTAMP:20260420T233515
CREATED:20260310T231357Z
LAST-MODIFIED:20260310T231600Z
UID:115330-1774720800-1774726200@axendacultural.aelg.gal
SUMMARY:Recital poético Caldeirón con motivo da exposición de Peter Kramer\, na Coruña
DESCRIPTION:
URL:https://axendacultural.aelg.gal/event/recital-poetico-caldeiron-con-motivo-da-exposicion-de-peter-kramer-na-coruna/
LOCATION:Concello da Coruña\, Concello da Coruña\, A Coruña
CATEGORIES:Poesía,Recitais
END:VEVENT
BEGIN:VEVENT
DTSTART;TZID=Asia/Krasnoyarsk:20260328T193000
DTEND;TZID=Asia/Krasnoyarsk:20260328T233000
DTSTAMP:20260420T233515
CREATED:20260316T221745Z
LAST-MODIFIED:20260316T221745Z
UID:115629-1774726200-1774740600@axendacultural.aelg.gal
SUMMARY:XIII Roteiro poético Ponme un poema!\, en Allariz
DESCRIPTION:
URL:https://axendacultural.aelg.gal/event/xiii-roteiro-poetico-ponme-un-poema-en-allariz/
CATEGORIES:Música,Poesía,Recitais
END:VEVENT
END:VCALENDAR