BEGIN:VCALENDAR
VERSION:2.0
PRODID:-//::Axenda cultural AELG:: - ECPv6.6.4.2//NONSGML v1.0//EN
CALSCALE:GREGORIAN
METHOD:PUBLISH
X-ORIGINAL-URL:https://axendacultural.aelg.gal
X-WR-CALDESC:Events for ::Axenda cultural AELG::
REFRESH-INTERVAL;VALUE=DURATION:PT1H
X-Robots-Tag:noindex
X-PUBLISHED-TTL:PT1H
BEGIN:VTIMEZONE
TZID:Asia/Krasnoyarsk
BEGIN:STANDARD
TZOFFSETFROM:+0700
TZOFFSETTO:+0700
TZNAME:+07
DTSTART:20250101T000000
END:STANDARD
END:VTIMEZONE
BEGIN:VEVENT
DTSTART;TZID=Asia/Krasnoyarsk:20251219T190000
DTEND;TZID=Asia/Krasnoyarsk:20251219T200000
DTSTAMP:20260421T065002
CREATED:20251213T135215Z
LAST-MODIFIED:20251222T135527Z
UID:112519-1766170800-1766174400@axendacultural.aelg.gal
SUMMARY:Recital de poesía de Víctor Hugo Díaz\, na Coruña
DESCRIPTION:
URL:https://axendacultural.aelg.gal/event/recital-de-poesia-de-victor-hugo-diaz-na-coruna/
LOCATION:Sede Afundación A Coruña\, Sede Afundación A Coruña\, A Coruña
CATEGORIES:Poesía,Recitais,Tradución
END:VEVENT
BEGIN:VEVENT
DTSTART;TZID=Asia/Krasnoyarsk:20251219T190000
DTEND;TZID=Asia/Krasnoyarsk:20251219T203000
DTSTAMP:20260421T065002
CREATED:20251212T232004Z
LAST-MODIFIED:20251219T232146Z
UID:112443-1766170800-1766176200@axendacultural.aelg.gal
SUMMARY:"Poetas cruzados"\, con Estíbaliz Espinosa e Carlos Negro\, na Coruña
DESCRIPTION:
URL:https://axendacultural.aelg.gal/event/poetas-cruzados-con-estibaliz-espinosa-e-carlos-negro-na-coruna/
LOCATION:Libraría Galgo Azul\, Galgo Azul (Libros\, grolos e moito máis)\, A Coruña
CATEGORIES:Poesía,Recitais
END:VEVENT
BEGIN:VEVENT
DTSTART;TZID=Asia/Krasnoyarsk:20251219T191900
DTEND;TZID=Asia/Krasnoyarsk:20251219T210000
DTSTAMP:20260421T065002
CREATED:20251213T141400Z
LAST-MODIFIED:20251230T141626Z
UID:112713-1766171940-1766178000@axendacultural.aelg.gal
SUMMARY:Velada literaria con Roberto Traba e Modesto Fraga\, en Fisterra
DESCRIPTION:
URL:https://axendacultural.aelg.gal/event/velada-literaria-con-roberto-traba-e-modesto-fraga-en-fisterra/
LOCATION:A Galería Bibliotaberna\, A Galería Bibliotaberna\, Fisterra
CATEGORIES:Coloquios,Poesía,Presentación de libros,Recitais
END:VEVENT
END:VCALENDAR