BEGIN:VCALENDAR
VERSION:2.0
PRODID:-//::Axenda cultural AELG:: - ECPv6.6.4.2//NONSGML v1.0//EN
CALSCALE:GREGORIAN
METHOD:PUBLISH
X-ORIGINAL-URL:https://axendacultural.aelg.gal
X-WR-CALDESC:Events for ::Axenda cultural AELG::
REFRESH-INTERVAL;VALUE=DURATION:PT1H
X-Robots-Tag:noindex
X-PUBLISHED-TTL:PT1H
BEGIN:VTIMEZONE
TZID:Asia/Krasnoyarsk
BEGIN:STANDARD
TZOFFSETFROM:+0700
TZOFFSETTO:+0700
TZNAME:+07
DTSTART:20250101T000000
END:STANDARD
END:VTIMEZONE
BEGIN:VEVENT
DTSTART;TZID=Asia/Krasnoyarsk:20251221T120000
DTEND;TZID=Asia/Krasnoyarsk:20251221T133000
DTSTAMP:20260421T011236
CREATED:20251212T125716Z
LAST-MODIFIED:20251212T125756Z
UID:112289-1766318400-1766323800@axendacultural.aelg.gal
SUMMARY:Roteiro Historias da Arte: Castelao e os seus contemporáneos\, con Iria-Friné Rivera Vázquez
DESCRIPTION:
URL:https://axendacultural.aelg.gal/event/roteiro-historias-da-arte-castelao-e-os-seus-contemporaneos-con-iria-frine-rivera-vazquez/
LOCATION:Monumento a Eduardo Pondal (A Coruña)\, Eduardo Pondal Escultura\, A Coruña
CATEGORIES:Actividades AELG,Arte,Asociación de Escritoras e Escritores en Lingua Galega,Narrativa,Roteiros
END:VEVENT
END:VCALENDAR