BEGIN:VCALENDAR
VERSION:2.0
PRODID:-//::Axenda cultural AELG:: - ECPv6.6.4.2//NONSGML v1.0//EN
CALSCALE:GREGORIAN
METHOD:PUBLISH
X-WR-CALNAME:::Axenda cultural AELG::
X-ORIGINAL-URL:https://axendacultural.aelg.gal
X-WR-CALDESC:Events for ::Axenda cultural AELG::
REFRESH-INTERVAL;VALUE=DURATION:PT1H
X-Robots-Tag:noindex
X-PUBLISHED-TTL:PT1H
BEGIN:VTIMEZONE
TZID:Asia/Krasnoyarsk
BEGIN:STANDARD
TZOFFSETFROM:+0700
TZOFFSETTO:+0700
TZNAME:+07
DTSTART:20260101T000000
END:STANDARD
END:VTIMEZONE
BEGIN:VEVENT
DTSTART;TZID=Asia/Krasnoyarsk:20260307T190000
DTEND;TZID=Asia/Krasnoyarsk:20260307T203000
DTSTAMP:20260420T050953
CREATED:20260304T082343Z
LAST-MODIFIED:20260304T082623Z
UID:115077-1772910000-1772915400@axendacultural.aelg.gal
SUMMARY:Representación do Auto dos simulados da Caravilla\, de Manuel María\, do grupo de teatro da A. C. Medulio\, en Compostela
DESCRIPTION:Retirada das entradas na Zona C (Praza de Cervantes). Dúas por persoa.\nHorario: a partir do 4 de marzo\, de 11 a 14h. e de 16 a 19h.
URL:https://axendacultural.aelg.gal/event/representacion-do-auto-dos-simulados-da-caravilla-de-manuel-maria-do-grupo-de-teatro-da-a-c-medulio-en-compostela/
LOCATION:Teatro Principal de Santiago de Compostela\, Teatro Principal\, Santiago de Compostela
CATEGORIES:Teatro,Teatro en escena
END:VEVENT
BEGIN:VEVENT
DTSTART;TZID=Asia/Krasnoyarsk:20260318T100000
DTEND;TZID=Asia/Krasnoyarsk:20260318T130000
DTSTAMP:20260420T050953
CREATED:20260312T094752Z
LAST-MODIFIED:20260312T095005Z
UID:115391-1773828000-1773838800@axendacultural.aelg.gal
SUMMARY:Xornada Ricardo Carvalho Calero e Ramón Otero Pedrayo: Memoria dunha fonda relación\, en Compostela
DESCRIPTION:
URL:https://axendacultural.aelg.gal/event/xornada-ricardo-carvalho-calero-e-ramon-otero-pedrayo-memoria-dunha-fonda-relacion-en-compostela/
LOCATION:Parlamento de Galicia\, Parlamento de Galicia\, Santiago de Compostela
CATEGORIES:Coloquios,Encontros e Xornadas,Ensaio,Literatura e ensino,Mesas redondas,Música,Narrativa,Poesía,Recitais,Teatro
END:VEVENT
BEGIN:VEVENT
DTSTART;TZID=Asia/Krasnoyarsk:20260325T113000
DTEND;TZID=Asia/Krasnoyarsk:20260325T130000
DTSTAMP:20260420T050953
CREATED:20260320T140747Z
LAST-MODIFIED:20260320T140747Z
UID:115881-1774438200-1774443600@axendacultural.aelg.gal
SUMMARY:Día Mundial do Teatro. Charla-obradoiro con Carlos Labraña\, en Compostela
DESCRIPTION:Desde El Corte Inglés de Santiago de Compostela:\n“No marco da celebración internacional do teatro\, conmemorando o Día Mundial das Artes Escénicas para a Infancia e a Mocidade (20 de marzo) e o Día Mundial do Teatro (27 de marzo)\, Ámbito Cultural de Santiago organiza unha actividade especial destinada a achegar o teatro aos máis novos\, o 25 de marzo\, ás 11:30 h.\, na Sala Ámbito Cultural de El Corte Inglés de Santiago de Compostela\, Carlos Labraña manterá un encontro cuxo obxectivo é achegar o teatro aos escolares mediante unha sesión lúdica\, participativa e formativa que permita ao alumnado descubrir a literatura dramática desde dentro: escoitándoa\, interpretándoa e gozándoa. A esa sesión asistirá alumnado do Colexio Alca\, convidados especialmente para participar nesta actividade vivencial.”
URL:https://axendacultural.aelg.gal/event/dia-mundial-do-teatro-charla-obradoiro-con-carlos-labrana-en-compostela/
CATEGORIES:Coloquios,Infantil e xuvenil,Literatura e ensino,Teatro
END:VEVENT
BEGIN:VEVENT
DTSTART;TZID=Asia/Krasnoyarsk:20260326T190000
DTEND;TZID=Asia/Krasnoyarsk:20260326T200000
DTSTAMP:20260420T050953
CREATED:20260324T110404Z
LAST-MODIFIED:20260324T110414Z
UID:116033-1774551600-1774555200@axendacultural.aelg.gal
SUMMARY:Presentación de Os rapaces só se tocan para darse de hostias\, de Iván Caloto\, en Redondela
DESCRIPTION:
URL:https://axendacultural.aelg.gal/event/presentacion-de-os-rapaces-so-se-tocan-para-darse-de-hostias-de-ivan-caloto-en-redondela/
LOCATION:Libraría Rosalía e Compañía\, Libraría Rosalía e Compañía\, Redondela
CATEGORIES:Presentación de libros,Teatro
END:VEVENT
END:VCALENDAR