BEGIN:VCALENDAR
VERSION:2.0
PRODID:-//::Axenda cultural AELG:: - ECPv6.6.4.2//NONSGML v1.0//EN
CALSCALE:GREGORIAN
METHOD:PUBLISH
X-WR-CALNAME:::Axenda cultural AELG::
X-ORIGINAL-URL:https://axendacultural.aelg.gal
X-WR-CALDESC:Events for ::Axenda cultural AELG::
REFRESH-INTERVAL;VALUE=DURATION:PT1H
X-Robots-Tag:noindex
X-PUBLISHED-TTL:PT1H
BEGIN:VTIMEZONE
TZID:Asia/Krasnoyarsk
BEGIN:STANDARD
TZOFFSETFROM:+0700
TZOFFSETTO:+0700
TZNAME:+07
DTSTART:20250101T000000
END:STANDARD
END:VTIMEZONE
BEGIN:VEVENT
DTSTART;TZID=Asia/Krasnoyarsk:20251227T203000
DTEND;TZID=Asia/Krasnoyarsk:20251227T213000
DTSTAMP:20260420T114250
CREATED:20251225T211033Z
LAST-MODIFIED:20251225T211033Z
UID:112652-1766867400-1766871000@axendacultural.aelg.gal
SUMMARY:Estarei até a fin\, con zOe iriaARTE. Teatro e poesía por Palestina\, en Sarria
DESCRIPTION:
URL:https://axendacultural.aelg.gal/event/estarei-ate-a-fin-con-zoe-iriaarte-teatro-e-poesia-por-palestina-en-sarria/
LOCATION:Casa da Cultura de Sarria\, Casa da Cultura de Sarria\, Sarria
CATEGORIES:Poesía,Teatro
END:VEVENT
END:VCALENDAR