BEGIN:VCALENDAR
VERSION:2.0
PRODID:-//::Axenda cultural AELG:: - ECPv6.6.4.2//NONSGML v1.0//EN
CALSCALE:GREGORIAN
METHOD:PUBLISH
X-WR-CALNAME:::Axenda cultural AELG::
X-ORIGINAL-URL:https://axendacultural.aelg.gal
X-WR-CALDESC:Events for ::Axenda cultural AELG::
REFRESH-INTERVAL;VALUE=DURATION:PT1H
X-Robots-Tag:noindex
X-PUBLISHED-TTL:PT1H
BEGIN:VTIMEZONE
TZID:Asia/Krasnoyarsk
BEGIN:STANDARD
TZOFFSETFROM:+0700
TZOFFSETTO:+0700
TZNAME:+07
DTSTART:20260101T000000
END:STANDARD
END:VTIMEZONE
BEGIN:VEVENT
DTSTART;TZID=Asia/Krasnoyarsk:20260223T170000
DTEND;TZID=Asia/Krasnoyarsk:20260223T183000
DTSTAMP:20260420T114253
CREATED:20260218T111504Z
LAST-MODIFIED:20260218T111504Z
UID:114467-1771866000-1771871400@axendacultural.aelg.gal
SUMMARY:Día de Rosalía de Castro 2026\, na Coruña
DESCRIPTION:
URL:https://axendacultural.aelg.gal/event/dia-de-rosalia-de-castro-2026-na-coruna/
LOCATION:Teatro Rosalía de Castro\, Teatro Rosalía de Castro\, A Coruña
CATEGORIES:Actividades AELG,Comunicados e manifestos,Lectura,Música,Poesía,Recitais,Teatro
END:VEVENT
END:VCALENDAR