BEGIN:VCALENDAR
VERSION:2.0
PRODID:-//::Axenda cultural AELG:: - ECPv6.6.4.2//NONSGML v1.0//EN
CALSCALE:GREGORIAN
METHOD:PUBLISH
X-WR-CALNAME:::Axenda cultural AELG::
X-ORIGINAL-URL:https://axendacultural.aelg.gal
X-WR-CALDESC:Events for ::Axenda cultural AELG::
REFRESH-INTERVAL;VALUE=DURATION:PT1H
X-Robots-Tag:noindex
X-PUBLISHED-TTL:PT1H
BEGIN:VTIMEZONE
TZID:Asia/Krasnoyarsk
BEGIN:STANDARD
TZOFFSETFROM:+0700
TZOFFSETTO:+0700
TZNAME:+07
DTSTART:20250101T000000
END:STANDARD
END:VTIMEZONE
BEGIN:VEVENT
DTSTART;TZID=Asia/Krasnoyarsk:20251128T183000
DTEND;TZID=Asia/Krasnoyarsk:20251128T200000
DTSTAMP:20260420T011908
CREATED:20251124T215659Z
LAST-MODIFIED:20251220T125905Z
UID:111252-1764354600-1764360000@axendacultural.aelg.gal
SUMMARY:Presentación de O faiado das papoulas\, de Baia Fernández de la Torre
DESCRIPTION:
URL:https://axendacultural.aelg.gal/event/presentacion-de-o-faiado-das-papoulas-de-baia-fernandez-de-la-torre-4/
LOCATION:A Casa Vella (Tabeirós A Estrada)\, A CASA VELLA\, Tabeirós (A Estrada)
CATEGORIES:Poesía,Presentación de libros
END:VEVENT
END:VCALENDAR