BEGIN:VCALENDAR
VERSION:2.0
PRODID:-//::Axenda cultural AELG:: - ECPv6.6.4.2//NONSGML v1.0//EN
CALSCALE:GREGORIAN
METHOD:PUBLISH
X-WR-CALNAME:::Axenda cultural AELG::
X-ORIGINAL-URL:https://axendacultural.aelg.gal
X-WR-CALDESC:Events for ::Axenda cultural AELG::
REFRESH-INTERVAL;VALUE=DURATION:PT1H
X-Robots-Tag:noindex
X-PUBLISHED-TTL:PT1H
BEGIN:VTIMEZONE
TZID:Asia/Krasnoyarsk
BEGIN:STANDARD
TZOFFSETFROM:+0700
TZOFFSETTO:+0700
TZNAME:+07
DTSTART:20260101T000000
END:STANDARD
END:VTIMEZONE
BEGIN:VEVENT
DTSTART;TZID=Asia/Krasnoyarsk:20260304T190000
DTEND;TZID=Asia/Krasnoyarsk:20260304T203000
DTSTAMP:20260424T061132
CREATED:20260226T085347Z
LAST-MODIFIED:20260226T085401Z
UID:114797-1772650800-1772656200@axendacultural.aelg.gal
SUMMARY:Presentación de Poden pensar as máquinas?\, de Senén Barro\, en Compostela
DESCRIPTION:
URL:https://axendacultural.aelg.gal/event/presentacion-de-poden-pensar-as-maquinas-de-senen-barro-en-compostela/
LOCATION:Libraría Follas Novas\, Librería Follas Novas (Santiago de Compostela)\, Santiago de Compostela
CATEGORIES:Ensaio,Intelixencia Artificial,Presentación de libros
END:VEVENT
BEGIN:VEVENT
DTSTART;TZID=Asia/Krasnoyarsk:20260306T200000
DTEND;TZID=Asia/Krasnoyarsk:20260306T213000
DTSTAMP:20260424T061132
CREATED:20260302T131614Z
LAST-MODIFIED:20260302T131614Z
UID:115001-1772827200-1772832600@axendacultural.aelg.gal
SUMMARY:Presentación de María Vázquez\, a mestra eliminada polo franquismo\, de Aurora Marco\, en Betanzos
DESCRIPTION:
URL:https://axendacultural.aelg.gal/event/presentacion-de-maria-vazquez-a-mestra-eliminada-polo-franquismo-de-aurora-marco-en-betanzos/
LOCATION:Edificio Liceo Betanzos\, Edificio Liceo\, Betanzos
CATEGORIES:Biografías,Divulgación,Historia,Presentación de libros
END:VEVENT
BEGIN:VEVENT
DTSTART;TZID=Asia/Krasnoyarsk:20260320T200000
DTEND;TZID=Asia/Krasnoyarsk:20260320T210000
DTSTAMP:20260424T061132
CREATED:20260310T184450Z
LAST-MODIFIED:20260310T184450Z
UID:115320-1774036800-1774040400@axendacultural.aelg.gal
SUMMARY:Palestra "Mestras represaliadas. María Vázquez Suárez"\, por Aurora Marco\, en Vilalba
DESCRIPTION:
URL:https://axendacultural.aelg.gal/event/palestra-mestras-represaliadas-maria-vazquez-suarez-por-aurora-marco-en-vilalba/
LOCATION:Auditorio Municipal de Vilalba\, Auditorio Carmen Estévez\, Vilalba
CATEGORIES:Biografías,Historia,Palestras
END:VEVENT
BEGIN:VEVENT
DTSTART;TZID=Asia/Krasnoyarsk:20260321T123000
DTEND;TZID=Asia/Krasnoyarsk:20260321T140000
DTSTAMP:20260424T061132
CREATED:20260311T115136Z
LAST-MODIFIED:20260311T115312Z
UID:115351-1774096200-1774101600@axendacultural.aelg.gal
SUMMARY:Recital de poesía e presentación de poemarios de Comadres das Letras e María Álvarez Landesa\, no Carballiño
DESCRIPTION:
URL:https://axendacultural.aelg.gal/event/recital-de-poesia-e-presentacion-de-poemarios-de-comadres-das-letras-e-maria-alvarez-landesa-no-carballino/
LOCATION:OZOCOgz (O Carballiño)\, OZOCOgz Deseño Galego\, O Carballiño
CATEGORIES:Poesía,Presentación de libros,Recitais
END:VEVENT
BEGIN:VEVENT
DTSTART;TZID=Asia/Krasnoyarsk:20260324T200000
DTEND;TZID=Asia/Krasnoyarsk:20260324T213000
DTSTAMP:20260424T061132
CREATED:20260319T174940Z
LAST-MODIFIED:20260319T174940Z
UID:115794-1774382400-1774387800@axendacultural.aelg.gal
SUMMARY:Presentación de Semente de vencer\, de Darío Xohán Cabana\, en Vigo
DESCRIPTION:
URL:https://axendacultural.aelg.gal/event/presentacion-de-semente-de-vencer-de-dario-xohan-cabana-en-vigo/
LOCATION:Libraría Cartabón\, Libraría Cartabón\, Vigo
CATEGORIES:Poesía,Presentación de libros
END:VEVENT
BEGIN:VEVENT
DTSTART;TZID=Asia/Krasnoyarsk:20260326T190000
DTEND;TZID=Asia/Krasnoyarsk:20260326T203000
DTSTAMP:20260424T061132
CREATED:20260320T101252Z
LAST-MODIFIED:20260320T101252Z
UID:115815-1774551600-1774557000@axendacultural.aelg.gal
SUMMARY:Presentación de Árbore arriba\, de Xosé María Álvarez Cáccamo\, en Compostela
DESCRIPTION:
URL:https://axendacultural.aelg.gal/event/presentacion-de-arbore-arriba-de-xose-maria-alvarez-caccamo-en-compostela/
LOCATION:Numax\, Rúa Concepción Arenal\, 9\, Santiago de Compostela
CATEGORIES:Biografías,Presentación de libros
END:VEVENT
END:VCALENDAR