BEGIN:VCALENDAR
VERSION:2.0
PRODID:-//::Axenda cultural AELG:: - ECPv6.6.4.2//NONSGML v1.0//EN
CALSCALE:GREGORIAN
METHOD:PUBLISH
X-ORIGINAL-URL:https://axendacultural.aelg.gal
X-WR-CALDESC:Events for ::Axenda cultural AELG::
REFRESH-INTERVAL;VALUE=DURATION:PT1H
X-Robots-Tag:noindex
X-PUBLISHED-TTL:PT1H
BEGIN:VTIMEZONE
TZID:Asia/Krasnoyarsk
BEGIN:STANDARD
TZOFFSETFROM:+0700
TZOFFSETTO:+0700
TZNAME:+07
DTSTART:20260101T000000
END:STANDARD
END:VTIMEZONE
BEGIN:VEVENT
DTSTART;TZID=Asia/Krasnoyarsk:20260430T193000
DTEND;TZID=Asia/Krasnoyarsk:20260430T210000
DTSTAMP:20260425T095909
CREATED:20260424T195222Z
LAST-MODIFIED:20260424T195222Z
UID:117478-1777577400-1777582800@axendacultural.aelg.gal
SUMMARY:"Escribir en Palestina hoxe: Basim Kahndaqji\, Escritor Galego Universal"\, charla de Xavier Queipo\, en Vigo
DESCRIPTION:
URL:https://axendacultural.aelg.gal/event/escribir-en-palestina-hoxe-basim-kahndaqji-escritor-galego-universal-charla-de-xavier-queipo-en-vigo/
LOCATION:RioLagares\, RioLagares\, Vigo
CATEGORIES:Internacional,Palestras
END:VEVENT
END:VCALENDAR