BEGIN:VCALENDAR
VERSION:2.0
PRODID:-//::Axenda cultural AELG:: - ECPv6.6.4.2//NONSGML v1.0//EN
CALSCALE:GREGORIAN
METHOD:PUBLISH
X-WR-CALNAME:::Axenda cultural AELG::
X-ORIGINAL-URL:https://axendacultural.aelg.gal
X-WR-CALDESC:Events for ::Axenda cultural AELG::
REFRESH-INTERVAL;VALUE=DURATION:PT1H
X-Robots-Tag:noindex
X-PUBLISHED-TTL:PT1H
BEGIN:VTIMEZONE
TZID:Asia/Krasnoyarsk
BEGIN:STANDARD
TZOFFSETFROM:+0700
TZOFFSETTO:+0700
TZNAME:+07
DTSTART:20260101T000000
END:STANDARD
END:VTIMEZONE
BEGIN:VEVENT
DTSTART;TZID=Asia/Krasnoyarsk:20260424T203000
DTEND;TZID=Asia/Krasnoyarsk:20260424T213000
DTSTAMP:20260422T063419
CREATED:20260421T160117Z
LAST-MODIFIED:20260421T160117Z
UID:117343-1777062600-1777066200@axendacultural.aelg.gal
SUMMARY:Coloquio arredor de Begoña Caamaño\, en Foz
DESCRIPTION:
URL:https://axendacultural.aelg.gal/event/coloquio-arredor-de-begona-caamano-en-foz/
LOCATION:Libraría Bahía\, Librería Bahía\, Foz
CATEGORIES:Coloquios
END:VEVENT
END:VCALENDAR