BEGIN:VCALENDAR
VERSION:2.0
PRODID:-//::Axenda cultural AELG:: - ECPv6.6.4.2//NONSGML v1.0//EN
CALSCALE:GREGORIAN
METHOD:PUBLISH
X-WR-CALNAME:::Axenda cultural AELG::
X-ORIGINAL-URL:https://axendacultural.aelg.gal
X-WR-CALDESC:Events for ::Axenda cultural AELG::
REFRESH-INTERVAL;VALUE=DURATION:PT1H
X-Robots-Tag:noindex
X-PUBLISHED-TTL:PT1H
BEGIN:VTIMEZONE
TZID:Asia/Krasnoyarsk
BEGIN:STANDARD
TZOFFSETFROM:+0700
TZOFFSETTO:+0700
TZNAME:+07
DTSTART:20260101T000000
END:STANDARD
END:VTIMEZONE
BEGIN:VEVENT
DTSTART;TZID=Asia/Krasnoyarsk:20260424T193000
DTEND;TZID=Asia/Krasnoyarsk:20260424T210000
DTSTAMP:20260422T062500
CREATED:20260421T160439Z
LAST-MODIFIED:20260421T160600Z
UID:117350-1777059000-1777064400@axendacultural.aelg.gal
SUMMARY:Presentación de Begoñísima\, de Andrea Nunes Brións\, e celebración de Begoña Caamaño\, en Compostela
DESCRIPTION:
URL:https://axendacultural.aelg.gal/event/presentacion-de-begonisima-de-andrea-nunes-brions-e-celebracion-de-begona-caamano-en-compostela/
LOCATION:Libraría Lila de Lilith\, Libraría Lila de Lilith\, Santiago de Compostela
CATEGORIES:Biografías,Coloquios,Ilustración,Infantil e xuvenil,Presentación de libros
END:VEVENT
END:VCALENDAR