BEGIN:VCALENDAR
VERSION:2.0
PRODID:-//::Axenda cultural AELG:: - ECPv6.6.4.2//NONSGML v1.0//EN
CALSCALE:GREGORIAN
METHOD:PUBLISH
X-ORIGINAL-URL:https://axendacultural.aelg.gal
X-WR-CALDESC:Events for ::Axenda cultural AELG::
REFRESH-INTERVAL;VALUE=DURATION:PT1H
X-Robots-Tag:noindex
X-PUBLISHED-TTL:PT1H
BEGIN:VTIMEZONE
TZID:Asia/Krasnoyarsk
BEGIN:STANDARD
TZOFFSETFROM:+0700
TZOFFSETTO:+0700
TZNAME:+07
DTSTART:20260101T000000
END:STANDARD
END:VTIMEZONE
BEGIN:VEVENT
DTSTART;TZID=Asia/Krasnoyarsk:20260423T190000
DTEND;TZID=Asia/Krasnoyarsk:20260423T203000
DTSTAMP:20260422T055214
CREATED:20260421T121846Z
LAST-MODIFIED:20260421T122010Z
UID:117295-1776970800-1776976200@axendacultural.aelg.gal
SUMMARY:Presentación de Queda moito por sachar\, de Xosé Manuel del Caño\, no Barco de Valdeorras
DESCRIPTION:
URL:https://axendacultural.aelg.gal/event/presentacion-de-queda-moito-por-sachar-de-xose-manuel-del-cano-no-barco-de-valdeorras/
LOCATION:Biblioteca Pública Municipal do Barco de Valdeorras\, Biblioteca Pública Municipal de O Barco de Valdeorras\, O Barco de Valdeorras
CATEGORIES:Ensaio,Presentación de libros
END:VEVENT
END:VCALENDAR