BEGIN:VCALENDAR
VERSION:2.0
PRODID:-//::Axenda cultural AELG:: - ECPv6.6.4.2//NONSGML v1.0//EN
CALSCALE:GREGORIAN
METHOD:PUBLISH
X-WR-CALNAME:::Axenda cultural AELG::
X-ORIGINAL-URL:https://axendacultural.aelg.gal
X-WR-CALDESC:Events for ::Axenda cultural AELG::
REFRESH-INTERVAL;VALUE=DURATION:PT1H
X-Robots-Tag:noindex
X-PUBLISHED-TTL:PT1H
BEGIN:VTIMEZONE
TZID:Asia/Krasnoyarsk
BEGIN:STANDARD
TZOFFSETFROM:+0700
TZOFFSETTO:+0700
TZNAME:+07
DTSTART:20260101T000000
END:STANDARD
END:VTIMEZONE
BEGIN:VEVENT
DTSTART;TZID=Asia/Krasnoyarsk:20260314T113000
DTEND;TZID=Asia/Krasnoyarsk:20260314T130000
DTSTAMP:20260420T185542
CREATED:20260305T224352Z
LAST-MODIFIED:20260305T224507Z
UID:115224-1773487800-1773493200@axendacultural.aelg.gal
SUMMARY:Presentación de Xanelas ao mundo\, de Cristina Otero Correa\, en Narón
DESCRIPTION:
URL:https://axendacultural.aelg.gal/event/presentacion-de-xanelas-ao-mundo-de-cristina-otero-correa-en-naron/
LOCATION:Biblioteca Pública Municipal de Narón\, Biblioteca Pública Municipal de Narón\, Narón
CATEGORIES:Infantil e xuvenil,Música,Narrativa,Presentación de libros
END:VEVENT
END:VCALENDAR