BEGIN:VCALENDAR
VERSION:2.0
PRODID:-//::Axenda cultural AELG:: - ECPv6.6.4.2//NONSGML v1.0//EN
CALSCALE:GREGORIAN
METHOD:PUBLISH
X-WR-CALNAME:::Axenda cultural AELG::
X-ORIGINAL-URL:https://axendacultural.aelg.gal
X-WR-CALDESC:Events for ::Axenda cultural AELG::
REFRESH-INTERVAL;VALUE=DURATION:PT1H
X-Robots-Tag:noindex
X-PUBLISHED-TTL:PT1H
BEGIN:VTIMEZONE
TZID:Asia/Krasnoyarsk
BEGIN:STANDARD
TZOFFSETFROM:+0700
TZOFFSETTO:+0700
TZNAME:+07
DTSTART:20260101T000000
END:STANDARD
END:VTIMEZONE
BEGIN:VEVENT
DTSTART;TZID=Asia/Krasnoyarsk:20260117T123000
DTEND;TZID=Asia/Krasnoyarsk:20260117T140000
DTSTAMP:20260420T035310
CREATED:20260115T095206Z
LAST-MODIFIED:20260115T095206Z
UID:113075-1768653000-1768658400@axendacultural.aelg.gal
SUMMARY:Xurxo Souto presenta A novela do Bravú na Coruña
DESCRIPTION:
URL:https://axendacultural.aelg.gal/event/xurxo-souto-presenta-a-novela-do-bravu-na-coruna/
LOCATION:C. S. Gomes Gaioso\, Gomes Gaioso\, A Coruña
CATEGORIES:Música,Narrativa,Presentación de libros
END:VEVENT
END:VCALENDAR