BEGIN:VCALENDAR
VERSION:2.0
PRODID:-//::Axenda cultural AELG:: - ECPv6.6.4.2//NONSGML v1.0//EN
CALSCALE:GREGORIAN
METHOD:PUBLISH
X-ORIGINAL-URL:https://axendacultural.aelg.gal
X-WR-CALDESC:Events for ::Axenda cultural AELG::
REFRESH-INTERVAL;VALUE=DURATION:PT1H
X-Robots-Tag:noindex
X-PUBLISHED-TTL:PT1H
BEGIN:VTIMEZONE
TZID:Asia/Krasnoyarsk
BEGIN:STANDARD
TZOFFSETFROM:+0700
TZOFFSETTO:+0700
TZNAME:+07
DTSTART:20260101T000000
END:STANDARD
END:VTIMEZONE
BEGIN:VEVENT
DTSTART;TZID=Asia/Krasnoyarsk:20260323T193000
DTEND;TZID=Asia/Krasnoyarsk:20260323T210000
DTSTAMP:20260424T162725
CREATED:20260319T175620Z
LAST-MODIFIED:20260319T175620Z
UID:115804-1774294200-1774299600@axendacultural.aelg.gal
SUMMARY:Presentación de Desertos\, de Miguel Sande\, en Viveiro
DESCRIPTION:
URL:https://axendacultural.aelg.gal/event/presentacion-de-desertos-de-miguel-sande-en-viveiro/
LOCATION:Libraría Porta da Vila\, Libraría Porta da Vila\, Viveiro
CATEGORIES:Música,Poesía,Presentación de libros
END:VEVENT
END:VCALENDAR