BEGIN:VCALENDAR
VERSION:2.0
PRODID:-//::Axenda cultural AELG:: - ECPv6.6.4.2//NONSGML v1.0//EN
CALSCALE:GREGORIAN
METHOD:PUBLISH
X-WR-CALNAME:::Axenda cultural AELG::
X-ORIGINAL-URL:https://axendacultural.aelg.gal
X-WR-CALDESC:Events for ::Axenda cultural AELG::
REFRESH-INTERVAL;VALUE=DURATION:PT1H
X-Robots-Tag:noindex
X-PUBLISHED-TTL:PT1H
BEGIN:VTIMEZONE
TZID:Asia/Krasnoyarsk
BEGIN:STANDARD
TZOFFSETFROM:+0700
TZOFFSETTO:+0700
TZNAME:+07
DTSTART:20250101T000000
END:STANDARD
END:VTIMEZONE
BEGIN:VEVENT
DTSTART;TZID=Asia/Krasnoyarsk:20251119T190000
DTEND;TZID=Asia/Krasnoyarsk:20251119T203000
DTSTAMP:20260423T005119
CREATED:20251116T213746Z
LAST-MODIFIED:20251116T215333Z
UID:110466-1763578800-1763584200@axendacultural.aelg.gal
SUMMARY:Presentación de As tolas que non o eran\, de Carmen V. Valiña
DESCRIPTION:
URL:https://axendacultural.aelg.gal/event/presentacion-de-as-tolas-que-non-o-eran-de-carmen-v-valina/
LOCATION:Centro Cultural Marcos Valcárcel\, Centro Cultural Marcos Valcárcel\, Ourense
CATEGORIES:Ensaio,Historia,Presentación de libros
END:VEVENT
END:VCALENDAR