BEGIN:VCALENDAR
VERSION:2.0
PRODID:-//::Axenda cultural AELG:: - ECPv6.6.4.2//NONSGML v1.0//EN
CALSCALE:GREGORIAN
METHOD:PUBLISH
X-WR-CALNAME:::Axenda cultural AELG::
X-ORIGINAL-URL:https://axendacultural.aelg.gal
X-WR-CALDESC:Events for ::Axenda cultural AELG::
REFRESH-INTERVAL;VALUE=DURATION:PT1H
X-Robots-Tag:noindex
X-PUBLISHED-TTL:PT1H
BEGIN:VTIMEZONE
TZID:Asia/Krasnoyarsk
BEGIN:STANDARD
TZOFFSETFROM:+0700
TZOFFSETTO:+0700
TZNAME:+07
DTSTART:20250101T000000
END:STANDARD
END:VTIMEZONE
BEGIN:VEVENT
DTSTART;TZID=Asia/Krasnoyarsk:20251202T193000
DTEND;TZID=Asia/Krasnoyarsk:20251202T203000
DTSTAMP:20260421T162705
CREATED:20251201T232254Z
LAST-MODIFIED:20251201T232302Z
UID:111703-1764703800-1764707400@axendacultural.aelg.gal
SUMMARY:Conferencia Castelao: construtor da memoria histórica da Galiza\, por Pilar García Negro\, na Coruña
DESCRIPTION:
URL:https://axendacultural.aelg.gal/event/conferencia-castelao-construtor-da-memoria-historica-da-galiza-por-pilar-garcia-negro-na-coruna/
LOCATION:Casa Museo Casares Quiroga (A Coruña)\, Casa Museo Casares Quiroga\, A Coruña
CATEGORIES:Conferencias,Historia,Política
END:VEVENT
BEGIN:VEVENT
DTSTART;TZID=Asia/Krasnoyarsk:20251203T200000
DTEND;TZID=Asia/Krasnoyarsk:20251203T213000
DTSTAMP:20260421T162705
CREATED:20251201T183634Z
LAST-MODIFIED:20251201T184259Z
UID:111674-1764792000-1764797400@axendacultural.aelg.gal
SUMMARY:Presentación de Castelao\, desta terra e deste tempo\, de Manuel Rei Romeu\, en Xuvia (Narón)
DESCRIPTION:
URL:https://axendacultural.aelg.gal/event/presentacion-de-castelao-desta-terra-e-deste-tempo-de-manuel-rei-romeu-en-xuvia-naron/
LOCATION:Asociación de Veciños de Altea (Xuvia)\, AV Altea de Xuvia\, Xuvia (Narón)
CATEGORIES:Coloquios,Ensaio,Presentación de libros
END:VEVENT
BEGIN:VEVENT
DTSTART;TZID=Asia/Krasnoyarsk:20251204T200000
DTEND;TZID=Asia/Krasnoyarsk:20251204T213000
DTSTAMP:20260421T162705
CREATED:20251201T184532Z
LAST-MODIFIED:20251201T184532Z
UID:111683-1764878400-1764883800@axendacultural.aelg.gal
SUMMARY:Presentación de Castelao\, desta terra e deste tempo\, de Manuel Rei Romeu\, en Ourense
DESCRIPTION:
URL:https://axendacultural.aelg.gal/event/presentacion-de-castelao-desta-terra-e-deste-tempo-de-manuel-rei-romeu-en-ourense/
LOCATION:Liceo de Ourense\, El Liceo de Ourense\, Ourense
CATEGORIES:Coloquios,Ensaio,Presentación de libros
END:VEVENT
BEGIN:VEVENT
DTSTART;TZID=Asia/Krasnoyarsk:20251205T180000
DTEND;TZID=Asia/Krasnoyarsk:20251205T193000
DTSTAMP:20260421T162705
CREATED:20251204T131234Z
LAST-MODIFIED:20251204T131417Z
UID:111850-1764957600-1764963000@axendacultural.aelg.gal
SUMMARY:Presentación de Castelao\, de Inacio e Iván Suárez\, de Compostela
DESCRIPTION:
URL:https://axendacultural.aelg.gal/event/presentacion-de-castelao-de-inacio-e-ivan-suarez-de-compostela/
LOCATION:Komic Libraría Santiago de Compostela\, Komic Librería\, Santiago de Compostela
CATEGORIES:Banda deseñada,Presentación de libros
END:VEVENT
BEGIN:VEVENT
DTSTART;TZID=Asia/Krasnoyarsk:20251210T193000
DTEND;TZID=Asia/Krasnoyarsk:20251210T210000
DTSTAMP:20260421T162705
CREATED:20251202T073748Z
LAST-MODIFIED:20251202T073857Z
UID:111726-1765395000-1765400400@axendacultural.aelg.gal
SUMMARY:Presentación de Sempre en Galiza. Escolma posible\, de Castelao\, en Lugo
DESCRIPTION:
URL:https://axendacultural.aelg.gal/event/presentacion-de-sempre-en-galiza-escolma-posible-de-castelao-en-lugo/
LOCATION:Deputación de Lugo\, Deputación Provincial de Lugo\, Lugo
CATEGORIES:Edición,Ensaio,Presentación de libros
END:VEVENT
BEGIN:VEVENT
DTSTART;TZID=Asia/Krasnoyarsk:20251211T190000
DTEND;TZID=Asia/Krasnoyarsk:20251211T203000
DTSTAMP:20260421T162705
CREATED:20251207T235714Z
LAST-MODIFIED:20251207T235735Z
UID:112081-1765479600-1765485000@axendacultural.aelg.gal
SUMMARY:Presentación de Castelao. Entre Nós\, 75 anos despois e Os soños de Daniel\, de Paco López-Barxas\, no Carballiño
DESCRIPTION:
URL:https://axendacultural.aelg.gal/event/presentacion-de-castelao-entre-nos-75-anos-despois-e-os-sonos-de-daniel-de-paco-lopez-barxas-no-carballino/
LOCATION:OZOCOgz (O Carballiño)\, OZOCOgz Deseño Galego\, O Carballiño
CATEGORIES:Divulgación,Presentación de libros
END:VEVENT
BEGIN:VEVENT
DTSTART;TZID=Asia/Krasnoyarsk:20251212T201500
DTEND;TZID=Asia/Krasnoyarsk:20251212T213000
DTSTAMP:20260421T162705
CREATED:20251202T173751Z
LAST-MODIFIED:20251210T172403Z
UID:111789-1765570500-1765575000@axendacultural.aelg.gal
SUMMARY:Presentación de Castelao\, desta terra e deste tempo\, de Manuel Rei Romeu\, en Ribadavia
DESCRIPTION:
URL:https://axendacultural.aelg.gal/event/presentacion-de-castelao-desta-terra-e-deste-tempo-de-manuel-rei-romeu-en-ribadavia/
LOCATION:Cafetería La huella del gato\, La huella del gato\, Ribadavia
CATEGORIES:Ensaio,Presentación de libros
END:VEVENT
BEGIN:VEVENT
DTSTART;TZID=Asia/Krasnoyarsk:20251213T103000
DTEND;TZID=Asia/Krasnoyarsk:20251213T193000
DTSTAMP:20260421T162705
CREATED:20251208T140708Z
LAST-MODIFIED:20251209T183836Z
UID:112122-1765621800-1765654200@axendacultural.aelg.gal
SUMMARY:Xornadas Vicente Risco e Daniel Castelao: Galiza como proxecto vital\, en Allariz
DESCRIPTION:
URL:https://axendacultural.aelg.gal/event/xornadas-vicente-risco-e-daniel-castelao-galiza-como-proxecto-vital-en-allariz/
LOCATION:Fundación Vicente Risco\, Fundación Vicente Risco\, Allariz
CATEGORIES:Banda deseñada,Encontros e Xornadas,Lusofonia,Mesas redondas,Presentación de libros
END:VEVENT
BEGIN:VEVENT
DTSTART;TZID=Asia/Krasnoyarsk:20251213T120000
DTEND;TZID=Asia/Krasnoyarsk:20251213T133000
DTSTAMP:20260421T162705
CREATED:20251202T173039Z
LAST-MODIFIED:20251202T173128Z
UID:111778-1765627200-1765632600@axendacultural.aelg.gal
SUMMARY:Presentación de Castelao\, desta terra e deste tempo\, de Manuel Rei Romeu\, en Arzúa
DESCRIPTION:
URL:https://axendacultural.aelg.gal/event/presentacion-de-castelao-desta-terra-e-deste-tempo-de-manuel-rei-romeu-en-arzua/
LOCATION:Libraría Anagrama\, Librería Anagrama\, Arzúa
CATEGORIES:Ensaio,Presentación de libros
END:VEVENT
BEGIN:VEVENT
DTSTART;TZID=Asia/Krasnoyarsk:20251220T111500
DTEND;TZID=Asia/Krasnoyarsk:20251220T140000
DTSTAMP:20260421T162705
CREATED:20251218T202859Z
LAST-MODIFIED:20251219T202944Z
UID:112426-1766229300-1766239200@axendacultural.aelg.gal
SUMMARY:Xornada Castelao 2025\, en Bande
DESCRIPTION:
URL:https://axendacultural.aelg.gal/event/xornada-castelao-2025-en-bande/
LOCATION:Concello de Bande\, Concelho de Bande\, Bande
CATEGORIES:Coloquios,Conferencias,Poesía,Recitais
END:VEVENT
BEGIN:VEVENT
DTSTART;TZID=Asia/Krasnoyarsk:20251221T120000
DTEND;TZID=Asia/Krasnoyarsk:20251221T133000
DTSTAMP:20260421T162706
CREATED:20251212T125716Z
LAST-MODIFIED:20251212T125756Z
UID:112289-1766318400-1766323800@axendacultural.aelg.gal
SUMMARY:Roteiro Historias da Arte: Castelao e os seus contemporáneos\, con Iria-Friné Rivera Vázquez
DESCRIPTION:
URL:https://axendacultural.aelg.gal/event/roteiro-historias-da-arte-castelao-e-os-seus-contemporaneos-con-iria-frine-rivera-vazquez/
LOCATION:Monumento a Eduardo Pondal (A Coruña)\, Eduardo Pondal Escultura\, A Coruña
CATEGORIES:Actividades AELG,Arte,Asociación de Escritoras e Escritores en Lingua Galega,Narrativa,Roteiros
END:VEVENT
BEGIN:VEVENT
DTSTART;TZID=Asia/Krasnoyarsk:20251228T120000
DTEND;TZID=Asia/Krasnoyarsk:20251228T133000
DTSTAMP:20260421T162706
CREATED:20251225T202223Z
LAST-MODIFIED:20251225T202223Z
UID:112597-1766923200-1766928600@axendacultural.aelg.gal
SUMMARY:Ofrenda musical da Fundación Castelao\, en Compostela
DESCRIPTION:
URL:https://axendacultural.aelg.gal/event/ofrenda-musical-da-fundacion-castelao-en-compostela/
CATEGORIES:Música
END:VEVENT
END:VCALENDAR