BEGIN:VCALENDAR
VERSION:2.0
PRODID:-//::Axenda cultural AELG:: - ECPv6.6.4.2//NONSGML v1.0//EN
CALSCALE:GREGORIAN
METHOD:PUBLISH
X-WR-CALNAME:::Axenda cultural AELG::
X-ORIGINAL-URL:https://axendacultural.aelg.gal
X-WR-CALDESC:Events for ::Axenda cultural AELG::
REFRESH-INTERVAL;VALUE=DURATION:PT1H
X-Robots-Tag:noindex
X-PUBLISHED-TTL:PT1H
BEGIN:VTIMEZONE
TZID:Asia/Krasnoyarsk
BEGIN:STANDARD
TZOFFSETFROM:+0700
TZOFFSETTO:+0700
TZNAME:+07
DTSTART:20260101T000000
END:STANDARD
END:VTIMEZONE
BEGIN:VEVENT
DTSTART;TZID=Asia/Krasnoyarsk:20260302T200000
DTEND;TZID=Asia/Krasnoyarsk:20260302T213000
DTSTAMP:20260423T235853
CREATED:20260226T183314Z
LAST-MODIFIED:20260226T183413Z
UID:114864-1772481600-1772487000@axendacultural.aelg.gal
SUMMARY:Presentación do caderno 170 anos do Banquete de Conxo\, en Compostela
DESCRIPTION:
URL:https://axendacultural.aelg.gal/event/presentacion-do-caderno-170-anos-do-banquete-de-conxo-en-compostela/
LOCATION:Centro Sociocultural Aurelio Aguirre de Conxo (Santiago de Compostela)\, Centro Sociocultural Aurelio Aguirre de Conxo (Santiago de Compostela)\, Santiago de Compostela
CATEGORIES:Divulgación,Historia,Presentación de libros
END:VEVENT
BEGIN:VEVENT
DTSTART;TZID=Asia/Krasnoyarsk:20260303T193000
DTEND;TZID=Asia/Krasnoyarsk:20260303T210000
DTSTAMP:20260423T235853
CREATED:20260225T164349Z
LAST-MODIFIED:20260225T164349Z
UID:114781-1772566200-1772571600@axendacultural.aelg.gal
SUMMARY:Homenaxe a Antón Vilar Ponte no 90 aniversario do seu pasamento\, na Coruña
DESCRIPTION:
URL:https://axendacultural.aelg.gal/event/homenaxe-a-anton-vilar-ponte-no-90-aniversario-do-seu-pasamento-na-coruna/
LOCATION:Circo de Artesáns (A Coruña)\, Circulo de Artesanos\, A Coruña
CATEGORIES:Aniversarios,Homenaxes
END:VEVENT
BEGIN:VEVENT
DTSTART;TZID=Asia/Krasnoyarsk:20260307T190000
DTEND;TZID=Asia/Krasnoyarsk:20260307T203000
DTSTAMP:20260423T235853
CREATED:20260304T082343Z
LAST-MODIFIED:20260304T082623Z
UID:115077-1772910000-1772915400@axendacultural.aelg.gal
SUMMARY:Representación do Auto dos simulados da Caravilla\, de Manuel María\, do grupo de teatro da A. C. Medulio\, en Compostela
DESCRIPTION:Retirada das entradas na Zona C (Praza de Cervantes). Dúas por persoa.\nHorario: a partir do 4 de marzo\, de 11 a 14h. e de 16 a 19h.
URL:https://axendacultural.aelg.gal/event/representacion-do-auto-dos-simulados-da-caravilla-de-manuel-maria-do-grupo-de-teatro-da-a-c-medulio-en-compostela/
LOCATION:Teatro Principal de Santiago de Compostela\, Teatro Principal\, Santiago de Compostela
CATEGORIES:Teatro,Teatro en escena
END:VEVENT
BEGIN:VEVENT
DTSTART;TZID=Asia/Krasnoyarsk:20260313T193000
DTEND;TZID=Asia/Krasnoyarsk:20260313T210000
DTSTAMP:20260423T235853
CREATED:20260310T183234Z
LAST-MODIFIED:20260310T183234Z
UID:115312-1773430200-1773435600@axendacultural.aelg.gal
SUMMARY:Presentación de A novela do Bravú\, de Xurxo Souto\, en Pontedeume
DESCRIPTION:
URL:https://axendacultural.aelg.gal/event/presentacion-de-a-novela-do-bravu-de-xurxo-souto-en-pontedeume-2/
LOCATION:Casa da Cultura de Pontedeume\, Casa da Cultura de Pontedeume\, Pontedeume
CATEGORIES:Divulgación,Música,Narrativa,Presentación de libros
END:VEVENT
BEGIN:VEVENT
DTSTART;TZID=Asia/Krasnoyarsk:20260317T190000
DTEND;TZID=Asia/Krasnoyarsk:20260317T210000
DTSTAMP:20260423T235853
CREATED:20260311T121321Z
LAST-MODIFIED:20260311T121343Z
UID:115369-1773774000-1773781200@axendacultural.aelg.gal
SUMMARY:4 tempos: conversas con ciencia. Verdor terríbel na ciencia do poema\, na Coruña
DESCRIPTION:
URL:https://axendacultural.aelg.gal/event/4-tempos-conversas-con-ciencia-verdor-terribel-na-ciencia-do-poema-na-coruna/
LOCATION:Fundación Luís Seoane\, Fundación Luís Seoane\, A Coruña
CATEGORIES:Ciencia,Coloquios,Música,Poesía,Recitais
END:VEVENT
BEGIN:VEVENT
DTSTART;TZID=Asia/Krasnoyarsk:20260329T120000
DTEND;TZID=Asia/Krasnoyarsk:20260329T133000
DTSTAMP:20260423T235853
CREATED:20260320T225749Z
LAST-MODIFIED:20260320T225749Z
UID:115901-1774785600-1774791000@axendacultural.aelg.gal
SUMMARY:Presentación de Onde nace\, de Manuel López Rodríguez\, en Negreira
DESCRIPTION:
URL:https://axendacultural.aelg.gal/event/presentacion-de-onde-nace-de-manuel-lopez-rodriguez-en-negreira/
LOCATION:Asociación Cultural Gazafellos do Val\, Asoc. Cultural Gazafellos do Val\, Negreira
CATEGORIES:Poesía,Presentación de libros
END:VEVENT
END:VCALENDAR