BEGIN:VCALENDAR
VERSION:2.0
PRODID:-//::Axenda cultural AELG:: - ECPv6.6.4.2//NONSGML v1.0//EN
CALSCALE:GREGORIAN
METHOD:PUBLISH
X-WR-CALNAME:::Axenda cultural AELG::
X-ORIGINAL-URL:https://axendacultural.aelg.gal
X-WR-CALDESC:Events for ::Axenda cultural AELG::
REFRESH-INTERVAL;VALUE=DURATION:PT1H
X-Robots-Tag:noindex
X-PUBLISHED-TTL:PT1H
BEGIN:VTIMEZONE
TZID:Asia/Krasnoyarsk
BEGIN:STANDARD
TZOFFSETFROM:+0700
TZOFFSETTO:+0700
TZNAME:+07
DTSTART:20260101T000000
END:STANDARD
END:VTIMEZONE
BEGIN:VEVENT
DTSTART;TZID=Asia/Krasnoyarsk:20260213T193000
DTEND;TZID=Asia/Krasnoyarsk:20260213T210000
DTSTAMP:20260421T122011
CREATED:20260210T152757Z
LAST-MODIFIED:20260217T152815Z
UID:114409-1771011000-1771016400@axendacultural.aelg.gal
SUMMARY:Presentación de Desvendando Rosalía e a súa obra\, de Francisco Rodríguez\, en Lugo
DESCRIPTION:
URL:https://axendacultural.aelg.gal/event/presentacion-de-desvendando-rosalia-e-a-sua-obra-de-francisco-rodriguez-en-lugo/
LOCATION:Centro Cultural O Vello Cárcere\, O Vello Cárcere\, Lugo
CATEGORIES:Ensaio,Presentación de libros
END:VEVENT
END:VCALENDAR