BEGIN:VCALENDAR
VERSION:2.0
PRODID:-//::Axenda cultural AELG:: - ECPv6.6.4.2//NONSGML v1.0//EN
CALSCALE:GREGORIAN
METHOD:PUBLISH
X-ORIGINAL-URL:https://axendacultural.aelg.gal
X-WR-CALDESC:Events for ::Axenda cultural AELG::
REFRESH-INTERVAL;VALUE=DURATION:PT1H
X-Robots-Tag:noindex
X-PUBLISHED-TTL:PT1H
BEGIN:VTIMEZONE
TZID:Asia/Krasnoyarsk
BEGIN:STANDARD
TZOFFSETFROM:+0700
TZOFFSETTO:+0700
TZNAME:+07
DTSTART:20260101T000000
END:STANDARD
END:VTIMEZONE
BEGIN:VEVENT
DTSTART;TZID=Asia/Krasnoyarsk:20260307T113000
DTEND;TZID=Asia/Krasnoyarsk:20260307T130000
DTSTAMP:20260423T101759
CREATED:20260304T220030Z
LAST-MODIFIED:20260305T220209Z
UID:115198-1772883000-1772888400@axendacultural.aelg.gal
SUMMARY:Seminario de lectura Arredor de si\, arredor de nós (3ª sesión)\, con Luís G. Soto\, en Carballo
DESCRIPTION:
URL:https://axendacultural.aelg.gal/event/seminario-de-lectura-arredor-de-si-arredor-de-nos-3a-sesion-con-luis-g-soto-en-carballo/
LOCATION:Espiral Maior Foro\, Espiral Maior Foro\, Carballo
CATEGORIES:Coloquios,Lectura,Narrativa
END:VEVENT
BEGIN:VEVENT
DTSTART;TZID=Asia/Krasnoyarsk:20260313T200000
DTEND;TZID=Asia/Krasnoyarsk:20260313T210000
DTSTAMP:20260423T101759
CREATED:20260310T105328Z
LAST-MODIFIED:20260310T105328Z
UID:115304-1773432000-1773435600@axendacultural.aelg.gal
SUMMARY:Presentación de Hipnose Encarnada\, de Ramiro Torres\, en Carballo
DESCRIPTION:
URL:https://axendacultural.aelg.gal/event/presentacion-de-hipnose-encarnada-de-ramiro-torres-en-carballo/
LOCATION:Espiral Maior Foro\, Espiral Maior Foro\, Carballo
CATEGORIES:Poesía,Presentación de libros
END:VEVENT
BEGIN:VEVENT
DTSTART;TZID=Asia/Krasnoyarsk:20260321T113000
DTEND;TZID=Asia/Krasnoyarsk:20260321T133000
DTSTAMP:20260423T101759
CREATED:20260319T170121Z
LAST-MODIFIED:20260319T170121Z
UID:115778-1774092600-1774099800@axendacultural.aelg.gal
SUMMARY:Cuarta sesión do Seminario de lectura\, interpretación e debate Arredor de si\, arredor de nós\, dirixido por Luís G. Soto\, en Carballo
DESCRIPTION:
URL:https://axendacultural.aelg.gal/event/cuarta-sesion-do-seminario-de-lectura-interpretacion-e-debate-arredor-de-si-arredor-de-nos-dirixido-por-luis-g-soto-en-carballo/
LOCATION:Espiral Maior Foro\, Espiral Maior Foro\, Carballo
CATEGORIES:Coloquios,Lectura,Narrativa
END:VEVENT
BEGIN:VEVENT
DTSTART;TZID=Asia/Krasnoyarsk:20260325T200000
DTEND;TZID=Asia/Krasnoyarsk:20260325T210000
DTSTAMP:20260423T101759
CREATED:20260317T174403Z
LAST-MODIFIED:20260317T174403Z
UID:115663-1774468800-1774472400@axendacultural.aelg.gal
SUMMARY:Presentación de O eco das ondas\, de César Morán\, en Carballo
DESCRIPTION:
URL:https://axendacultural.aelg.gal/event/presentacion-de-o-eco-das-ondas-de-cesar-moran-en-carballo/
LOCATION:Espiral Maior Foro\, Espiral Maior Foro\, Carballo
CATEGORIES:Ensaio,Música,Presentación de libros
END:VEVENT
END:VCALENDAR