BEGIN:VCALENDAR
VERSION:2.0
PRODID:-//::Axenda cultural AELG:: - ECPv6.6.4.2//NONSGML v1.0//EN
CALSCALE:GREGORIAN
METHOD:PUBLISH
X-WR-CALNAME:::Axenda cultural AELG::
X-ORIGINAL-URL:https://axendacultural.aelg.gal
X-WR-CALDESC:Events for ::Axenda cultural AELG::
REFRESH-INTERVAL;VALUE=DURATION:PT1H
X-Robots-Tag:noindex
X-PUBLISHED-TTL:PT1H
BEGIN:VTIMEZONE
TZID:Asia/Krasnoyarsk
BEGIN:STANDARD
TZOFFSETFROM:+0700
TZOFFSETTO:+0700
TZNAME:+07
DTSTART:20260101T000000
END:STANDARD
END:VTIMEZONE
BEGIN:VEVENT
DTSTART;TZID=Asia/Krasnoyarsk:20260309T200000
DTEND;TZID=Asia/Krasnoyarsk:20260309T213000
DTSTAMP:20260426T034619
CREATED:20260304T105451Z
LAST-MODIFIED:20260304T105451Z
UID:115110-1773086400-1773091800@axendacultural.aelg.gal
SUMMARY:Presentación de Intelixencia e creación. A obra plástica de Francisco Miguel\, de Carlos L. Bernárdez\, en Vigo
DESCRIPTION:
URL:https://axendacultural.aelg.gal/event/presentacion-de-intelixencia-e-creacion-a-obra-plastica-de-francisco-miguel-de-carlos-l-bernardez-en-vigo/
LOCATION:Fundación Euseino?\, Fundación Euseino?\, Vigo
CATEGORIES:Arte,Ensaio,Presentación de libros
END:VEVENT
BEGIN:VEVENT
DTSTART;TZID=Asia/Krasnoyarsk:20260324T200000
DTEND;TZID=Asia/Krasnoyarsk:20260324T213000
DTSTAMP:20260426T034619
CREATED:20260319T175301Z
LAST-MODIFIED:20260319T175301Z
UID:115799-1774382400-1774387800@axendacultural.aelg.gal
SUMMARY:Presentación de Tempo de correspondencia\, de Xerardo Quintiá e Xesús Fraga\, en Vigo
DESCRIPTION:
URL:https://axendacultural.aelg.gal/event/presentacion-de-tempo-de-correspondencia-de-xerardo-quintia-e-xesus-fraga-en-vigo/
LOCATION:Fundación Euseino?\, Fundación Euseino?\, Vigo
CATEGORIES:Biografías,Ensaio,Presentación de libros
END:VEVENT
BEGIN:VEVENT
DTSTART;TZID=Asia/Krasnoyarsk:20260326T200000
DTEND;TZID=Asia/Krasnoyarsk:20260326T213000
DTSTAMP:20260426T034619
CREATED:20260324T112321Z
LAST-MODIFIED:20260324T112341Z
UID:116049-1774555200-1774560600@axendacultural.aelg.gal
SUMMARY:Encontro con Anxos Sumai arredor do seu libro A nena de xeo\, en Vigo
DESCRIPTION:
URL:https://axendacultural.aelg.gal/event/encontro-con-anxos-sumai-arredor-do-seu-libro-a-nena-de-xeo-en-vigo/
LOCATION:Fundación Euseino?\, Fundación Euseino?\, Vigo
CATEGORIES:Infantil e xuvenil,Narrativa,Presentación de libros
END:VEVENT
END:VCALENDAR