BEGIN:VCALENDAR
VERSION:2.0
PRODID:-//::Axenda cultural AELG:: - ECPv6.6.4.2//NONSGML v1.0//EN
CALSCALE:GREGORIAN
METHOD:PUBLISH
X-WR-CALNAME:::Axenda cultural AELG::
X-ORIGINAL-URL:https://axendacultural.aelg.gal
X-WR-CALDESC:Events for ::Axenda cultural AELG::
REFRESH-INTERVAL;VALUE=DURATION:PT1H
X-Robots-Tag:noindex
X-PUBLISHED-TTL:PT1H
BEGIN:VTIMEZONE
TZID:Asia/Krasnoyarsk
BEGIN:STANDARD
TZOFFSETFROM:+0700
TZOFFSETTO:+0700
TZNAME:+07
DTSTART:20260101T000000
END:STANDARD
END:VTIMEZONE
BEGIN:VEVENT
DTSTART;TZID=Asia/Krasnoyarsk:20260423T120000
DTEND;TZID=Asia/Krasnoyarsk:20260423T130000
DTSTAMP:20260421T024627
CREATED:20260420T125033Z
LAST-MODIFIED:20260420T125041Z
UID:117173-1776945600-1776949200@axendacultural.aelg.gal
SUMMARY:Tiago Alves Costa asina exemplares da súa obra no Sant Jordi 2026\, en Barcelona
DESCRIPTION:
URL:https://axendacultural.aelg.gal/event/tiago-alves-costa-asina-exemplares-da-sua-obra-no-sant-jordi-2026-en-barcelona/
LOCATION:Instituto Guimarães Rosa Barcelona\, Instituto Guimarães Rosa Barcelona/Centro Cultural do Brasil em Barcelona\, Barcelona
CATEGORIES:Poesía,Presentación de libros
END:VEVENT
END:VCALENDAR