BEGIN:VCALENDAR
VERSION:2.0
PRODID:-//::Axenda cultural AELG:: - ECPv6.6.4.2//NONSGML v1.0//EN
CALSCALE:GREGORIAN
METHOD:PUBLISH
X-ORIGINAL-URL:https://axendacultural.aelg.gal
X-WR-CALDESC:Events for ::Axenda cultural AELG::
REFRESH-INTERVAL;VALUE=DURATION:PT1H
X-Robots-Tag:noindex
X-PUBLISHED-TTL:PT1H
BEGIN:VTIMEZONE
TZID:Asia/Krasnoyarsk
BEGIN:STANDARD
TZOFFSETFROM:+0700
TZOFFSETTO:+0700
TZNAME:+07
DTSTART:20250101T000000
END:STANDARD
END:VTIMEZONE
BEGIN:VEVENT
DTSTART;TZID=Asia/Krasnoyarsk:20251108T100000
DTEND;TZID=Asia/Krasnoyarsk:20251108T190000
DTSTAMP:20260423T180056
CREATED:20251105T123545Z
LAST-MODIFIED:20251204T173445Z
UID:109624-1762596000-1762628400@axendacultural.aelg.gal
SUMMARY:Simposio Castelao
DESCRIPTION:
URL:https://axendacultural.aelg.gal/event/simposio-castelao/
LOCATION:Facultade de Ciencias da Comunicación da Universidade de Santiago de Compostela\, Campus Norte\, Avenida de Castelao\, s/n.\, Santiago de Compostela
CATEGORIES:Arte,Audiovisual,Coloquios,Conferencias,Encontros e Xornadas,Ensaio,Historia,Mesas redondas,Narrativa,Política,Teatro
END:VEVENT
BEGIN:VEVENT
DTSTART;TZID=Asia/Krasnoyarsk:20251121T200000
DTEND;TZID=Asia/Krasnoyarsk:20251121T213000
DTSTAMP:20260423T180056
CREATED:20251119T221352Z
LAST-MODIFIED:20251119T221352Z
UID:110829-1763755200-1763760600@axendacultural.aelg.gal
SUMMARY:Acto público sobre Castelao\, con Marta Dacosta
DESCRIPTION:
URL:https://axendacultural.aelg.gal/event/acto-publico-sobre-castelao-con-marta-dacosta/
LOCATION:Pazo de Lis (Meaño)\, Pazo de Lis\, Meaño
CATEGORIES:Conferencias
END:VEVENT
BEGIN:VEVENT
DTSTART;TZID=Asia/Krasnoyarsk:20251129T120000
DTEND;TZID=Asia/Krasnoyarsk:20251129T133000
DTSTAMP:20260423T180056
CREATED:20251127T124843Z
LAST-MODIFIED:20251127T124843Z
UID:111481-1764417600-1764423000@axendacultural.aelg.gal
SUMMARY:Castelao e a perspectiva de xénero\, con Marta Dacosta e Isabel Risco
DESCRIPTION:
URL:https://axendacultural.aelg.gal/event/castelao-e-a-perspectiva-de-xenero-con-marta-dacosta-e-isabel-risco/
LOCATION:Museo Etnolóxico de Ribadavia\, Museo Etnolóxico\, Ribadavia
CATEGORIES:Coloquios,Sociedade
END:VEVENT
END:VCALENDAR