BEGIN:VCALENDAR
VERSION:2.0
PRODID:-//::Axenda cultural AELG:: - ECPv6.6.4.2//NONSGML v1.0//EN
CALSCALE:GREGORIAN
METHOD:PUBLISH
X-ORIGINAL-URL:https://axendacultural.aelg.gal
X-WR-CALDESC:Events for ::Axenda cultural AELG::
REFRESH-INTERVAL;VALUE=DURATION:PT1H
X-Robots-Tag:noindex
X-PUBLISHED-TTL:PT1H
BEGIN:VTIMEZONE
TZID:Asia/Krasnoyarsk
BEGIN:STANDARD
TZOFFSETFROM:+0700
TZOFFSETTO:+0700
TZNAME:+07
DTSTART:20260101T000000
END:STANDARD
END:VTIMEZONE
BEGIN:VEVENT
DTSTART;TZID=Asia/Krasnoyarsk:20260426T120000
DTEND;TZID=Asia/Krasnoyarsk:20260426T133000
DTSTAMP:20260420T133805
CREATED:20260419T205615Z
LAST-MODIFIED:20260419T205624Z
UID:117129-1777204800-1777210200@axendacultural.aelg.gal
SUMMARY:Homenaxe nacional aos Mártires de Carral
DESCRIPTION:
URL:https://axendacultural.aelg.gal/event/homenaxe-nacional-aos-martires-de-carral/
LOCATION:Monumento aos Mártires de Carral\, Monumento aos Mártires de Carral\, Carral
CATEGORIES:Homenaxes,Música
END:VEVENT
END:VCALENDAR